BEGIN:VCALENDAR
VERSION:2.0
PRODID:-//Down Syndrome Association of Central New Jersey - ECPv6.15.15//NONSGML v1.0//EN
CALSCALE:GREGORIAN
METHOD:PUBLISH
X-ORIGINAL-URL:https://dsacnj.org
X-WR-CALDESC:Events for Down Syndrome Association of Central New Jersey
REFRESH-INTERVAL;VALUE=DURATION:PT1H
X-Robots-Tag:noindex
X-PUBLISHED-TTL:PT1H
BEGIN:VTIMEZONE
TZID:America/New_York
BEGIN:DAYLIGHT
TZOFFSETFROM:-0500
TZOFFSETTO:-0400
TZNAME:EDT
DTSTART:20240310T070000
END:DAYLIGHT
BEGIN:STANDARD
TZOFFSETFROM:-0400
TZOFFSETTO:-0500
TZNAME:EST
DTSTART:20241103T060000
END:STANDARD
BEGIN:DAYLIGHT
TZOFFSETFROM:-0500
TZOFFSETTO:-0400
TZNAME:EDT
DTSTART:20250309T070000
END:DAYLIGHT
BEGIN:STANDARD
TZOFFSETFROM:-0400
TZOFFSETTO:-0500
TZNAME:EST
DTSTART:20251102T060000
END:STANDARD
BEGIN:DAYLIGHT
TZOFFSETFROM:-0500
TZOFFSETTO:-0400
TZNAME:EDT
DTSTART:20260308T070000
END:DAYLIGHT
BEGIN:STANDARD
TZOFFSETFROM:-0400
TZOFFSETTO:-0500
TZNAME:EST
DTSTART:20261101T060000
END:STANDARD
END:VTIMEZONE
BEGIN:VEVENT
DTSTART;TZID=America/New_York:20250913T100000
DTEND;TZID=America/New_York:20250913T120000
DTSTAMP:20260424T223839
CREATED:20250825T185209Z
LAST-MODIFIED:20250826T123546Z
UID:10008747-1757757600-1757764800@dsacnj.org
SUMMARY:Gross Motor Play Group / Family Meet Up
DESCRIPTION:Join us for the first Gross Motor Play group of the school year with Rutgers DPT students. Ages 7 and under\, from 10am-noon \n! This will continue throughout the school year on the second Saturday of each month.
URL:https://dsacnj.org/event/gross-motor-play-group/
LOCATION:Club DREAMS\, 25 Scotch Rd.\, Suite H\, Ewing\, NJ\, 08628\, United States
ATTACH;FMTTYPE=image/jpeg:https://dsacnj.org/wp-content/uploads/2025/08/New-ParentYoung-Child-Meet-Up-1.jpg
ORGANIZER;CN="Club DREAMS team":MAILTO:Clubdreams@dsacnj.org
END:VEVENT
BEGIN:VEVENT
DTSTART;TZID=America/New_York:20250913T100000
DTEND;TZID=America/New_York:20250913T120000
DTSTAMP:20260424T223839
CREATED:20250825T185422Z
LAST-MODIFIED:20250826T123622Z
UID:10008748-1757757600-1757764800@dsacnj.org
SUMMARY:Kindness Crew event
DESCRIPTION:Second Saturday of every month\, from 10-12p\, we will be hosting different kindness crew workshops at Club Dreams. Tasks include rolling silverware for Soup Kitchen\, making blankets for Project Linus (Children Hospitals)\, bake sales\, and more.
URL:https://dsacnj.org/event/kindness-crew-event/
LOCATION:Club DREAMS\, 25 Scotch Rd.\, Suite H\, Ewing\, NJ\, 08628\, United States
ORGANIZER;CN="Club DREAMS team":MAILTO:Clubdreams@dsacnj.org
END:VEVENT
BEGIN:VEVENT
DTSTART;TZID=America/New_York:20250913T100000
DTEND;TZID=America/New_York:20250913T120000
DTSTAMP:20260424T223839
CREATED:20250904T145719Z
LAST-MODIFIED:20250904T151956Z
UID:10009031-1757757600-1757764800@dsacnj.org
SUMMARY:Kindness Crew -Every 2nd Saturday of the Month
DESCRIPTION:The Kindness Crew is a heart-driven initiative that empowers adults with special needs by teaching them valuable job skills in a supportive\, inclusive environment. Through hands-on experiences and community-based projects\, members not only gain confidence and workplace readiness but also give back to the community through acts of service and kindness. This unique program fosters independence\, builds meaningful connections\, and proves that everyone has something important to contribute. \nThis program is for ages 14 and Up
URL:https://dsacnj.org/event/kindness-crew-every-2nd-saturday-of-the-month/2025-09-13/
LOCATION:Club DREAMS\, 25 Scotch Rd.\, Suite H\, Ewing\, NJ\, 08628\, United States
CATEGORIES:Adults 18+,In person events,LIFE SKILLS/JOB SKILLS,Teens,Volunteer Opportunity
ATTACH;FMTTYPE=image/png:https://dsacnj.org/wp-content/uploads/2025/09/Kindness-Crew-Updated.png
ORGANIZER;CN="Club DREAMS team":MAILTO:Clubdreams@dsacnj.org
END:VEVENT
BEGIN:VEVENT
DTSTART;TZID=America/New_York:20250913T100000
DTEND;TZID=America/New_York:20250913T120000
DTSTAMP:20260424T223839
CREATED:20250904T151851Z
LAST-MODIFIED:20250909T181750Z
UID:10008971-1757757600-1757764800@dsacnj.org
SUMMARY:Gross Motor Play Group/Parent Meet Up
DESCRIPTION:Join the Rutgers Doctor of Physical Therapy Students for a gross motor skills exercise playgroup for children. This playgroup provides a fun and active environment where kids can develop essential physical abilities through play. Activities such as jumping\, crawling\, climbing\, running\, and balancing help strengthen large muscle groups\, improve coordination\, and build confidence. The playgroup encourages social interaction and teamwork while supporting physical development in a safe\, inclusive\, engaging setting tailored to young children’s needs. \n\n\n\n\n\n\n\nDuring the gross motor playgroup\, parents have the opportunity to connect and engage in a casual meet-up while observing their children participate in various physical activities. The relaxed environment encourages open conversation\, fostering a sense of community and strengthening relationships among families. \n\n\n\n\nThis playgroup is recommended for ages 9 and under. Any questions\, please contact\n\n\n\n\n\n\nAshley Conklin\, PT\, DPT\, PCS at Abc148@shp.rutgers.edu
URL:https://dsacnj.org/event/gross-motor-play-group-parent-meet-up/2025-09-13/
LOCATION:Club DREAMS\, 25 Scotch Rd.\, Suite H\, Ewing\, NJ\, 08628\, United States
CATEGORIES:Babies/Toddler,Children,Fitness/dance/sports,In person events,Parent/family socials (TBD)
ATTACH;FMTTYPE=image/png:https://dsacnj.org/wp-content/uploads/2025/09/Gross-Motor-Skills-1.png
ORGANIZER;CN="Club DREAMS team":MAILTO:Clubdreams@dsacnj.org
END:VEVENT
BEGIN:VEVENT
DTSTART;TZID=America/New_York:20250913T180000
DTEND;TZID=America/New_York:20250913T200000
DTSTAMP:20260424T223839
CREATED:20250908T143852Z
LAST-MODIFIED:20250908T144813Z
UID:10009397-1757786400-1757793600@dsacnj.org
SUMMARY:Movie Night
DESCRIPTION:Join us for Movie Night at Club DREAMS as we feature the beloved Pixar classic\, Monster’s Inc! Perfect for all ages\, this heartwarming and hilarious film follows the adventures of Sulley and Mike as they navigate the world of monsters and discover the power of laughter. Bring your friends\, grab some popcorn\, and get ready for a night full of fun\, friendship\, and unforgettable moments! \nSaturday\, September 13th from 6-8p.m. at Club DREAMS. Dress comfy in your pajamas if you prefer. \nQuestions – reach out to Vaness at clubdreams@dsacnj.org
URL:https://dsacnj.org/event/movie-night/
LOCATION:Club DREAMS\, 25 Scotch Rd.\, Suite H\, Ewing\, NJ\, 08628\, United States
CATEGORIES:Adults 18+,Children,In person events,Siblings,SOCIAL,SPECIAL EVENT,Teens
ATTACH;FMTTYPE=image/png:https://dsacnj.org/wp-content/uploads/2025/09/Movie-Night-2.png
ORGANIZER;CN="Club DREAMS team":MAILTO:Clubdreams@dsacnj.org
END:VEVENT
END:VCALENDAR