BEGIN:VCALENDAR
VERSION:2.0
PRODID:-//Down Syndrome Association of Central New Jersey - ECPv6.15.15//NONSGML v1.0//EN
CALSCALE:GREGORIAN
METHOD:PUBLISH
X-ORIGINAL-URL:https://dsacnj.org
X-WR-CALDESC:Events for Down Syndrome Association of Central New Jersey
REFRESH-INTERVAL;VALUE=DURATION:PT1H
X-Robots-Tag:noindex
X-PUBLISHED-TTL:PT1H
BEGIN:VTIMEZONE
TZID:America/New_York
BEGIN:DAYLIGHT
TZOFFSETFROM:-0500
TZOFFSETTO:-0400
TZNAME:EDT
DTSTART:20240310T070000
END:DAYLIGHT
BEGIN:STANDARD
TZOFFSETFROM:-0400
TZOFFSETTO:-0500
TZNAME:EST
DTSTART:20241103T060000
END:STANDARD
BEGIN:DAYLIGHT
TZOFFSETFROM:-0500
TZOFFSETTO:-0400
TZNAME:EDT
DTSTART:20250309T070000
END:DAYLIGHT
BEGIN:STANDARD
TZOFFSETFROM:-0400
TZOFFSETTO:-0500
TZNAME:EST
DTSTART:20251102T060000
END:STANDARD
BEGIN:DAYLIGHT
TZOFFSETFROM:-0500
TZOFFSETTO:-0400
TZNAME:EDT
DTSTART:20260308T070000
END:DAYLIGHT
BEGIN:STANDARD
TZOFFSETFROM:-0400
TZOFFSETTO:-0500
TZNAME:EST
DTSTART:20261101T060000
END:STANDARD
END:VTIMEZONE
BEGIN:VEVENT
DTSTART;TZID=America/New_York:20250920T100000
DTEND;TZID=America/New_York:20250920T120000
DTSTAMP:20260424T125509
CREATED:20250904T155922Z
LAST-MODIFIED:20250910T175359Z
UID:10009157-1758362400-1758369600@dsacnj.org
SUMMARY:Open Play/Mommy and Me Saturdays
DESCRIPTION:Join us for both Open Play from 10-11am and Mommy and Me Yoga— from 11-12pma fun\, safe\, and inclusive environment where little ones can explore\, play\, and learn alongside their caregivers. Designed for children under 7\, this unstructured playtime encourages social interaction\, gross motor development\, and parent-child bonding in a welcoming space for all families. Come connect\, laugh\, and grow together!
URL:https://dsacnj.org/event/open-play-mommy-and-me-saturdays/2025-09-20/
LOCATION:Club DREAMS\, 25 Scotch Rd.\, Suite H\, Ewing\, NJ\, 08628\, United States
CATEGORIES:Babies/Toddler,Children,ENRICHMENT,In person events,Parent/family socials (TBD),SOCIAL,Teens
ATTACH;FMTTYPE=image/png:https://dsacnj.org/wp-content/uploads/2025/09/Saturday-Open-Play-1.png
ORGANIZER;CN="Club DREAMS team":MAILTO:Clubdreams@dsacnj.org
END:VEVENT
BEGIN:VEVENT
DTSTART;TZID=America/New_York:20250920T190000
DTEND;TZID=America/New_York:20250920T220000
DTSTAMP:20260424T125509
CREATED:20250915T141059Z
LAST-MODIFIED:20250915T141059Z
UID:10009399-1758394800-1758405600@dsacnj.org
SUMMARY:Club DREAMS After Dark
DESCRIPTION:Club DREAMS After Dark is a relaxed\, inclusive get-together designed for teens and young adults with special needs\, ages 18 and older. It offers a safe\, welcoming space to simply hang out\, make friends\, and enjoy each other’s company—without the pressure of structured activities. Whether you’re there to chat\, dance\, play games\, or just be yourself\, Club DREAMS After Dark is all about connection\, fun\, and freedom in a judgment-free environment. \nSaturday\, September 20th from 7-10pm at Club DREAMS \n$10 per person and include drinks and snacks. \nPlease make payment via PayPal on this site or through Venmo @ DSACNJ-DS subject line CD after dark. You can also pay in cash at Club DREAMS.
URL:https://dsacnj.org/event/club-dreams-after-dark/
LOCATION:Club DREAMS\, 25 Scotch Rd.\, Suite H\, Ewing\, NJ\, 08628\, United States
CATEGORIES:Adults 18+,SOCIAL,Volunteer Opportunity
ATTACH;FMTTYPE=image/png:https://dsacnj.org/wp-content/uploads/2025/09/CD-AFTER-DARK.png
ORGANIZER;CN="Club DREAMS team":MAILTO:Clubdreams@dsacnj.org
END:VEVENT
END:VCALENDAR