BEGIN:VCALENDAR
VERSION:2.0
PRODID:-//Down Syndrome Association of Central New Jersey - ECPv6.15.15//NONSGML v1.0//EN
CALSCALE:GREGORIAN
METHOD:PUBLISH
X-WR-CALNAME:Down Syndrome Association of Central New Jersey
X-ORIGINAL-URL:https://dsacnj.org
X-WR-CALDESC:Events for Down Syndrome Association of Central New Jersey
REFRESH-INTERVAL;VALUE=DURATION:PT1H
X-Robots-Tag:noindex
X-PUBLISHED-TTL:PT1H
BEGIN:VTIMEZONE
TZID:America/New_York
BEGIN:DAYLIGHT
TZOFFSETFROM:-0500
TZOFFSETTO:-0400
TZNAME:EDT
DTSTART:20240310T070000
END:DAYLIGHT
BEGIN:STANDARD
TZOFFSETFROM:-0400
TZOFFSETTO:-0500
TZNAME:EST
DTSTART:20241103T060000
END:STANDARD
BEGIN:DAYLIGHT
TZOFFSETFROM:-0500
TZOFFSETTO:-0400
TZNAME:EDT
DTSTART:20250309T070000
END:DAYLIGHT
BEGIN:STANDARD
TZOFFSETFROM:-0400
TZOFFSETTO:-0500
TZNAME:EST
DTSTART:20251102T060000
END:STANDARD
BEGIN:DAYLIGHT
TZOFFSETFROM:-0500
TZOFFSETTO:-0400
TZNAME:EDT
DTSTART:20260308T070000
END:DAYLIGHT
BEGIN:STANDARD
TZOFFSETFROM:-0400
TZOFFSETTO:-0500
TZNAME:EST
DTSTART:20261101T060000
END:STANDARD
END:VTIMEZONE
BEGIN:VEVENT
DTSTART;TZID=America/New_York:20251004T100000
DTEND;TZID=America/New_York:20251004T120000
DTSTAMP:20260423T140712
CREATED:20250904T155922Z
LAST-MODIFIED:20250910T175359Z
UID:10009159-1759572000-1759579200@dsacnj.org
SUMMARY:Open Play/Mommy and Me Saturdays
DESCRIPTION:Join us for both Open Play from 10-11am and Mommy and Me Yoga— from 11-12pma fun\, safe\, and inclusive environment where little ones can explore\, play\, and learn alongside their caregivers. Designed for children under 7\, this unstructured playtime encourages social interaction\, gross motor development\, and parent-child bonding in a welcoming space for all families. Come connect\, laugh\, and grow together!
URL:https://dsacnj.org/event/open-play-mommy-and-me-saturdays/2025-10-04/
LOCATION:Club DREAMS\, 25 Scotch Rd.\, Suite H\, Ewing\, NJ\, 08628\, United States
CATEGORIES:Babies/Toddler,Children,ENRICHMENT,In person events,Parent/family socials (TBD),SOCIAL,Teens
ATTACH;FMTTYPE=image/png:https://dsacnj.org/wp-content/uploads/2025/09/Saturday-Open-Play-1.png
ORGANIZER;CN="Club DREAMS team":MAILTO:Clubdreams@dsacnj.org
END:VEVENT
BEGIN:VEVENT
DTSTART;TZID=America/New_York:20251004T190000
DTEND;TZID=America/New_York:20251004T220000
DTSTAMP:20260423T140712
CREATED:20250908T152548Z
LAST-MODIFIED:20250926T155631Z
UID:10009398-1759604400-1759615200@dsacnj.org
SUMMARY:Pop Culture Trivia Night
DESCRIPTION:Club DREAMS is excited to host a Pop Culture Trivia Night\, open to everyone 18 and older! Gather your friends and test your knowledge on movies\, music\, TV\, and more. Entry is just $30 per player\, and there are awesome prizes up for grabs. Don’t miss your chance to show off your trivia skills and enjoy a fun\, competitive night out! \nEmail Jboyd@dsacnj.org to register. Payment can be made Venmo @DSACNJ-DS\, check payable to DSACNJ and sent to 25 Scotch Rd -Suite H\, Ewing NJ 08628 Attn: Joellen Boyd or cash the day of the event.
URL:https://dsacnj.org/event/pop-culture-trivia-night/
LOCATION:Club DREAMS\, 25 Scotch Rd.\, Suite H\, Ewing\, NJ\, 08628\, United States
CATEGORIES:Adults 18+,In person events,SOCIAL,SPECIAL EVENT
ATTACH;FMTTYPE=image/png:https://dsacnj.org/wp-content/uploads/2025/09/Rimberio-presents.png
ORGANIZER;CN="Club DREAMS team":MAILTO:Clubdreams@dsacnj.org
END:VEVENT
END:VCALENDAR