BEGIN:VCALENDAR
VERSION:2.0
PRODID:-//Down Syndrome Association of Central New Jersey - ECPv6.15.15//NONSGML v1.0//EN
CALSCALE:GREGORIAN
METHOD:PUBLISH
X-ORIGINAL-URL:https://dsacnj.org
X-WR-CALDESC:Events for Down Syndrome Association of Central New Jersey
REFRESH-INTERVAL;VALUE=DURATION:PT1H
X-Robots-Tag:noindex
X-PUBLISHED-TTL:PT1H
BEGIN:VTIMEZONE
TZID:UTC
BEGIN:STANDARD
TZOFFSETFROM:+0000
TZOFFSETTO:+0000
TZNAME:UTC
DTSTART:20220101T000000
END:STANDARD
END:VTIMEZONE
BEGIN:VEVENT
DTSTART;TZID=UTC:20230909T110000
DTEND;TZID=UTC:20230909T114500
DTSTAMP:20260420T111100
CREATED:20220609T212013Z
LAST-MODIFIED:20230925T224920Z
UID:10000559-1694257200-1694259900@dsacnj.org
SUMMARY:GROSS MOTOR PLAYGROUP AGES 5-8
DESCRIPTION:Gross Motor Skills Exercise Playgroup!\n\n\n\nJoin the Rutgers Doctor of Physical Therapy Students for a fun filled playgroup where play and music will guide movement and the development of gross motor skills in a supportive\, friendly environment.\n\nThis program will run the second Saturday of every month. There will be two groups.\nAges 2-4 from 10-10:45a.m.\nAges 5-8 from 11-11:45a.m.\nQuestions contact:\nKaren at clubdreams@dsacnj.org or\nAshley Conklin\, PT\, DPT\, PCS at Abc148@shp.rutgers.edu\n\nRegister at DSACNJ.org
URL:https://dsacnj.org/event/gross-motor-playgroup-ages-5-8/2023-09-09/
LOCATION:Club DREAMS\, 25 Scotch Rd.\, Suite H\, Ewing\, NJ\, 08628\, United States
CATEGORIES:Babies/Toddler,Children,FAMILY SUPPORT,Fitness/dance/sports,In person events
ORGANIZER;CN="Club DREAMS team":MAILTO:Clubdreams@dsacnj.org
END:VEVENT
BEGIN:VEVENT
DTSTART;TZID=UTC:20230909T100000
DTEND;TZID=UTC:20230909T104500
DTSTAMP:20260420T111100
CREATED:20220609T203800Z
LAST-MODIFIED:20241105T140208Z
UID:10000261-1694253600-1694256300@dsacnj.org
SUMMARY:GROSS MOTOR SKILLS PLAYGROUP AGES 2-4
DESCRIPTION:Gross Motor Skills Exercise Playgroup!\n\n\n\nJoin the Rutgers Doctor of Physical Therapy Students for a fun filled playgroup where play and music will guide movement and the development of gross motor skills in a supportive\, friendly environment.\n\nThis program will run the second Saturday of every month.\n\nThere will be two groups.\nAges 2-4 from 10-10:45a.m.\nAges 5-8 from 11-11:45a.m.\n\nQuestions contact:\nKaren at clubdreams@dsacnj.org or\nAshley Conklin\, PT\, DPT\, PCS at Abc148@shp.rutgers.edu
URL:https://dsacnj.org/event/gross-motor-skills-playgroup-ages-2-4/2023-09-09/
LOCATION:Club DREAMS\, 25 Scotch Rd.\, Suite H\, Ewing\, NJ\, 08628\, United States
CATEGORIES:Babies/Toddler,Children,FAMILY SUPPORT,Fitness/dance/sports,In person events
ATTACH;FMTTYPE=image/png:https://dsacnj.org/wp-content/uploads/2022/06/Gross-Motor-Skills.png
ORGANIZER;CN="Club DREAMS team":MAILTO:Clubdreams@dsacnj.org
END:VEVENT
BEGIN:VEVENT
DTSTART;TZID=UTC:20230909T090000
DTEND;TZID=UTC:20230909T110000
DTSTAMP:20260420T111100
CREATED:20230217T000819Z
LAST-MODIFIED:20230522T183330Z
UID:10000934-1694250000-1694257200@dsacnj.org
SUMMARY:Open Play - Saturday Special
DESCRIPTION:Join us for a Special Saturday Open Play from 9:00 AM – 11:00 AM \n \nFree for our Club DREAMS members \nDrop in $10/ child\, $5/ sibling – ASK about out Open Play Memberships!
URL:https://dsacnj.org/event/open-play-saturday-special/2023-09-09/
LOCATION:Club DREAMS\, 25 Scotch Rd.\, Suite H\, Ewing\, NJ\, 08628\, United States
CATEGORIES:Babies/Toddler,Children,In person events,SOCIAL
ORGANIZER;CN="Club DREAMS team":MAILTO:Clubdreams@dsacnj.org
END:VEVENT
BEGIN:VEVENT
DTSTART;TZID=UTC:20230908T120000
DTEND;TZID=UTC:20230908T170000
DTSTAMP:20260420T111100
CREATED:20240206T145752Z
LAST-MODIFIED:20240206T145752Z
UID:10000863-1694174400-1694192400@dsacnj.org
SUMMARY:Summer Camp Registration
DESCRIPTION:Summer Camp Registration is NOW open for our Down Syndrome Community and their Siblings.\n  1 registration per child please.\nSummer camp is offered starting June 26th and running through August 25th.  Full and Half day options are available. Choose between 1 week or all 9 weeks! Activities are included.\n(Pizza 🍕 Fridays available for $5: includes 2 slices of pizza & drink) \nSave your child’s spot today!\n 
URL:https://dsacnj.org/event/summer-camp-registration/2023-09-08/
LOCATION:Club DREAMS\, 25 Scotch Rd.\, Suite H\, Ewing\, NJ\, 08628\, United States
CATEGORIES:ACADEMICS,Arts/music,CAMPS,Children,ENRICHMENT,Fitness/dance/sports,In person events
ORGANIZER;CN="Club DREAMS team":MAILTO:Clubdreams@dsacnj.org
END:VEVENT
BEGIN:VEVENT
DTSTART;TZID=UTC:20230905T160000
DTEND;TZID=UTC:20230905T163000
DTSTAMP:20260420T111100
CREATED:20220309T052245Z
LAST-MODIFIED:20221117T232840Z
UID:10000471-1693929600-1693931400@dsacnj.org
SUMMARY:Craft Time with Kristi
DESCRIPTION:Join us for interactive VIRTUAL or In Person craft time. Register for the online class below and send address the week prior to receive your bag of complete craft supplies in the mail. Registrations must be in by Wednesday\, the week prior to ensure you craft supplies will be delivered on time. On the day of the class\, you will have all supplies needed to follow along:) EMAIL KRISTI at kschwartz@dsacnj.com with your mailing address to receive your supplies. \nREGISTER FOR THE VIRTUAL CLASS HERE: https://us06web.zoom.us/meeting/register/tZYoceutrDMuEtMumHtSbTZiru3GLktRon8C \n\n\n\n\n\n\n\n\n\n 
URL:https://dsacnj.org/event/craft-time-with-kristi/2023-09-05/
LOCATION:VIRTUAL OR ON SITE CLUB DREAMS\, 25 Scotch Rd\, Suite H\, Ewing\, NJ\, 08628\, United States
CATEGORIES:Arts/music,Children,ENRICHMENT,In person events,Online virtual events,Teens
ORGANIZER;CN="Club DREAMS team":MAILTO:Clubdreams@dsacnj.org
END:VEVENT
BEGIN:VEVENT
DTSTART;TZID=UTC:20230904T120000
DTEND;TZID=UTC:20230904T170000
DTSTAMP:20260420T111100
CREATED:20240206T145752Z
LAST-MODIFIED:20240206T145752Z
UID:10000862-1693828800-1693846800@dsacnj.org
SUMMARY:Summer Camp Registration
DESCRIPTION:Summer Camp Registration is NOW open for our Down Syndrome Community and their Siblings.\n  1 registration per child please.\nSummer camp is offered starting June 26th and running through August 25th.  Full and Half day options are available. Choose between 1 week or all 9 weeks! Activities are included.\n(Pizza 🍕 Fridays available for $5: includes 2 slices of pizza & drink) \nSave your child’s spot today!\n 
URL:https://dsacnj.org/event/summer-camp-registration/2023-09-04/
LOCATION:Club DREAMS\, 25 Scotch Rd.\, Suite H\, Ewing\, NJ\, 08628\, United States
CATEGORIES:ACADEMICS,Arts/music,CAMPS,Children,ENRICHMENT,Fitness/dance/sports,In person events
ORGANIZER;CN="Club DREAMS team":MAILTO:Clubdreams@dsacnj.org
END:VEVENT
BEGIN:VEVENT
DTSTART;TZID=UTC:20230902T090000
DTEND;TZID=UTC:20230902T110000
DTSTAMP:20260420T111100
CREATED:20230217T000819Z
LAST-MODIFIED:20230522T183330Z
UID:10000933-1693645200-1693652400@dsacnj.org
SUMMARY:Open Play - Saturday Special
DESCRIPTION:Join us for a Special Saturday Open Play from 9:00 AM – 11:00 AM \n \nFree for our Club DREAMS members \nDrop in $10/ child\, $5/ sibling – ASK about out Open Play Memberships!
URL:https://dsacnj.org/event/open-play-saturday-special/2023-09-02/
LOCATION:Club DREAMS\, 25 Scotch Rd.\, Suite H\, Ewing\, NJ\, 08628\, United States
CATEGORIES:Babies/Toddler,Children,In person events,SOCIAL
ORGANIZER;CN="Club DREAMS team":MAILTO:Clubdreams@dsacnj.org
END:VEVENT
BEGIN:VEVENT
DTSTART;TZID=UTC:20230901T173000
DTEND;TZID=UTC:20230901T183000
DTSTAMP:20260420T111100
CREATED:20230823T222543Z
LAST-MODIFIED:20231027T152648Z
UID:10000596-1693589400-1693593000@dsacnj.org
SUMMARY:Gymnastics (Mondays)
DESCRIPTION:CLUB DREAMS OFFERS GYMNACTICS PROGRAM THAT HELP WITH COORDINATION BALANCE\, FLEXIBILTY AND STRENGTH.\n \nSiblings welcome and other community members with special needs welcome through DREAM Team membership ($21/mo or $210/year) – call 609-883-0321 or email clubdreams@dsacnj.org for more information \nAre you planning on attending weekly or occasionally? If weekly please contact us if there is a week you are not attending\, if sporadically you must register for each week attending.
URL:https://dsacnj.org/event/gymnastics-mondays-2023-10-16/2023-09-01/
LOCATION:Club DREAMS\, 25 Scotch Rd.\, Suite H\, Ewing\, NJ\, 08628\, United States
CATEGORIES:Children,ENRICHMENT,Fitness/dance/sports,In person events,Siblings
ORGANIZER;CN="Club DREAMS team":MAILTO:Clubdreams@dsacnj.org
END:VEVENT
BEGIN:VEVENT
DTSTART;TZID=UTC:20230901T130000
DTEND;TZID=UTC:20230901T150000
DTSTAMP:20260420T111100
CREATED:20230828T210240Z
LAST-MODIFIED:20231020T212359Z
UID:10000598-1693573200-1693580400@dsacnj.org
SUMMARY:Weekday Open Play
DESCRIPTION:Join us for Open Play weekdays 1 – 3 PM.  Cost Monday – Thursday is $10/child ($5/ additional Child).\nAsk us about our Open Play Membership Options!\nFRIDAYS FREE for EVERYONE!\nCommunity welcome!
URL:https://dsacnj.org/event/weekday-open-play/2023-09-01/
LOCATION:Club DREAMS\, 25 Scotch Rd.\, Suite H\, Ewing\, NJ\, 08628\, United States
CATEGORIES:Babies/Toddler,Children,In person events,SOCIAL
ORGANIZER;CN="Club DREAMS team":MAILTO:Clubdreams@dsacnj.org
END:VEVENT
BEGIN:VEVENT
DTSTART;TZID=UTC:20230901T120000
DTEND;TZID=UTC:20230901T170000
DTSTAMP:20260420T111100
CREATED:20240206T145752Z
LAST-MODIFIED:20240206T145752Z
UID:10000861-1693569600-1693587600@dsacnj.org
SUMMARY:Summer Camp Registration
DESCRIPTION:Summer Camp Registration is NOW open for our Down Syndrome Community and their Siblings.\n  1 registration per child please.\nSummer camp is offered starting June 26th and running through August 25th.  Full and Half day options are available. Choose between 1 week or all 9 weeks! Activities are included.\n(Pizza 🍕 Fridays available for $5: includes 2 slices of pizza & drink) \nSave your child’s spot today!\n 
URL:https://dsacnj.org/event/summer-camp-registration/2023-09-01/
LOCATION:Club DREAMS\, 25 Scotch Rd.\, Suite H\, Ewing\, NJ\, 08628\, United States
CATEGORIES:ACADEMICS,Arts/music,CAMPS,Children,ENRICHMENT,Fitness/dance/sports,In person events
ORGANIZER;CN="Club DREAMS team":MAILTO:Clubdreams@dsacnj.org
END:VEVENT
BEGIN:VEVENT
DTSTART;TZID=UTC:20230831T174500
DTEND;TZID=UTC:20230831T184500
DTSTAMP:20260420T111100
CREATED:20230623T215829Z
LAST-MODIFIED:20230725T163452Z
UID:10001111-1693503900-1693507500@dsacnj.org
SUMMARY:Yoga
DESCRIPTION:Have you ever wanted to practice yoga? We are offering a mixed group basic yoga class every Thursday from 5:45-6:45 PM!\nJoin us in rising up and growing stronger. 
URL:https://dsacnj.org/event/yoga-3/2023-08-31/
LOCATION:Club DREAMS\, 25 Scotch Rd.\, Suite H\, Ewing\, NJ\, 08628\, United States
CATEGORIES:Adults 18+,Babies/Toddler,Children,ENRICHMENT,Fitness/dance/sports,In person events,Siblings,Teens
ORGANIZER;CN="Club DREAMS team":MAILTO:Clubdreams@dsacnj.org
END:VEVENT
BEGIN:VEVENT
DTSTART;TZID=UTC:20230831T163000
DTEND;TZID=UTC:20230831T173000
DTSTAMP:20260420T111100
CREATED:20230621T225805Z
LAST-MODIFIED:20230810T213145Z
UID:10001053-1693499400-1693503000@dsacnj.org
SUMMARY:Dance Class (12 & Under)
DESCRIPTION:This program is free for our members. The Thursday class will be slightly less advanced for members who are working on fundamental skills. Registration required for each session attending.
URL:https://dsacnj.org/event/dance-class-12-under/2023-08-31/
LOCATION:Club DREAMS\, 25 Scotch Rd.\, Suite H\, Ewing\, NJ\, 08628\, United States
CATEGORIES:Babies/Toddler,Children,Fitness/dance/sports,In person events,Siblings,SOCIAL
ORGANIZER;CN="Club DREAMS team":MAILTO:Clubdreams@dsacnj.org
END:VEVENT
BEGIN:VEVENT
DTSTART;TZID=UTC:20230830T170000
DTEND;TZID=UTC:20230830T180000
DTSTAMP:20260420T111100
CREATED:20230621T193144Z
LAST-MODIFIED:20230816T214412Z
UID:10001012-1693414800-1693418400@dsacnj.org
SUMMARY:Gymnastics (11+)
DESCRIPTION:This Program is FREE to all Club DREAMS members. The Wednesday Class will be slightly more advanced for members who have achieved a higher skill level.
URL:https://dsacnj.org/event/gymnastics-11/2023-08-30/
LOCATION:Club DREAMS\, 25 Scotch Rd.\, Suite H\, Ewing\, NJ\, 08628\, United States
CATEGORIES:Adults 18+,Children,ENRICHMENT,Fitness/dance/sports,In person events,Siblings,Teens
ORGANIZER;CN="Club DREAMS team":MAILTO:Clubdreams@dsacnj.org
END:VEVENT
BEGIN:VEVENT
DTSTART;TZID=UTC:20230829T174500
DTEND;TZID=UTC:20230829T184500
DTSTAMP:20260420T111100
CREATED:20230621T193526Z
LAST-MODIFIED:20230725T172411Z
UID:10001044-1693331100-1693334700@dsacnj.org
SUMMARY:Gymnastics Class (10 and Under)
DESCRIPTION:This program is FREE to all Club DREAMS members. The Tuesday Class will be slightly less advanced for members who are working on Fundamental skills.
URL:https://dsacnj.org/event/gymnastics-class-10-and-under/2023-08-29/
LOCATION:Club DREAMS\, 25 Scotch Rd.\, Suite H\, Ewing\, NJ\, 08628\, United States
CATEGORIES:Babies/Toddler,Children,ENRICHMENT,Fitness/dance/sports,In person events,Siblings
ORGANIZER;CN="Club DREAMS team":MAILTO:Clubdreams@dsacnj.org
END:VEVENT
BEGIN:VEVENT
DTSTART;TZID=UTC:20230829T160000
DTEND;TZID=UTC:20230829T163000
DTSTAMP:20260420T111100
CREATED:20220309T052245Z
LAST-MODIFIED:20221117T232840Z
UID:10000470-1693324800-1693326600@dsacnj.org
SUMMARY:Craft Time with Kristi
DESCRIPTION:Join us for interactive VIRTUAL or In Person craft time. Register for the online class below and send address the week prior to receive your bag of complete craft supplies in the mail. Registrations must be in by Wednesday\, the week prior to ensure you craft supplies will be delivered on time. On the day of the class\, you will have all supplies needed to follow along:) EMAIL KRISTI at kschwartz@dsacnj.com with your mailing address to receive your supplies. \nREGISTER FOR THE VIRTUAL CLASS HERE: https://us06web.zoom.us/meeting/register/tZYoceutrDMuEtMumHtSbTZiru3GLktRon8C \n\n\n\n\n\n\n\n\n\n 
URL:https://dsacnj.org/event/craft-time-with-kristi/2023-08-29/
LOCATION:VIRTUAL OR ON SITE CLUB DREAMS\, 25 Scotch Rd\, Suite H\, Ewing\, NJ\, 08628\, United States
CATEGORIES:Arts/music,Children,ENRICHMENT,In person events,Online virtual events,Teens
ORGANIZER;CN="Club DREAMS team":MAILTO:Clubdreams@dsacnj.org
END:VEVENT
BEGIN:VEVENT
DTSTART;TZID=UTC:20230828T120000
DTEND;TZID=UTC:20230828T170000
DTSTAMP:20260420T111100
CREATED:20240206T145752Z
LAST-MODIFIED:20240206T145752Z
UID:10000860-1693224000-1693242000@dsacnj.org
SUMMARY:Summer Camp Registration
DESCRIPTION:Summer Camp Registration is NOW open for our Down Syndrome Community and their Siblings.\n  1 registration per child please.\nSummer camp is offered starting June 26th and running through August 25th.  Full and Half day options are available. Choose between 1 week or all 9 weeks! Activities are included.\n(Pizza 🍕 Fridays available for $5: includes 2 slices of pizza & drink) \nSave your child’s spot today!\n 
URL:https://dsacnj.org/event/summer-camp-registration/2023-08-28/
LOCATION:Club DREAMS\, 25 Scotch Rd.\, Suite H\, Ewing\, NJ\, 08628\, United States
CATEGORIES:ACADEMICS,Arts/music,CAMPS,Children,ENRICHMENT,Fitness/dance/sports,In person events
ORGANIZER;CN="Club DREAMS team":MAILTO:Clubdreams@dsacnj.org
END:VEVENT
BEGIN:VEVENT
DTSTART;TZID=UTC:20230826T090000
DTEND;TZID=UTC:20230826T110000
DTSTAMP:20260420T111100
CREATED:20230217T000819Z
LAST-MODIFIED:20230522T183330Z
UID:10000932-1693040400-1693047600@dsacnj.org
SUMMARY:Open Play - Saturday Special
DESCRIPTION:Join us for a Special Saturday Open Play from 9:00 AM – 11:00 AM \n \nFree for our Club DREAMS members \nDrop in $10/ child\, $5/ sibling – ASK about out Open Play Memberships!
URL:https://dsacnj.org/event/open-play-saturday-special/2023-08-26/
LOCATION:Club DREAMS\, 25 Scotch Rd.\, Suite H\, Ewing\, NJ\, 08628\, United States
CATEGORIES:Babies/Toddler,Children,In person events,SOCIAL
ORGANIZER;CN="Club DREAMS team":MAILTO:Clubdreams@dsacnj.org
END:VEVENT
BEGIN:VEVENT
DTSTART;TZID=UTC:20230825T120000
DTEND;TZID=UTC:20230825T170000
DTSTAMP:20260420T111100
CREATED:20240206T145752Z
LAST-MODIFIED:20240206T145752Z
UID:10000859-1692964800-1692982800@dsacnj.org
SUMMARY:Summer Camp Registration
DESCRIPTION:Summer Camp Registration is NOW open for our Down Syndrome Community and their Siblings.\n  1 registration per child please.\nSummer camp is offered starting June 26th and running through August 25th.  Full and Half day options are available. Choose between 1 week or all 9 weeks! Activities are included.\n(Pizza 🍕 Fridays available for $5: includes 2 slices of pizza & drink) \nSave your child’s spot today!\n 
URL:https://dsacnj.org/event/summer-camp-registration/2023-08-25/
LOCATION:Club DREAMS\, 25 Scotch Rd.\, Suite H\, Ewing\, NJ\, 08628\, United States
CATEGORIES:ACADEMICS,Arts/music,CAMPS,Children,ENRICHMENT,Fitness/dance/sports,In person events
ORGANIZER;CN="Club DREAMS team":MAILTO:Clubdreams@dsacnj.org
END:VEVENT
BEGIN:VEVENT
DTSTART;TZID=UTC:20230824T174500
DTEND;TZID=UTC:20230824T184500
DTSTAMP:20260420T111100
CREATED:20230623T215829Z
LAST-MODIFIED:20230725T163452Z
UID:10001110-1692899100-1692902700@dsacnj.org
SUMMARY:Yoga
DESCRIPTION:Have you ever wanted to practice yoga? We are offering a mixed group basic yoga class every Thursday from 5:45-6:45 PM!\nJoin us in rising up and growing stronger. 
URL:https://dsacnj.org/event/yoga-3/2023-08-24/
LOCATION:Club DREAMS\, 25 Scotch Rd.\, Suite H\, Ewing\, NJ\, 08628\, United States
CATEGORIES:Adults 18+,Babies/Toddler,Children,ENRICHMENT,Fitness/dance/sports,In person events,Siblings,Teens
ORGANIZER;CN="Club DREAMS team":MAILTO:Clubdreams@dsacnj.org
END:VEVENT
BEGIN:VEVENT
DTSTART;TZID=UTC:20230824T163000
DTEND;TZID=UTC:20230824T173000
DTSTAMP:20260420T111100
CREATED:20230621T225805Z
LAST-MODIFIED:20230810T213145Z
UID:10001052-1692894600-1692898200@dsacnj.org
SUMMARY:Dance Class (12 & Under)
DESCRIPTION:This program is free for our members. The Thursday class will be slightly less advanced for members who are working on fundamental skills. Registration required for each session attending.
URL:https://dsacnj.org/event/dance-class-12-under/2023-08-24/
LOCATION:Club DREAMS\, 25 Scotch Rd.\, Suite H\, Ewing\, NJ\, 08628\, United States
CATEGORIES:Babies/Toddler,Children,Fitness/dance/sports,In person events,Siblings,SOCIAL
ORGANIZER;CN="Club DREAMS team":MAILTO:Clubdreams@dsacnj.org
END:VEVENT
BEGIN:VEVENT
DTSTART;TZID=UTC:20230823T170000
DTEND;TZID=UTC:20230823T180000
DTSTAMP:20260420T111100
CREATED:20230621T193144Z
LAST-MODIFIED:20230816T214224Z
UID:10001036-1692810000-1692813600@dsacnj.org
SUMMARY:Gymnastics (11+)
DESCRIPTION:This Program is FREE to all Club DREAMS members. The Wednesday Class will be slightly more advanced for members who have achieved a higher skill level.
URL:https://dsacnj.org/event/gymnastics-11-2023-08-23/
LOCATION:Club DREAMS\, 25 Scotch Rd.\, Suite H\, Ewing\, NJ\, 08628\, United States
CATEGORIES:Adults 18+,Children,ENRICHMENT,Fitness/dance/sports,In person events,Siblings,Teens
ORGANIZER;CN="Club DREAMS team":MAILTO:Clubdreams@dsacnj.org
END:VEVENT
BEGIN:VEVENT
DTSTART;TZID=UTC:20230822T174500
DTEND;TZID=UTC:20230822T184500
DTSTAMP:20260420T111100
CREATED:20230621T193526Z
LAST-MODIFIED:20230725T172411Z
UID:10001043-1692726300-1692729900@dsacnj.org
SUMMARY:Gymnastics Class (10 and Under)
DESCRIPTION:This program is FREE to all Club DREAMS members. The Tuesday Class will be slightly less advanced for members who are working on Fundamental skills.
URL:https://dsacnj.org/event/gymnastics-class-10-and-under/2023-08-22/
LOCATION:Club DREAMS\, 25 Scotch Rd.\, Suite H\, Ewing\, NJ\, 08628\, United States
CATEGORIES:Babies/Toddler,Children,ENRICHMENT,Fitness/dance/sports,In person events,Siblings
ORGANIZER;CN="Club DREAMS team":MAILTO:Clubdreams@dsacnj.org
END:VEVENT
BEGIN:VEVENT
DTSTART;TZID=UTC:20230822T170000
DTEND;TZID=UTC:20230822T173000
DTSTAMP:20260420T111100
CREATED:20230522T220923Z
LAST-MODIFIED:20230731T195439Z
UID:10001005-1692723600-1692725400@dsacnj.org
SUMMARY:Music Class
DESCRIPTION:Music for the Very Young: Music\, Movement and Literacy provides children with a joyful and interesting first music education experience. The program also weaves music and movement into the fabric of the day!\nProrated Pricing Available!\n  \n \n  \n  \nDiscount available for our participating Summer Campers!  Contact us at clubdreams@dsacnj.org or 609-883-0321 for more information.
URL:https://dsacnj.org/event/music-class/2023-08-22/
LOCATION:Club DREAMS\, 25 Scotch Rd.\, Suite H\, Ewing\, NJ\, 08628\, United States
CATEGORIES:Arts/music,Babies/Toddler,Children,ENRICHMENT,In person events,Siblings,Teens
ORGANIZER;CN="Club DREAMS team":MAILTO:Clubdreams@dsacnj.org
END:VEVENT
BEGIN:VEVENT
DTSTART;TZID=UTC:20230822T160000
DTEND;TZID=UTC:20230822T163000
DTSTAMP:20260420T111100
CREATED:20220309T052245Z
LAST-MODIFIED:20221117T232840Z
UID:10000469-1692720000-1692721800@dsacnj.org
SUMMARY:Craft Time with Kristi
DESCRIPTION:Join us for interactive VIRTUAL or In Person craft time. Register for the online class below and send address the week prior to receive your bag of complete craft supplies in the mail. Registrations must be in by Wednesday\, the week prior to ensure you craft supplies will be delivered on time. On the day of the class\, you will have all supplies needed to follow along:) EMAIL KRISTI at kschwartz@dsacnj.com with your mailing address to receive your supplies. \nREGISTER FOR THE VIRTUAL CLASS HERE: https://us06web.zoom.us/meeting/register/tZYoceutrDMuEtMumHtSbTZiru3GLktRon8C \n\n\n\n\n\n\n\n\n\n 
URL:https://dsacnj.org/event/craft-time-with-kristi/2023-08-22/
LOCATION:VIRTUAL OR ON SITE CLUB DREAMS\, 25 Scotch Rd\, Suite H\, Ewing\, NJ\, 08628\, United States
CATEGORIES:Arts/music,Children,ENRICHMENT,In person events,Online virtual events,Teens
ORGANIZER;CN="Club DREAMS team":MAILTO:Clubdreams@dsacnj.org
END:VEVENT
BEGIN:VEVENT
DTSTART;TZID=UTC:20230821T120000
DTEND;TZID=UTC:20230821T170000
DTSTAMP:20260420T111100
CREATED:20240206T145752Z
LAST-MODIFIED:20240206T145752Z
UID:10000858-1692619200-1692637200@dsacnj.org
SUMMARY:Summer Camp Registration
DESCRIPTION:Summer Camp Registration is NOW open for our Down Syndrome Community and their Siblings.\n  1 registration per child please.\nSummer camp is offered starting June 26th and running through August 25th.  Full and Half day options are available. Choose between 1 week or all 9 weeks! Activities are included.\n(Pizza 🍕 Fridays available for $5: includes 2 slices of pizza & drink) \nSave your child’s spot today!\n 
URL:https://dsacnj.org/event/summer-camp-registration/2023-08-21/
LOCATION:Club DREAMS\, 25 Scotch Rd.\, Suite H\, Ewing\, NJ\, 08628\, United States
CATEGORIES:ACADEMICS,Arts/music,CAMPS,Children,ENRICHMENT,Fitness/dance/sports,In person events
ORGANIZER;CN="Club DREAMS team":MAILTO:Clubdreams@dsacnj.org
END:VEVENT
BEGIN:VEVENT
DTSTART;TZID=UTC:20230819T090000
DTEND;TZID=UTC:20230819T110000
DTSTAMP:20260420T111100
CREATED:20230217T000819Z
LAST-MODIFIED:20230522T183330Z
UID:10000931-1692435600-1692442800@dsacnj.org
SUMMARY:Open Play - Saturday Special
DESCRIPTION:Join us for a Special Saturday Open Play from 9:00 AM – 11:00 AM \n \nFree for our Club DREAMS members \nDrop in $10/ child\, $5/ sibling – ASK about out Open Play Memberships!
URL:https://dsacnj.org/event/open-play-saturday-special/2023-08-19/
LOCATION:Club DREAMS\, 25 Scotch Rd.\, Suite H\, Ewing\, NJ\, 08628\, United States
CATEGORIES:Babies/Toddler,Children,In person events,SOCIAL
ORGANIZER;CN="Club DREAMS team":MAILTO:Clubdreams@dsacnj.org
END:VEVENT
BEGIN:VEVENT
DTSTART;TZID=UTC:20230818T120000
DTEND;TZID=UTC:20230818T170000
DTSTAMP:20260420T111100
CREATED:20240206T145752Z
LAST-MODIFIED:20240206T145752Z
UID:10000857-1692360000-1692378000@dsacnj.org
SUMMARY:Summer Camp Registration
DESCRIPTION:Summer Camp Registration is NOW open for our Down Syndrome Community and their Siblings.\n  1 registration per child please.\nSummer camp is offered starting June 26th and running through August 25th.  Full and Half day options are available. Choose between 1 week or all 9 weeks! Activities are included.\n(Pizza 🍕 Fridays available for $5: includes 2 slices of pizza & drink) \nSave your child’s spot today!\n 
URL:https://dsacnj.org/event/summer-camp-registration/2023-08-18/
LOCATION:Club DREAMS\, 25 Scotch Rd.\, Suite H\, Ewing\, NJ\, 08628\, United States
CATEGORIES:ACADEMICS,Arts/music,CAMPS,Children,ENRICHMENT,Fitness/dance/sports,In person events
ORGANIZER;CN="Club DREAMS team":MAILTO:Clubdreams@dsacnj.org
END:VEVENT
BEGIN:VEVENT
DTSTART;TZID=UTC:20230817T174500
DTEND;TZID=UTC:20230817T184500
DTSTAMP:20260420T111100
CREATED:20230623T215829Z
LAST-MODIFIED:20230725T163452Z
UID:10001109-1692294300-1692297900@dsacnj.org
SUMMARY:Yoga
DESCRIPTION:Have you ever wanted to practice yoga? We are offering a mixed group basic yoga class every Thursday from 5:45-6:45 PM!\nJoin us in rising up and growing stronger. 
URL:https://dsacnj.org/event/yoga-3/2023-08-17/
LOCATION:Club DREAMS\, 25 Scotch Rd.\, Suite H\, Ewing\, NJ\, 08628\, United States
CATEGORIES:Adults 18+,Babies/Toddler,Children,ENRICHMENT,Fitness/dance/sports,In person events,Siblings,Teens
ORGANIZER;CN="Club DREAMS team":MAILTO:Clubdreams@dsacnj.org
END:VEVENT
BEGIN:VEVENT
DTSTART;TZID=UTC:20230817T163000
DTEND;TZID=UTC:20230817T173000
DTSTAMP:20260420T111100
CREATED:20230621T225805Z
LAST-MODIFIED:20230810T213145Z
UID:10001051-1692289800-1692293400@dsacnj.org
SUMMARY:Dance Class (12 & Under)
DESCRIPTION:This program is free for our members. The Thursday class will be slightly less advanced for members who are working on fundamental skills. Registration required for each session attending.
URL:https://dsacnj.org/event/dance-class-12-under/2023-08-17/
LOCATION:Club DREAMS\, 25 Scotch Rd.\, Suite H\, Ewing\, NJ\, 08628\, United States
CATEGORIES:Babies/Toddler,Children,Fitness/dance/sports,In person events,Siblings,SOCIAL
ORGANIZER;CN="Club DREAMS team":MAILTO:Clubdreams@dsacnj.org
END:VEVENT
BEGIN:VEVENT
DTSTART;TZID=UTC:20230816T163000
DTEND;TZID=UTC:20230816T173000
DTSTAMP:20260420T111100
CREATED:20230621T193144Z
LAST-MODIFIED:20230816T213834Z
UID:10001035-1692203400-1692207000@dsacnj.org
SUMMARY:Gymnastics (11+)
DESCRIPTION:  \nThis Program is FREE to all Club DREAMS members. The Wednesday Class will be slightly more advanced for members who have achieved a higher skill level.
URL:https://dsacnj.org/event/gymnastics-11-2023-08-16/
LOCATION:Club DREAMS\, 25 Scotch Rd.\, Suite H\, Ewing\, NJ\, 08628\, United States
CATEGORIES:Adults 18+,Children,ENRICHMENT,Fitness/dance/sports,In person events,Siblings,Teens
ORGANIZER;CN="Club DREAMS team":MAILTO:Clubdreams@dsacnj.org
END:VEVENT
END:VCALENDAR