BEGIN:VCALENDAR
VERSION:2.0
PRODID:-//Down Syndrome Association of Central New Jersey - ECPv6.15.15//NONSGML v1.0//EN
CALSCALE:GREGORIAN
METHOD:PUBLISH
X-WR-CALNAME:Down Syndrome Association of Central New Jersey
X-ORIGINAL-URL:https://dsacnj.org
X-WR-CALDESC:Events for Down Syndrome Association of Central New Jersey
REFRESH-INTERVAL;VALUE=DURATION:PT1H
X-Robots-Tag:noindex
X-PUBLISHED-TTL:PT1H
BEGIN:VTIMEZONE
TZID:UTC
BEGIN:STANDARD
TZOFFSETFROM:+0000
TZOFFSETTO:+0000
TZNAME:UTC
DTSTART:20220101T000000
END:STANDARD
END:VTIMEZONE
BEGIN:VEVENT
DTSTART;TZID=UTC:20230815T174500
DTEND;TZID=UTC:20230815T184500
DTSTAMP:20260420T141137
CREATED:20230621T193526Z
LAST-MODIFIED:20230725T172411Z
UID:10001042-1692121500-1692125100@dsacnj.org
SUMMARY:Gymnastics Class (10 and Under)
DESCRIPTION:This program is FREE to all Club DREAMS members. The Tuesday Class will be slightly less advanced for members who are working on Fundamental skills.
URL:https://dsacnj.org/event/gymnastics-class-10-and-under/2023-08-15/
LOCATION:Club DREAMS\, 25 Scotch Rd.\, Suite H\, Ewing\, NJ\, 08628\, United States
CATEGORIES:Babies/Toddler,Children,ENRICHMENT,Fitness/dance/sports,In person events,Siblings
ORGANIZER;CN="Club DREAMS team":MAILTO:Clubdreams@dsacnj.org
END:VEVENT
BEGIN:VEVENT
DTSTART;TZID=UTC:20230815T170000
DTEND;TZID=UTC:20230815T173000
DTSTAMP:20260420T141137
CREATED:20230522T220923Z
LAST-MODIFIED:20230731T195439Z
UID:10001004-1692118800-1692120600@dsacnj.org
SUMMARY:Music Class
DESCRIPTION:Music for the Very Young: Music\, Movement and Literacy provides children with a joyful and interesting first music education experience. The program also weaves music and movement into the fabric of the day!\nProrated Pricing Available!\n  \n \n  \n  \nDiscount available for our participating Summer Campers!  Contact us at clubdreams@dsacnj.org or 609-883-0321 for more information.
URL:https://dsacnj.org/event/music-class/2023-08-15/
LOCATION:Club DREAMS\, 25 Scotch Rd.\, Suite H\, Ewing\, NJ\, 08628\, United States
CATEGORIES:Arts/music,Babies/Toddler,Children,ENRICHMENT,In person events,Siblings,Teens
ORGANIZER;CN="Club DREAMS team":MAILTO:Clubdreams@dsacnj.org
END:VEVENT
BEGIN:VEVENT
DTSTART;TZID=UTC:20230815T160000
DTEND;TZID=UTC:20230815T163000
DTSTAMP:20260420T141137
CREATED:20220309T052245Z
LAST-MODIFIED:20221117T232840Z
UID:10000468-1692115200-1692117000@dsacnj.org
SUMMARY:Craft Time with Kristi
DESCRIPTION:Join us for interactive VIRTUAL or In Person craft time. Register for the online class below and send address the week prior to receive your bag of complete craft supplies in the mail. Registrations must be in by Wednesday\, the week prior to ensure you craft supplies will be delivered on time. On the day of the class\, you will have all supplies needed to follow along:) EMAIL KRISTI at kschwartz@dsacnj.com with your mailing address to receive your supplies. \nREGISTER FOR THE VIRTUAL CLASS HERE: https://us06web.zoom.us/meeting/register/tZYoceutrDMuEtMumHtSbTZiru3GLktRon8C \n\n\n\n\n\n\n\n\n\n 
URL:https://dsacnj.org/event/craft-time-with-kristi/2023-08-15/
LOCATION:VIRTUAL OR ON SITE CLUB DREAMS\, 25 Scotch Rd\, Suite H\, Ewing\, NJ\, 08628\, United States
CATEGORIES:Arts/music,Children,ENRICHMENT,In person events,Online virtual events,Teens
ORGANIZER;CN="Club DREAMS team":MAILTO:Clubdreams@dsacnj.org
END:VEVENT
BEGIN:VEVENT
DTSTART;TZID=UTC:20230814T190000
DTEND;TZID=UTC:20230814T193000
DTSTAMP:20260420T141137
CREATED:20221107T210859Z
LAST-MODIFIED:20221107T210859Z
UID:10000731-1692039600-1692041400@dsacnj.org
SUMMARY:Buddy to Buddy Virtual
DESCRIPTION:Join us for Buddy to Buddy virtual. The first and third Monday of each month from 7-7:30p.m. \nPlay games\, have fun\, tell jokes and socialize with friends! \nVirtual ONLY \nhttps://us06web.zoom.us/meeting/register/tZYpdO2hrjwrHtagc4mrkDus_R8bnlhYgn7n
URL:https://dsacnj.org/event/buddy-to-buddy-virtual/2023-08-14/
LOCATION:Virtual Zoom
CATEGORIES:Children,Online virtual events,SOCIAL,Teens
ORGANIZER;CN="Club DREAMS team":MAILTO:Clubdreams@dsacnj.org
END:VEVENT
BEGIN:VEVENT
DTSTART;TZID=UTC:20230814T120000
DTEND;TZID=UTC:20230814T170000
DTSTAMP:20260420T141137
CREATED:20240206T145752Z
LAST-MODIFIED:20240206T145752Z
UID:10000856-1692014400-1692032400@dsacnj.org
SUMMARY:Summer Camp Registration
DESCRIPTION:Summer Camp Registration is NOW open for our Down Syndrome Community and their Siblings.\n  1 registration per child please.\nSummer camp is offered starting June 26th and running through August 25th.  Full and Half day options are available. Choose between 1 week or all 9 weeks! Activities are included.\n(Pizza 🍕 Fridays available for $5: includes 2 slices of pizza & drink) \nSave your child’s spot today!\n 
URL:https://dsacnj.org/event/summer-camp-registration/2023-08-14/
LOCATION:Club DREAMS\, 25 Scotch Rd.\, Suite H\, Ewing\, NJ\, 08628\, United States
CATEGORIES:ACADEMICS,Arts/music,CAMPS,Children,ENRICHMENT,Fitness/dance/sports,In person events
ORGANIZER;CN="Club DREAMS team":MAILTO:Clubdreams@dsacnj.org
END:VEVENT
BEGIN:VEVENT
DTSTART;TZID=UTC:20230812T100000
DTEND;TZID=UTC:20230812T104500
DTSTAMP:20260420T141137
CREATED:20220609T203800Z
LAST-MODIFIED:20241105T140208Z
UID:10000260-1691834400-1691837100@dsacnj.org
SUMMARY:GROSS MOTOR SKILLS PLAYGROUP AGES 2-4
DESCRIPTION:Gross Motor Skills Exercise Playgroup!\n\n\n\nJoin the Rutgers Doctor of Physical Therapy Students for a fun filled playgroup where play and music will guide movement and the development of gross motor skills in a supportive\, friendly environment.\n\nThis program will run the second Saturday of every month.\n\nThere will be two groups.\nAges 2-4 from 10-10:45a.m.\nAges 5-8 from 11-11:45a.m.\n\nQuestions contact:\nKaren at clubdreams@dsacnj.org or\nAshley Conklin\, PT\, DPT\, PCS at Abc148@shp.rutgers.edu
URL:https://dsacnj.org/event/gross-motor-skills-playgroup-ages-2-4/2023-08-12/
LOCATION:Club DREAMS\, 25 Scotch Rd.\, Suite H\, Ewing\, NJ\, 08628\, United States
CATEGORIES:Babies/Toddler,Children,FAMILY SUPPORT,Fitness/dance/sports,In person events
ATTACH;FMTTYPE=image/png:https://dsacnj.org/wp-content/uploads/2022/06/Gross-Motor-Skills.png
ORGANIZER;CN="Club DREAMS team":MAILTO:Clubdreams@dsacnj.org
END:VEVENT
BEGIN:VEVENT
DTSTART;TZID=UTC:20230812T090000
DTEND;TZID=UTC:20230812T110000
DTSTAMP:20260420T141137
CREATED:20230217T000819Z
LAST-MODIFIED:20230522T183330Z
UID:10000930-1691830800-1691838000@dsacnj.org
SUMMARY:Open Play - Saturday Special
DESCRIPTION:Join us for a Special Saturday Open Play from 9:00 AM – 11:00 AM \n \nFree for our Club DREAMS members \nDrop in $10/ child\, $5/ sibling – ASK about out Open Play Memberships!
URL:https://dsacnj.org/event/open-play-saturday-special/2023-08-12/
LOCATION:Club DREAMS\, 25 Scotch Rd.\, Suite H\, Ewing\, NJ\, 08628\, United States
CATEGORIES:Babies/Toddler,Children,In person events,SOCIAL
ORGANIZER;CN="Club DREAMS team":MAILTO:Clubdreams@dsacnj.org
END:VEVENT
BEGIN:VEVENT
DTSTART;TZID=UTC:20230811T120000
DTEND;TZID=UTC:20230811T170000
DTSTAMP:20260420T141137
CREATED:20240206T145752Z
LAST-MODIFIED:20240206T145752Z
UID:10000855-1691755200-1691773200@dsacnj.org
SUMMARY:Summer Camp Registration
DESCRIPTION:Summer Camp Registration is NOW open for our Down Syndrome Community and their Siblings.\n  1 registration per child please.\nSummer camp is offered starting June 26th and running through August 25th.  Full and Half day options are available. Choose between 1 week or all 9 weeks! Activities are included.\n(Pizza 🍕 Fridays available for $5: includes 2 slices of pizza & drink) \nSave your child’s spot today!\n 
URL:https://dsacnj.org/event/summer-camp-registration/2023-08-11/
LOCATION:Club DREAMS\, 25 Scotch Rd.\, Suite H\, Ewing\, NJ\, 08628\, United States
CATEGORIES:ACADEMICS,Arts/music,CAMPS,Children,ENRICHMENT,Fitness/dance/sports,In person events
ORGANIZER;CN="Club DREAMS team":MAILTO:Clubdreams@dsacnj.org
END:VEVENT
BEGIN:VEVENT
DTSTART;TZID=UTC:20230810T174500
DTEND;TZID=UTC:20230810T184500
DTSTAMP:20260420T141137
CREATED:20230623T215829Z
LAST-MODIFIED:20230725T163452Z
UID:10001108-1691689500-1691693100@dsacnj.org
SUMMARY:Yoga
DESCRIPTION:Have you ever wanted to practice yoga? We are offering a mixed group basic yoga class every Thursday from 5:45-6:45 PM!\nJoin us in rising up and growing stronger. 
URL:https://dsacnj.org/event/yoga-3/2023-08-10/
LOCATION:Club DREAMS\, 25 Scotch Rd.\, Suite H\, Ewing\, NJ\, 08628\, United States
CATEGORIES:Adults 18+,Babies/Toddler,Children,ENRICHMENT,Fitness/dance/sports,In person events,Siblings,Teens
ORGANIZER;CN="Club DREAMS team":MAILTO:Clubdreams@dsacnj.org
END:VEVENT
BEGIN:VEVENT
DTSTART;TZID=UTC:20230810T163000
DTEND;TZID=UTC:20230810T173000
DTSTAMP:20260420T141137
CREATED:20230621T225805Z
LAST-MODIFIED:20230810T213145Z
UID:10001050-1691685000-1691688600@dsacnj.org
SUMMARY:Dance Class (12 & Under)
DESCRIPTION:This program is free for our members. The Thursday class will be slightly less advanced for members who are working on fundamental skills. Registration required for each session attending.
URL:https://dsacnj.org/event/dance-class-12-under/2023-08-10/
LOCATION:Club DREAMS\, 25 Scotch Rd.\, Suite H\, Ewing\, NJ\, 08628\, United States
CATEGORIES:Babies/Toddler,Children,Fitness/dance/sports,In person events,Siblings,SOCIAL
ORGANIZER;CN="Club DREAMS team":MAILTO:Clubdreams@dsacnj.org
END:VEVENT
BEGIN:VEVENT
DTSTART;TZID=UTC:20230809T170000
DTEND;TZID=UTC:20230809T180000
DTSTAMP:20260420T141137
CREATED:20230621T193144Z
LAST-MODIFIED:20230816T214412Z
UID:10001011-1691600400-1691604000@dsacnj.org
SUMMARY:Gymnastics (11+)
DESCRIPTION:This Program is FREE to all Club DREAMS members. The Wednesday Class will be slightly more advanced for members who have achieved a higher skill level.
URL:https://dsacnj.org/event/gymnastics-11/2023-08-09/
LOCATION:Club DREAMS\, 25 Scotch Rd.\, Suite H\, Ewing\, NJ\, 08628\, United States
CATEGORIES:Adults 18+,Children,ENRICHMENT,Fitness/dance/sports,In person events,Siblings,Teens
ORGANIZER;CN="Club DREAMS team":MAILTO:Clubdreams@dsacnj.org
END:VEVENT
BEGIN:VEVENT
DTSTART;TZID=UTC:20230808T174500
DTEND;TZID=UTC:20230808T184500
DTSTAMP:20260420T141137
CREATED:20230621T193526Z
LAST-MODIFIED:20230725T172411Z
UID:10001041-1691516700-1691520300@dsacnj.org
SUMMARY:Gymnastics Class (10 and Under)
DESCRIPTION:This program is FREE to all Club DREAMS members. The Tuesday Class will be slightly less advanced for members who are working on Fundamental skills.
URL:https://dsacnj.org/event/gymnastics-class-10-and-under/2023-08-08/
LOCATION:Club DREAMS\, 25 Scotch Rd.\, Suite H\, Ewing\, NJ\, 08628\, United States
CATEGORIES:Babies/Toddler,Children,ENRICHMENT,Fitness/dance/sports,In person events,Siblings
ORGANIZER;CN="Club DREAMS team":MAILTO:Clubdreams@dsacnj.org
END:VEVENT
BEGIN:VEVENT
DTSTART;TZID=UTC:20230808T170000
DTEND;TZID=UTC:20230808T173000
DTSTAMP:20260420T141137
CREATED:20230522T220923Z
LAST-MODIFIED:20230731T195439Z
UID:10001003-1691514000-1691515800@dsacnj.org
SUMMARY:Music Class
DESCRIPTION:Music for the Very Young: Music\, Movement and Literacy provides children with a joyful and interesting first music education experience. The program also weaves music and movement into the fabric of the day!\nProrated Pricing Available!\n  \n \n  \n  \nDiscount available for our participating Summer Campers!  Contact us at clubdreams@dsacnj.org or 609-883-0321 for more information.
URL:https://dsacnj.org/event/music-class/2023-08-08/
LOCATION:Club DREAMS\, 25 Scotch Rd.\, Suite H\, Ewing\, NJ\, 08628\, United States
CATEGORIES:Arts/music,Babies/Toddler,Children,ENRICHMENT,In person events,Siblings,Teens
ORGANIZER;CN="Club DREAMS team":MAILTO:Clubdreams@dsacnj.org
END:VEVENT
BEGIN:VEVENT
DTSTART;TZID=UTC:20230808T160000
DTEND;TZID=UTC:20230808T163000
DTSTAMP:20260420T141137
CREATED:20220309T052245Z
LAST-MODIFIED:20221117T232840Z
UID:10000467-1691510400-1691512200@dsacnj.org
SUMMARY:Craft Time with Kristi
DESCRIPTION:Join us for interactive VIRTUAL or In Person craft time. Register for the online class below and send address the week prior to receive your bag of complete craft supplies in the mail. Registrations must be in by Wednesday\, the week prior to ensure you craft supplies will be delivered on time. On the day of the class\, you will have all supplies needed to follow along:) EMAIL KRISTI at kschwartz@dsacnj.com with your mailing address to receive your supplies. \nREGISTER FOR THE VIRTUAL CLASS HERE: https://us06web.zoom.us/meeting/register/tZYoceutrDMuEtMumHtSbTZiru3GLktRon8C \n\n\n\n\n\n\n\n\n\n 
URL:https://dsacnj.org/event/craft-time-with-kristi/2023-08-08/
LOCATION:VIRTUAL OR ON SITE CLUB DREAMS\, 25 Scotch Rd\, Suite H\, Ewing\, NJ\, 08628\, United States
CATEGORIES:Arts/music,Children,ENRICHMENT,In person events,Online virtual events,Teens
ORGANIZER;CN="Club DREAMS team":MAILTO:Clubdreams@dsacnj.org
END:VEVENT
BEGIN:VEVENT
DTSTART;TZID=UTC:20230807T190000
DTEND;TZID=UTC:20230807T210000
DTSTAMP:20260420T141137
CREATED:20230426T221635Z
LAST-MODIFIED:20230426T221638Z
UID:10000963-1691434800-1691442000@dsacnj.org
SUMMARY:Trenton Thunder Game Night
DESCRIPTION:Join us for a fun Night out at the ball park!
URL:https://dsacnj.org/event/trenton-thunder-game-night/
LOCATION:Trenton Thunder Ballpark\, 1 Thunder Road\, Trenton\, NJ\, 08611
CATEGORIES:Adults 18+,Babies/Toddler,Children,ENRICHMENT,FAMILY SUPPORT,In person events,Parent/family socials (TBD),Siblings,SOCIAL,SPECIAL EVENT
ORGANIZER;CN="Club DREAMS team":MAILTO:Clubdreams@dsacnj.org
END:VEVENT
BEGIN:VEVENT
DTSTART;TZID=UTC:20230807T120000
DTEND;TZID=UTC:20230807T170000
DTSTAMP:20260420T141137
CREATED:20240206T145752Z
LAST-MODIFIED:20240206T145752Z
UID:10000854-1691409600-1691427600@dsacnj.org
SUMMARY:Summer Camp Registration
DESCRIPTION:Summer Camp Registration is NOW open for our Down Syndrome Community and their Siblings.\n  1 registration per child please.\nSummer camp is offered starting June 26th and running through August 25th.  Full and Half day options are available. Choose between 1 week or all 9 weeks! Activities are included.\n(Pizza 🍕 Fridays available for $5: includes 2 slices of pizza & drink) \nSave your child’s spot today!\n 
URL:https://dsacnj.org/event/summer-camp-registration/2023-08-07/
LOCATION:Club DREAMS\, 25 Scotch Rd.\, Suite H\, Ewing\, NJ\, 08628\, United States
CATEGORIES:ACADEMICS,Arts/music,CAMPS,Children,ENRICHMENT,Fitness/dance/sports,In person events
ORGANIZER;CN="Club DREAMS team":MAILTO:Clubdreams@dsacnj.org
END:VEVENT
BEGIN:VEVENT
DTSTART;TZID=UTC:20230805T090000
DTEND;TZID=UTC:20230805T110000
DTSTAMP:20260420T141137
CREATED:20230217T000819Z
LAST-MODIFIED:20230522T183330Z
UID:10000929-1691226000-1691233200@dsacnj.org
SUMMARY:Open Play - Saturday Special
DESCRIPTION:Join us for a Special Saturday Open Play from 9:00 AM – 11:00 AM \n \nFree for our Club DREAMS members \nDrop in $10/ child\, $5/ sibling – ASK about out Open Play Memberships!
URL:https://dsacnj.org/event/open-play-saturday-special/2023-08-05/
LOCATION:Club DREAMS\, 25 Scotch Rd.\, Suite H\, Ewing\, NJ\, 08628\, United States
CATEGORIES:Babies/Toddler,Children,In person events,SOCIAL
ORGANIZER;CN="Club DREAMS team":MAILTO:Clubdreams@dsacnj.org
END:VEVENT
BEGIN:VEVENT
DTSTART;TZID=UTC:20230804T120000
DTEND;TZID=UTC:20230804T170000
DTSTAMP:20260420T141137
CREATED:20240206T145752Z
LAST-MODIFIED:20240206T145752Z
UID:10000853-1691150400-1691168400@dsacnj.org
SUMMARY:Summer Camp Registration
DESCRIPTION:Summer Camp Registration is NOW open for our Down Syndrome Community and their Siblings.\n  1 registration per child please.\nSummer camp is offered starting June 26th and running through August 25th.  Full and Half day options are available. Choose between 1 week or all 9 weeks! Activities are included.\n(Pizza 🍕 Fridays available for $5: includes 2 slices of pizza & drink) \nSave your child’s spot today!\n 
URL:https://dsacnj.org/event/summer-camp-registration/2023-08-04/
LOCATION:Club DREAMS\, 25 Scotch Rd.\, Suite H\, Ewing\, NJ\, 08628\, United States
CATEGORIES:ACADEMICS,Arts/music,CAMPS,Children,ENRICHMENT,Fitness/dance/sports,In person events
ORGANIZER;CN="Club DREAMS team":MAILTO:Clubdreams@dsacnj.org
END:VEVENT
BEGIN:VEVENT
DTSTART;TZID=UTC:20230803T174500
DTEND;TZID=UTC:20230803T184500
DTSTAMP:20260420T141137
CREATED:20230623T215829Z
LAST-MODIFIED:20230725T163452Z
UID:10001107-1691084700-1691088300@dsacnj.org
SUMMARY:Yoga
DESCRIPTION:Have you ever wanted to practice yoga? We are offering a mixed group basic yoga class every Thursday from 5:45-6:45 PM!\nJoin us in rising up and growing stronger. 
URL:https://dsacnj.org/event/yoga-3/2023-08-03/
LOCATION:Club DREAMS\, 25 Scotch Rd.\, Suite H\, Ewing\, NJ\, 08628\, United States
CATEGORIES:Adults 18+,Babies/Toddler,Children,ENRICHMENT,Fitness/dance/sports,In person events,Siblings,Teens
ORGANIZER;CN="Club DREAMS team":MAILTO:Clubdreams@dsacnj.org
END:VEVENT
BEGIN:VEVENT
DTSTART;TZID=UTC:20230803T163000
DTEND;TZID=UTC:20230803T173000
DTSTAMP:20260420T141137
CREATED:20230621T225805Z
LAST-MODIFIED:20230810T213145Z
UID:10001049-1691080200-1691083800@dsacnj.org
SUMMARY:Dance Class (12 & Under)
DESCRIPTION:This program is free for our members. The Thursday class will be slightly less advanced for members who are working on fundamental skills. Registration required for each session attending.
URL:https://dsacnj.org/event/dance-class-12-under/2023-08-03/
LOCATION:Club DREAMS\, 25 Scotch Rd.\, Suite H\, Ewing\, NJ\, 08628\, United States
CATEGORIES:Babies/Toddler,Children,Fitness/dance/sports,In person events,Siblings,SOCIAL
ORGANIZER;CN="Club DREAMS team":MAILTO:Clubdreams@dsacnj.org
END:VEVENT
BEGIN:VEVENT
DTSTART;TZID=UTC:20230802T170000
DTEND;TZID=UTC:20230802T180000
DTSTAMP:20260420T141137
CREATED:20230621T193144Z
LAST-MODIFIED:20230816T214412Z
UID:10001010-1690995600-1690999200@dsacnj.org
SUMMARY:Gymnastics (11+)
DESCRIPTION:This Program is FREE to all Club DREAMS members. The Wednesday Class will be slightly more advanced for members who have achieved a higher skill level.
URL:https://dsacnj.org/event/gymnastics-11/2023-08-02/
LOCATION:Club DREAMS\, 25 Scotch Rd.\, Suite H\, Ewing\, NJ\, 08628\, United States
CATEGORIES:Adults 18+,Children,ENRICHMENT,Fitness/dance/sports,In person events,Siblings,Teens
ORGANIZER;CN="Club DREAMS team":MAILTO:Clubdreams@dsacnj.org
END:VEVENT
BEGIN:VEVENT
DTSTART;TZID=UTC:20230801T174500
DTEND;TZID=UTC:20230801T190000
DTSTAMP:20260420T141137
CREATED:20231023T225746Z
LAST-MODIFIED:20231026T225206Z
UID:10001249-1690911900-1690916400@dsacnj.org
SUMMARY:Drums Alive All Ages
DESCRIPTION:Join us for a combined ages class of Drums Alive. This class combines the art of music and rhythm with cardio and fitness. \nRegister below.
URL:https://dsacnj.org/event/drums-alive-all-ages/2023-08-01/
LOCATION:Club DREAMS\, 25 Scotch Rd.\, Suite H\, Ewing\, NJ\, 08628\, United States
CATEGORIES:Adults 18+,Arts/music,Children,Fitness/dance/sports,In person events,Siblings,Teens
ORGANIZER;CN="Club DREAMS team":MAILTO:Clubdreams@dsacnj.org
END:VEVENT
BEGIN:VEVENT
DTSTART;TZID=UTC:20230801T174500
DTEND;TZID=UTC:20230801T184500
DTSTAMP:20260420T141137
CREATED:20230621T193526Z
LAST-MODIFIED:20230725T172411Z
UID:10001040-1690911900-1690915500@dsacnj.org
SUMMARY:Gymnastics Class (10 and Under)
DESCRIPTION:This program is FREE to all Club DREAMS members. The Tuesday Class will be slightly less advanced for members who are working on Fundamental skills.
URL:https://dsacnj.org/event/gymnastics-class-10-and-under/2023-08-01/
LOCATION:Club DREAMS\, 25 Scotch Rd.\, Suite H\, Ewing\, NJ\, 08628\, United States
CATEGORIES:Babies/Toddler,Children,ENRICHMENT,Fitness/dance/sports,In person events,Siblings
ORGANIZER;CN="Club DREAMS team":MAILTO:Clubdreams@dsacnj.org
END:VEVENT
BEGIN:VEVENT
DTSTART;TZID=UTC:20230801T170000
DTEND;TZID=UTC:20230801T173000
DTSTAMP:20260420T141137
CREATED:20230522T220923Z
LAST-MODIFIED:20230731T195439Z
UID:10001002-1690909200-1690911000@dsacnj.org
SUMMARY:Music Class
DESCRIPTION:Music for the Very Young: Music\, Movement and Literacy provides children with a joyful and interesting first music education experience. The program also weaves music and movement into the fabric of the day!\nProrated Pricing Available!\n  \n \n  \n  \nDiscount available for our participating Summer Campers!  Contact us at clubdreams@dsacnj.org or 609-883-0321 for more information.
URL:https://dsacnj.org/event/music-class/2023-08-01/
LOCATION:Club DREAMS\, 25 Scotch Rd.\, Suite H\, Ewing\, NJ\, 08628\, United States
CATEGORIES:Arts/music,Babies/Toddler,Children,ENRICHMENT,In person events,Siblings,Teens
ORGANIZER;CN="Club DREAMS team":MAILTO:Clubdreams@dsacnj.org
END:VEVENT
BEGIN:VEVENT
DTSTART;TZID=UTC:20230801T160000
DTEND;TZID=UTC:20230801T163000
DTSTAMP:20260420T141137
CREATED:20220309T052245Z
LAST-MODIFIED:20221117T232840Z
UID:10000466-1690905600-1690907400@dsacnj.org
SUMMARY:Craft Time with Kristi
DESCRIPTION:Join us for interactive VIRTUAL or In Person craft time. Register for the online class below and send address the week prior to receive your bag of complete craft supplies in the mail. Registrations must be in by Wednesday\, the week prior to ensure you craft supplies will be delivered on time. On the day of the class\, you will have all supplies needed to follow along:) EMAIL KRISTI at kschwartz@dsacnj.com with your mailing address to receive your supplies. \nREGISTER FOR THE VIRTUAL CLASS HERE: https://us06web.zoom.us/meeting/register/tZYoceutrDMuEtMumHtSbTZiru3GLktRon8C \n\n\n\n\n\n\n\n\n\n 
URL:https://dsacnj.org/event/craft-time-with-kristi/2023-08-01/
LOCATION:VIRTUAL OR ON SITE CLUB DREAMS\, 25 Scotch Rd\, Suite H\, Ewing\, NJ\, 08628\, United States
CATEGORIES:Arts/music,Children,ENRICHMENT,In person events,Online virtual events,Teens
ORGANIZER;CN="Club DREAMS team":MAILTO:Clubdreams@dsacnj.org
END:VEVENT
BEGIN:VEVENT
DTSTART;TZID=UTC:20230731T190000
DTEND;TZID=UTC:20230731T193000
DTSTAMP:20260420T141137
CREATED:20221107T210859Z
LAST-MODIFIED:20221107T210859Z
UID:10000730-1690830000-1690831800@dsacnj.org
SUMMARY:Buddy to Buddy Virtual
DESCRIPTION:Join us for Buddy to Buddy virtual. The first and third Monday of each month from 7-7:30p.m. \nPlay games\, have fun\, tell jokes and socialize with friends! \nVirtual ONLY \nhttps://us06web.zoom.us/meeting/register/tZYpdO2hrjwrHtagc4mrkDus_R8bnlhYgn7n
URL:https://dsacnj.org/event/buddy-to-buddy-virtual/2023-07-31/
LOCATION:Virtual Zoom
CATEGORIES:Children,Online virtual events,SOCIAL,Teens
ORGANIZER;CN="Club DREAMS team":MAILTO:Clubdreams@dsacnj.org
END:VEVENT
BEGIN:VEVENT
DTSTART;TZID=UTC:20230731T120000
DTEND;TZID=UTC:20230731T170000
DTSTAMP:20260420T141137
CREATED:20240206T145752Z
LAST-MODIFIED:20240206T145752Z
UID:10000852-1690804800-1690822800@dsacnj.org
SUMMARY:Summer Camp Registration
DESCRIPTION:Summer Camp Registration is NOW open for our Down Syndrome Community and their Siblings.\n  1 registration per child please.\nSummer camp is offered starting June 26th and running through August 25th.  Full and Half day options are available. Choose between 1 week or all 9 weeks! Activities are included.\n(Pizza 🍕 Fridays available for $5: includes 2 slices of pizza & drink) \nSave your child’s spot today!\n 
URL:https://dsacnj.org/event/summer-camp-registration/2023-07-31/
LOCATION:Club DREAMS\, 25 Scotch Rd.\, Suite H\, Ewing\, NJ\, 08628\, United States
CATEGORIES:ACADEMICS,Arts/music,CAMPS,Children,ENRICHMENT,Fitness/dance/sports,In person events
ORGANIZER;CN="Club DREAMS team":MAILTO:Clubdreams@dsacnj.org
END:VEVENT
BEGIN:VEVENT
DTSTART;TZID=UTC:20230729T090000
DTEND;TZID=UTC:20230729T110000
DTSTAMP:20260420T141137
CREATED:20230217T000819Z
LAST-MODIFIED:20230522T183330Z
UID:10000928-1690621200-1690628400@dsacnj.org
SUMMARY:Open Play - Saturday Special
DESCRIPTION:Join us for a Special Saturday Open Play from 9:00 AM – 11:00 AM \n \nFree for our Club DREAMS members \nDrop in $10/ child\, $5/ sibling – ASK about out Open Play Memberships!
URL:https://dsacnj.org/event/open-play-saturday-special/2023-07-29/
LOCATION:Club DREAMS\, 25 Scotch Rd.\, Suite H\, Ewing\, NJ\, 08628\, United States
CATEGORIES:Babies/Toddler,Children,In person events,SOCIAL
ORGANIZER;CN="Club DREAMS team":MAILTO:Clubdreams@dsacnj.org
END:VEVENT
BEGIN:VEVENT
DTSTART;TZID=UTC:20230729T090000
DTEND;TZID=UTC:20230729T110000
DTSTAMP:20260420T141137
CREATED:20220829T230717Z
LAST-MODIFIED:20230629T211641Z
UID:10000655-1690621200-1690628400@dsacnj.org
SUMMARY:OPEN PLAY - Saturday
DESCRIPTION:Join us for Inclusive Open Play  Saturday Mornings from 9-11 AM. Our center offers a wide range of activities for all age groups.  Come check out our center\, mingle and relax while your kids play and have fun! \n \nCost for NON-DREAM TEAM MEMBERS. Payment will be taken at the center or can be \nVENMO – @DSACNJ-NJ or PAYPAL @ Down Syndrome Association of Central New Jersey \n$10 for 1st child and $5 for each additional child. (payment made at center via cash\, check\, venmo/paypal) \nInquire about our Open Play Pass Memberships! \nQuestions: email us at Clubdreams@dsacnj.org or 609-883-0321 or ask for a tour of our center \nRegister below.
URL:https://dsacnj.org/event/open-play-5/2023-07-29/
LOCATION:Club DREAMS\, 25 Scotch Rd.\, Suite H\, Ewing\, NJ\, 08628\, United States
CATEGORIES:Babies/Toddler,Children,In person events,Siblings,SOCIAL,Teens
ATTACH;FMTTYPE=image/png:https://dsacnj.org/wp-content/uploads/2022/08/Open-Play-3.png
ORGANIZER;CN="Club DREAMS team":MAILTO:Clubdreams@dsacnj.org
END:VEVENT
BEGIN:VEVENT
DTSTART;TZID=UTC:20230728T120000
DTEND;TZID=UTC:20230728T170000
DTSTAMP:20260420T141137
CREATED:20240206T145752Z
LAST-MODIFIED:20240206T145752Z
UID:10000851-1690545600-1690563600@dsacnj.org
SUMMARY:Summer Camp Registration
DESCRIPTION:Summer Camp Registration is NOW open for our Down Syndrome Community and their Siblings.\n  1 registration per child please.\nSummer camp is offered starting June 26th and running through August 25th.  Full and Half day options are available. Choose between 1 week or all 9 weeks! Activities are included.\n(Pizza 🍕 Fridays available for $5: includes 2 slices of pizza & drink) \nSave your child’s spot today!\n 
URL:https://dsacnj.org/event/summer-camp-registration/2023-07-28/
LOCATION:Club DREAMS\, 25 Scotch Rd.\, Suite H\, Ewing\, NJ\, 08628\, United States
CATEGORIES:ACADEMICS,Arts/music,CAMPS,Children,ENRICHMENT,Fitness/dance/sports,In person events
ORGANIZER;CN="Club DREAMS team":MAILTO:Clubdreams@dsacnj.org
END:VEVENT
END:VCALENDAR