BEGIN:VCALENDAR
VERSION:2.0
PRODID:-//Down Syndrome Association of Central New Jersey - ECPv6.15.15//NONSGML v1.0//EN
CALSCALE:GREGORIAN
METHOD:PUBLISH
X-ORIGINAL-URL:https://dsacnj.org
X-WR-CALDESC:Events for Down Syndrome Association of Central New Jersey
REFRESH-INTERVAL;VALUE=DURATION:PT1H
X-Robots-Tag:noindex
X-PUBLISHED-TTL:PT1H
BEGIN:VTIMEZONE
TZID:UTC
BEGIN:STANDARD
TZOFFSETFROM:+0000
TZOFFSETTO:+0000
TZNAME:UTC
DTSTART:20210101T000000
END:STANDARD
END:VTIMEZONE
BEGIN:VEVENT
DTSTART;TZID=UTC:20220412T160000
DTEND;TZID=UTC:20220412T163000
DTSTAMP:20260422T180944
CREATED:20240206T145726Z
LAST-MODIFIED:20240206T145726Z
UID:10000495-1649779200-1649781000@dsacnj.org
SUMMARY:Craft Time with Kristi
DESCRIPTION:Join us for interactive VIRTUAL or In Person craft time. Register for the online class below and send address the week prior to receive your bag of complete craft supplies in the mail. Registrations must be in by Wednesday\, the week prior to ensure you craft supplies will be delivered on time. On the day of the class\, you will have all supplies needed to follow along:) EMAIL KRISTI at kschwartz@dsacnj.com with your mailing address to receive your supplies. \nREGISTER FOR THE VIRTUAL CLASS HERE: https://us06web.zoom.us/meeting/register/tZYoceutrDMuEtMumHtSbTZiru3GLktRon8C \n\n\n\n\n\n\n\n\n\n 
URL:https://dsacnj.org/event/craft-time-with-kristi/2022-04-12/
LOCATION:VIRTUAL OR ON SITE CLUB DREAMS\, 25 Scotch Rd\, Suite H\, Ewing\, NJ\, 08628\, United States
CATEGORIES:Arts/music,Children,ENRICHMENT,In person events,Online virtual events,Teens
ORGANIZER;CN="Club DREAMS team":MAILTO:Clubdreams@dsacnj.org
END:VEVENT
BEGIN:VEVENT
DTSTART;TZID=UTC:20220412T160000
DTEND;TZID=UTC:20220412T163000
DTSTAMP:20260422T180944
CREATED:20220309T052245Z
LAST-MODIFIED:20221117T232840Z
UID:10000401-1649779200-1649781000@dsacnj.org
SUMMARY:Craft Time with Kristi
DESCRIPTION:Join us for interactive VIRTUAL or In Person craft time. Register for the online class below and send address the week prior to receive your bag of complete craft supplies in the mail. Registrations must be in by Wednesday\, the week prior to ensure you craft supplies will be delivered on time. On the day of the class\, you will have all supplies needed to follow along:) EMAIL KRISTI at kschwartz@dsacnj.com with your mailing address to receive your supplies. \nREGISTER FOR THE VIRTUAL CLASS HERE: https://us06web.zoom.us/meeting/register/tZYoceutrDMuEtMumHtSbTZiru3GLktRon8C \n\n\n\n\n\n\n\n\n\n 
URL:https://dsacnj.org/event/craft-time-with-kristi/2022-04-12/
LOCATION:VIRTUAL OR ON SITE CLUB DREAMS\, 25 Scotch Rd\, Suite H\, Ewing\, NJ\, 08628\, United States
CATEGORIES:Arts/music,Children,ENRICHMENT,In person events,Online virtual events,Teens
ORGANIZER;CN="Club DREAMS team":MAILTO:Clubdreams@dsacnj.org
END:VEVENT
BEGIN:VEVENT
DTSTART;TZID=UTC:20220409T093000
DTEND;TZID=UTC:20220409T120000
DTSTAMP:20260422T180944
CREATED:20220316T192221Z
LAST-MODIFIED:20220316T192223Z
UID:10000535-1649496600-1649505600@dsacnj.org
SUMMARY:Breakfast & Outdoor Egg Hunt
DESCRIPTION:Join us for a fun breakfast and outdoor egg hunt on Saturday\, April 9th. Breakfast will be served from 9:30-11 a.m. & the outdoor egg hunt will be from 11-12p.m. – *Weather Permitting*\n\nTake a picture with a real bunny!\n\nBreakfast will be served by our members! Breakfast items to include pancakes\, bagels\, muffins\, yogurt bar\, fruit\, assorted juices\, coffee and tea.\n\nCOST per person is: 12 & Older -$10; Under 12 – $7; 2 & Under is FREE\n\nDREAM TEAM MEMBER COST is $3\n\nYou can purchase crafts at the event for an additional $2 each.\n\nWe hope to see you there!
URL:https://dsacnj.org/event/breakfast-outdoor-egg-hunt/
LOCATION:Club DREAMS\, 25 Scotch Rd.\, Suite H\, Ewing\, NJ\, 08628\, United States
CATEGORIES:Adults 18+,Babies/Toddler,Children,In person events,Parent/family socials (TBD),Siblings,SOCIAL,SPECIAL EVENT,Teens
ORGANIZER;CN="Club DREAMS team":MAILTO:Clubdreams@dsacnj.org
END:VEVENT
BEGIN:VEVENT
DTSTART;TZID=UTC:20220408T180000
DTEND;TZID=UTC:20220408T183000
DTSTAMP:20260422T180944
CREATED:20220310T210544Z
LAST-MODIFIED:20220310T210601Z
UID:10000529-1649440800-1649442600@dsacnj.org
SUMMARY:Storytelling with Caroline
DESCRIPTION:Do you love listening to stories?  Join us for Storytelling with Caroline and listen to the story come alive! This is a VIRTUAL event.\n\nRegister below at https://us06web.zoom.us/meeting/register/tZMufu-vqj0jH90OkzOOg3WZZoO1HcbBqofi
URL:https://dsacnj.org/event/storytelling-with-caroline-2/2022-04-08/
LOCATION:Virtual Zoom
CATEGORIES:Children,ENRICHMENT,Online virtual events,Teens
ORGANIZER;CN="Club DREAMS team":MAILTO:Clubdreams@dsacnj.org
END:VEVENT
BEGIN:VEVENT
DTSTART;TZID=UTC:20220407T173000
DTEND;TZID=UTC:20220407T180000
DTSTAMP:20260422T180944
CREATED:20220330T221637Z
LAST-MODIFIED:20220802T175532Z
UID:10000539-1649352600-1649354400@dsacnj.org
SUMMARY:Music is "Rad" Recorder Class
DESCRIPTION:Join Radhika for a VIRTUAL music class and learn to play the recorder. Every Thursday from 5:30-6p.m. Email Kristi at clubdreams.org to be sent a recorder or you can call 609-883-0321 to pick up one at Club DREAMS. 25 Scotch Rd Suite H\, Ewing NJ REGISTER BY CLICKING THE LINK BELOW. This is a virtual class https://us06web.zoom.us/meeting/register/tZIodeGvqTMvGtwwdLxFNwHNSu5tmKKVSO24 \n\n\n\n\n\n\n\n\n\n 
URL:https://dsacnj.org/event/music-is-rad-recorder-class/2022-04-07/
LOCATION:Virtual Zoom
CATEGORIES:Adults 18+,Arts/music,Children,ENRICHMENT,Teens
ORGANIZER;CN="Club DREAMS team":MAILTO:Clubdreams@dsacnj.org
END:VEVENT
BEGIN:VEVENT
DTSTART;TZID=UTC:20220406T140000
DTEND;TZID=UTC:20220406T160000
DTSTAMP:20260422T180944
CREATED:20220401T203806Z
LAST-MODIFIED:20220601T172641Z
UID:10000546-1649253600-1649260800@dsacnj.org
SUMMARY:Open Play Wednesday 2-4p.m.
DESCRIPTION:Join us for Open Play every Wednesday from 2-4p.m. Our center offers a wide range of activities for all age groups.  Come check out our center\, mingle and relax while your kids play and have fun! \n\n\n\n\n\n\n\n\n\n\n \n\n\n\n \n\n\n\n 
URL:https://dsacnj.org/event/open-play-wednesday-2-4p-m/
LOCATION:Club DREAMS\, 25 Scotch Rd.\, Suite H\, Ewing\, NJ\, 08628\, United States
CATEGORIES:Babies/Toddler,Children,In person events,Siblings,SOCIAL,Teens
ORGANIZER;CN="Club DREAMS team":MAILTO:Clubdreams@dsacnj.org
END:VEVENT
BEGIN:VEVENT
DTSTART;TZID=UTC:20220405T160000
DTEND;TZID=UTC:20220405T163000
DTSTAMP:20260422T180944
CREATED:20220309T052245Z
LAST-MODIFIED:20221117T232840Z
UID:10000400-1649174400-1649176200@dsacnj.org
SUMMARY:Craft Time with Kristi
DESCRIPTION:Join us for interactive VIRTUAL or In Person craft time. Register for the online class below and send address the week prior to receive your bag of complete craft supplies in the mail. Registrations must be in by Wednesday\, the week prior to ensure you craft supplies will be delivered on time. On the day of the class\, you will have all supplies needed to follow along:) EMAIL KRISTI at kschwartz@dsacnj.com with your mailing address to receive your supplies. \nREGISTER FOR THE VIRTUAL CLASS HERE: https://us06web.zoom.us/meeting/register/tZYoceutrDMuEtMumHtSbTZiru3GLktRon8C \n\n\n\n\n\n\n\n\n\n 
URL:https://dsacnj.org/event/craft-time-with-kristi/2022-04-05/
LOCATION:VIRTUAL OR ON SITE CLUB DREAMS\, 25 Scotch Rd\, Suite H\, Ewing\, NJ\, 08628\, United States
CATEGORIES:Arts/music,Children,ENRICHMENT,In person events,Online virtual events,Teens
ORGANIZER;CN="Club DREAMS team":MAILTO:Clubdreams@dsacnj.org
END:VEVENT
BEGIN:VEVENT
DTSTART;TZID=UTC:20220401T180000
DTEND;TZID=UTC:20220401T183000
DTSTAMP:20260422T180944
CREATED:20220310T210544Z
LAST-MODIFIED:20220310T210601Z
UID:10000528-1648836000-1648837800@dsacnj.org
SUMMARY:Storytelling with Caroline
DESCRIPTION:Do you love listening to stories?  Join us for Storytelling with Caroline and listen to the story come alive! This is a VIRTUAL event.\n\nRegister below at https://us06web.zoom.us/meeting/register/tZMufu-vqj0jH90OkzOOg3WZZoO1HcbBqofi
URL:https://dsacnj.org/event/storytelling-with-caroline-2/2022-04-01/
LOCATION:Virtual Zoom
CATEGORIES:Children,ENRICHMENT,Online virtual events,Teens
ORGANIZER;CN="Club DREAMS team":MAILTO:Clubdreams@dsacnj.org
END:VEVENT
BEGIN:VEVENT
DTSTART;TZID=UTC:20220330T160000
DTEND;TZID=UTC:20220330T180000
DTSTAMP:20260422T180944
CREATED:20220330T234712Z
LAST-MODIFIED:20220330T234858Z
UID:10000541-1648656000-1648663200@dsacnj.org
SUMMARY:Open Play 4-6p.m.
DESCRIPTION:Open Play from 4-6p.m. \n\n\n\n\n\n\n\n\n\n\n 
URL:https://dsacnj.org/event/open-play-4-6p-m/
LOCATION:Club DREAMS\, 25 Scotch Rd.\, Suite H\, Ewing\, NJ\, 08628\, United States
CATEGORIES:Babies/Toddler,Children,In person events,SOCIAL
ORGANIZER;CN="Club DREAMS team":MAILTO:Clubdreams@dsacnj.org
END:VEVENT
BEGIN:VEVENT
DTSTART;TZID=UTC:20220325T180000
DTEND;TZID=UTC:20220325T183000
DTSTAMP:20260422T180944
CREATED:20220310T210544Z
LAST-MODIFIED:20220310T210601Z
UID:10000527-1648231200-1648233000@dsacnj.org
SUMMARY:Storytelling with Caroline
DESCRIPTION:Do you love listening to stories?  Join us for Storytelling with Caroline and listen to the story come alive! This is a VIRTUAL event.\n\nRegister below at https://us06web.zoom.us/meeting/register/tZMufu-vqj0jH90OkzOOg3WZZoO1HcbBqofi
URL:https://dsacnj.org/event/storytelling-with-caroline-2/2022-03-25/
LOCATION:Virtual Zoom
CATEGORIES:Children,ENRICHMENT,Online virtual events,Teens
ORGANIZER;CN="Club DREAMS team":MAILTO:Clubdreams@dsacnj.org
END:VEVENT
BEGIN:VEVENT
DTSTART;TZID=UTC:20220325T140000
DTEND;TZID=UTC:20220325T160000
DTSTAMP:20260422T180944
CREATED:20220304T215506Z
LAST-MODIFIED:20220304T215510Z
UID:10000379-1648216800-1648224000@dsacnj.org
SUMMARY:Open Play Friday 2-4pm
DESCRIPTION:Join us for Open Play on Friday\, March 25th from 2-4p.m.\n\nnon-member cost is $10 per child.\n\nnon-member cost is $5 per additional child
URL:https://dsacnj.org/event/open-play-friday-2-4pm/
LOCATION:Club DREAMS\, 25 Scotch Rd.\, Suite H\, Ewing\, NJ\, 08628\, United States
CATEGORIES:Babies/Toddler,Children,In person events,Siblings,SOCIAL
ORGANIZER;CN="Club DREAMS team":MAILTO:Clubdreams@dsacnj.org
END:VEVENT
BEGIN:VEVENT
DTSTART;TZID=UTC:20220323T160000
DTEND;TZID=UTC:20220323T180000
DTSTAMP:20260422T180944
CREATED:20220207T202321Z
LAST-MODIFIED:20220324T000448Z
UID:10000344-1648051200-1648058400@dsacnj.org
SUMMARY:Open Play Wednesdays 4:00-6:00pm
DESCRIPTION:Come join us for open play from 4-6pm at Club Dreams.  Cost is $10 for the first child and $5 for each additional child for NON-MEMBERS. See you there! \n\n\n\n\n\n\n\n\n\n\n \n\n\n\n 
URL:https://dsacnj.org/event/open-play-wednesdays-400-600pm-2022-03-23/2022-03-23/
LOCATION:Club DREAMS\, 25 Scotch Rd.\, Suite H\, Ewing\, NJ\, 08628\, United States
CATEGORIES:Babies/Toddler,Children,ENRICHMENT,In person events,Parent/family socials (TBD),Siblings,SOCIAL,Teens
ORGANIZER;CN="Club DREAMS team":MAILTO:Clubdreams@dsacnj.org
END:VEVENT
BEGIN:VEVENT
DTSTART;TZID=UTC:20220323T160000
DTEND;TZID=UTC:20220323T180000
DTSTAMP:20260422T180944
CREATED:20220207T202321Z
LAST-MODIFIED:20220302T200022Z
UID:10000141-1648051200-1648058400@dsacnj.org
SUMMARY:Open Play Wednesdays 4:00-6:00pm
DESCRIPTION:Come join us for open play from 4-6pm at Club Dreams.  Cost is $10 for the first child and $5 for each additional child for NON-MEMBERS. See you there!
URL:https://dsacnj.org/event/open-play-wednesdays-400-600pm/2022-03-23/
LOCATION:Club DREAMS\, 25 Scotch Rd.\, Suite H\, Ewing\, NJ\, 08628\, United States
CATEGORIES:Babies/Toddler,Children,ENRICHMENT,In person events,Parent/family socials (TBD),Siblings,SOCIAL,Teens
ORGANIZER;CN="Club DREAMS team":MAILTO:Clubdreams@dsacnj.org
END:VEVENT
BEGIN:VEVENT
DTSTART;TZID=UTC:20220323T093000
DTEND;TZID=UTC:20220323T103000
DTSTAMP:20260422T180944
CREATED:20220207T200357Z
LAST-MODIFIED:20220314T194956Z
UID:10000119-1648027800-1648031400@dsacnj.org
SUMMARY:Open Play Wednesdays 9:30-10:30am Not Available 3/16
DESCRIPTION:Come join us for Open Play on Wednesdays from 9:30-10:30am. The cost is $10 for the first child and $5 for each additional child.  See you there!
URL:https://dsacnj.org/event/open-play-wednesdays-930-1030am/2022-03-23/
LOCATION:Club DREAMS\, 25 Scotch Rd.\, Suite H\, Ewing\, NJ\, 08628\, United States
CATEGORIES:Babies/Toddler,Children,ENRICHMENT,In person events,Parent/family socials (TBD),Siblings,SOCIAL
ORGANIZER;CN="Club DREAMS team":MAILTO:Clubdreams@dsacnj.org
END:VEVENT
BEGIN:VEVENT
DTSTART;TZID=UTC:20220320T140000
DTEND;TZID=UTC:20220320T180000
DTSTAMP:20260422T180944
CREATED:20220214T235633Z
LAST-MODIFIED:20220216T201944Z
UID:10000346-1647784800-1647799200@dsacnj.org
SUMMARY:Rock Your Socks Off
DESCRIPTION:Kick your boots off and join us for Rock Your Socks Off Hoe down for Down Syndrome.  The Downs Syndrome Association of Central NJ presents a World Down Syndrome Day of Celebration on Sunday\, March 20\, 2022\, from 2-6pm at Copper’s Riverview located at 50 Riverview Plaza\, Trenton NJ 08611. \nFree Admission and socks for those with Trisomy 21. $21.00 Admission for those 3 and older. Free Admission for those under 3. \nExciting silent auction items\, DJ\, Dancing and Free Caricatures. Buffet lunch and refreshments with Cash bar. \nBring your friends\, neighbors\, relatives\, dance troops\, teams\, classmates\, teachers\, coaches\, therapists\, and community leaders of all ages! \nREGISTER\, SPONSOR OR DONATE here at RYSO.givesmart.com  \n  \n  \n 
URL:https://dsacnj.org/event/rock-your-socks-off/
LOCATION:NJ
CATEGORIES:Adults 18+,Babies/Toddler,Children,In person events,Parent/family socials (TBD),Siblings,SOCIAL,SPECIAL EVENT,Teens
ORGANIZER;CN="Club DREAMS team":MAILTO:Clubdreams@dsacnj.org
END:VEVENT
BEGIN:VEVENT
DTSTART;TZID=UTC:20220318T180000
DTEND;TZID=UTC:20220318T183000
DTSTAMP:20260422T180944
CREATED:20220310T210544Z
LAST-MODIFIED:20220310T210601Z
UID:10000526-1647626400-1647628200@dsacnj.org
SUMMARY:Storytelling with Caroline
DESCRIPTION:Do you love listening to stories?  Join us for Storytelling with Caroline and listen to the story come alive! This is a VIRTUAL event.\n\nRegister below at https://us06web.zoom.us/meeting/register/tZMufu-vqj0jH90OkzOOg3WZZoO1HcbBqofi
URL:https://dsacnj.org/event/storytelling-with-caroline-2/2022-03-18/
LOCATION:Virtual Zoom
CATEGORIES:Children,ENRICHMENT,Online virtual events,Teens
ORGANIZER;CN="Club DREAMS team":MAILTO:Clubdreams@dsacnj.org
END:VEVENT
BEGIN:VEVENT
DTSTART;TZID=UTC:20220318T140000
DTEND;TZID=UTC:20220318T160000
DTSTAMP:20260422T180944
CREATED:20220304T214931Z
LAST-MODIFIED:20220314T195230Z
UID:10000378-1647612000-1647619200@dsacnj.org
SUMMARY:Open Play Friday 2-4p.m. Not Available 3/18
DESCRIPTION:Join us for Open Play on Friday\, March 18th from 2-4p.m. non-member cost is $10 per child. non-member cost is $5 per additional child \n\n\n\n\n\n\n\n\n\n\n \n\n\n\n 
URL:https://dsacnj.org/event/open-play-friday-2-4p-m-2/
LOCATION:Club DREAMS\, 25 Scotch Rd.\, Suite H\, Ewing\, NJ\, 08628\, United States
CATEGORIES:Babies/Toddler,Children,In person events,Siblings,SOCIAL
ORGANIZER;CN="Club DREAMS team":MAILTO:Clubdreams@dsacnj.org
END:VEVENT
BEGIN:VEVENT
DTSTART;TZID=UTC:20220316T160000
DTEND;TZID=UTC:20220316T180000
DTSTAMP:20260422T180944
CREATED:20220207T202321Z
LAST-MODIFIED:20220314T194858Z
UID:10000343-1647446400-1647453600@dsacnj.org
SUMMARY:Open Play Wednesdays 4:00-6:00pm Not Available 3/16
DESCRIPTION:Come join us for open play from 4-6pm at Club Dreams.  Cost is $10 for the first child and $5 for each additional child for NON-MEMBERS. See you there! \n\n\n\n\n\n\n\n\n\n\n \n\n\n\n 
URL:https://dsacnj.org/event/open-play-wednesdays-400-600pm-2022-03-16/
LOCATION:Club DREAMS\, 25 Scotch Rd.\, Suite H\, Ewing\, NJ\, 08628\, United States
CATEGORIES:Babies/Toddler,Children,ENRICHMENT,In person events,Parent/family socials (TBD),Siblings,SOCIAL,Teens
ORGANIZER;CN="Club DREAMS team":MAILTO:Clubdreams@dsacnj.org
END:VEVENT
BEGIN:VEVENT
DTSTART;TZID=UTC:20220316T093000
DTEND;TZID=UTC:20220316T103000
DTSTAMP:20260422T180944
CREATED:20220207T200357Z
LAST-MODIFIED:20220314T195139Z
UID:10000137-1647423000-1647426600@dsacnj.org
SUMMARY:Open Play Wednesdays 9:30-10:30am Not Available 3/16
DESCRIPTION:Come join us for Open Play on Wednesdays from 9:30-10:30am. The cost is $10 for the first child and $5 for each additional child.  See you there!
URL:https://dsacnj.org/event/open-play-wednesdays-930-1030am-2022-03-16/
LOCATION:Club DREAMS\, 25 Scotch Rd.\, Suite H\, Ewing\, NJ\, 08628\, United States
CATEGORIES:Babies/Toddler,Children,ENRICHMENT,In person events,Parent/family socials (TBD),Siblings,SOCIAL
ORGANIZER;CN="Club DREAMS team":MAILTO:Clubdreams@dsacnj.org
END:VEVENT
BEGIN:VEVENT
DTSTART;TZID=UTC:20220313T140000
DTEND;TZID=UTC:20220313T160000
DTSTAMP:20260422T180944
CREATED:20220223T235030Z
LAST-MODIFIED:20220223T235030Z
UID:10000363-1647180000-1647187200@dsacnj.org
SUMMARY:Shamrock T-Shirt Making Craft
DESCRIPTION:Join us for a fun craft!  Learn to make a shamrock on a t-shirt using paint and an eraser top!  All materials included. \nSunday\, March 13th from 2-4pm. \nSpots are limited. Register below.
URL:https://dsacnj.org/event/shamrock-t-shirt-making-craft/
LOCATION:Club DREAMS\, 25 Scotch Rd.\, Suite H\, Ewing\, NJ\, 08628\, United States
CATEGORIES:Arts/music,Children,ENRICHMENT,In person events,SOCIAL,Teens
ORGANIZER;CN="Club DREAMS team":MAILTO:Clubdreams@dsacnj.org
END:VEVENT
BEGIN:VEVENT
DTSTART;TZID=UTC:20220311T190000
DTEND;TZID=UTC:20220311T210000
DTSTAMP:20260422T180944
CREATED:20220223T223541Z
LAST-MODIFIED:20220223T223541Z
UID:10000355-1647025200-1647032400@dsacnj.org
SUMMARY:Kid & Movie Night Out
DESCRIPTION:Please join us for a fun kid and movie night out featuring the Disney movie Encanto! Cost is $10 per child and pizza; popcorn and drinks are included in that cost. \nDream Team Members are $5 \nAges 5-12. Space is limited. \nRegister below:
URL:https://dsacnj.org/event/kid-movie-night-out/
LOCATION:Club DREAMS\, 25 Scotch Rd.\, Suite H\, Ewing\, NJ\, 08628\, United States
CATEGORIES:Children,In person events,SOCIAL,SPECIAL EVENT
ORGANIZER;CN="Club DREAMS team":MAILTO:Clubdreams@dsacnj.org
END:VEVENT
BEGIN:VEVENT
DTSTART;TZID=UTC:20220311T180000
DTEND;TZID=UTC:20220311T183000
DTSTAMP:20260422T180944
CREATED:20220310T210544Z
LAST-MODIFIED:20220310T210601Z
UID:10000525-1647021600-1647023400@dsacnj.org
SUMMARY:Storytelling with Caroline
DESCRIPTION:Do you love listening to stories?  Join us for Storytelling with Caroline and listen to the story come alive! This is a VIRTUAL event.\n\nRegister below at https://us06web.zoom.us/meeting/register/tZMufu-vqj0jH90OkzOOg3WZZoO1HcbBqofi
URL:https://dsacnj.org/event/storytelling-with-caroline-2/2022-03-11/
LOCATION:Virtual Zoom
CATEGORIES:Children,ENRICHMENT,Online virtual events,Teens
ORGANIZER;CN="Club DREAMS team":MAILTO:Clubdreams@dsacnj.org
END:VEVENT
BEGIN:VEVENT
DTSTART;TZID=UTC:20220311T140000
DTEND;TZID=UTC:20220311T160000
DTSTAMP:20260422T180944
CREATED:20220304T214503Z
LAST-MODIFIED:20220304T214508Z
UID:10000365-1647007200-1647014400@dsacnj.org
SUMMARY:Open Play Friday 2-4p.m.
DESCRIPTION:Join us for Open Play on Friday\, March 11th from 2-4p.m.\n\nnon-member cost is $10 per child.\n\nnon-member cost is $5 per additional child
URL:https://dsacnj.org/event/open-play-friday-2-4p-m/
LOCATION:Club DREAMS\, 25 Scotch Rd.\, Suite H\, Ewing\, NJ\, 08628\, United States
CATEGORIES:Babies/Toddler,Children,In person events,Siblings,SOCIAL
ORGANIZER;CN="Club DREAMS team":MAILTO:Clubdreams@dsacnj.org
END:VEVENT
BEGIN:VEVENT
DTSTART;TZID=UTC:20220309T160000
DTEND;TZID=UTC:20220309T180000
DTSTAMP:20260422T180944
CREATED:20220207T202321Z
LAST-MODIFIED:20220302T200022Z
UID:10000140-1646841600-1646848800@dsacnj.org
SUMMARY:Open Play Wednesdays 4:00-6:00pm
DESCRIPTION:Come join us for open play from 4-6pm at Club Dreams.  Cost is $10 for the first child and $5 for each additional child for NON-MEMBERS. See you there!
URL:https://dsacnj.org/event/open-play-wednesdays-400-600pm/2022-03-09/
LOCATION:Club DREAMS\, 25 Scotch Rd.\, Suite H\, Ewing\, NJ\, 08628\, United States
CATEGORIES:Babies/Toddler,Children,ENRICHMENT,In person events,Parent/family socials (TBD),Siblings,SOCIAL,Teens
ORGANIZER;CN="Club DREAMS team":MAILTO:Clubdreams@dsacnj.org
END:VEVENT
BEGIN:VEVENT
DTSTART;TZID=UTC:20220309T093000
DTEND;TZID=UTC:20220309T103000
DTSTAMP:20260422T180944
CREATED:20220207T200357Z
LAST-MODIFIED:20220314T194956Z
UID:10000118-1646818200-1646821800@dsacnj.org
SUMMARY:Open Play Wednesdays 9:30-10:30am Not Available 3/16
DESCRIPTION:Come join us for Open Play on Wednesdays from 9:30-10:30am. The cost is $10 for the first child and $5 for each additional child.  See you there!
URL:https://dsacnj.org/event/open-play-wednesdays-930-1030am/2022-03-09/
LOCATION:Club DREAMS\, 25 Scotch Rd.\, Suite H\, Ewing\, NJ\, 08628\, United States
CATEGORIES:Babies/Toddler,Children,ENRICHMENT,In person events,Parent/family socials (TBD),Siblings,SOCIAL
ORGANIZER;CN="Club DREAMS team":MAILTO:Clubdreams@dsacnj.org
END:VEVENT
BEGIN:VEVENT
DTSTART;TZID=UTC:20220304T190000
DTEND;TZID=UTC:20220304T194500
DTSTAMP:20260422T180944
CREATED:20220223T220251Z
LAST-MODIFIED:20220302T001353Z
UID:10000353-1646420400-1646423100@dsacnj.org
SUMMARY:Barre Class with Ms. Gina
DESCRIPTION:Join us for a fun Barre class with Ms. Gina on March 4th from 7:00-7:45pm. This class will be offered both In-person and virtually. Limited spots available for in-person. Barre is a workout class combining ballet-inspired moves with elements of Pilates\, dance\, yoga\, and strength training. Most classes incorporate a ballet barre and use classic dance moves such as piles\, alongside static stretches. Barre also focuses on high reps of small range movements. REGISTER FOR VIRTUAL BELOW: https://us06web.zoom.us/meeting/register/tZUsd-yurTgpGdC9DiDQAUL3mg1IG5hsMaG7   \n\n\n\n\n\n\n\n\n\n 
URL:https://dsacnj.org/event/barre-class-with-ms-gina/
LOCATION:VIRTUAL OR ON SITE CLUB DREAMS\, 25 Scotch Rd\, Suite H\, Ewing\, NJ\, 08628\, United States
CATEGORIES:Children,ENRICHMENT,Fitness/dance/sports,In person events,Online virtual events,Teens
ORGANIZER;CN="Club DREAMS team":MAILTO:Clubdreams@dsacnj.org
END:VEVENT
BEGIN:VEVENT
DTSTART;TZID=UTC:20220302T160000
DTEND;TZID=UTC:20220302T180000
DTSTAMP:20260422T180944
CREATED:20220207T202321Z
LAST-MODIFIED:20220302T195715Z
UID:10000153-1646236800-1646244000@dsacnj.org
SUMMARY:Open Play Wednesdays 4:00-6:00pm
DESCRIPTION:Come join us for open play from 4-6pm at Club Dreams.  Cost is $10 for the first child and $5 for each additional child for NON-MEMBERS. See you there!
URL:https://dsacnj.org/event/open-play-wednesdays-400-600pm-2022-03-02/
LOCATION:Club DREAMS\, 25 Scotch Rd.\, Suite H\, Ewing\, NJ\, 08628\, United States
CATEGORIES:Babies/Toddler,Children,ENRICHMENT,In person events,Parent/family socials (TBD),Siblings,SOCIAL,Teens
ORGANIZER;CN="Club DREAMS team":MAILTO:Clubdreams@dsacnj.org
END:VEVENT
BEGIN:VEVENT
DTSTART;TZID=UTC:20220302T093000
DTEND;TZID=UTC:20220302T103000
DTSTAMP:20260422T180944
CREATED:20220207T200357Z
LAST-MODIFIED:20220314T194956Z
UID:10000117-1646213400-1646217000@dsacnj.org
SUMMARY:Open Play Wednesdays 9:30-10:30am Not Available 3/16
DESCRIPTION:Come join us for Open Play on Wednesdays from 9:30-10:30am. The cost is $10 for the first child and $5 for each additional child.  See you there!
URL:https://dsacnj.org/event/open-play-wednesdays-930-1030am/2022-03-02/
LOCATION:Club DREAMS\, 25 Scotch Rd.\, Suite H\, Ewing\, NJ\, 08628\, United States
CATEGORIES:Babies/Toddler,Children,ENRICHMENT,In person events,Parent/family socials (TBD),Siblings,SOCIAL
ORGANIZER;CN="Club DREAMS team":MAILTO:Clubdreams@dsacnj.org
END:VEVENT
BEGIN:VEVENT
DTSTART;TZID=UTC:20220227T100000
DTEND;TZID=UTC:20220227T130000
DTSTAMP:20260422T180944
CREATED:20220202T211710Z
LAST-MODIFIED:20220216T203131Z
UID:10000023-1645956000-1645966800@dsacnj.org
SUMMARY:Western Themed Photoshoot
DESCRIPTION:Kick off your boots and get ready to Rock Your Socks Off!  We are nearing the time of Rock Your Socks Off on March 20th! As we get closer\, we are hoping to spread the word to more communities of people. To do so\, we are hosting a photoshoot on February 27th from 10am – 1pm\, with the theme of Western featuring your children and our members! Accessories will be available. \n**Each family will get a 15 minute time slot. If you wish to add an additional time slot\, please purchase 2 tickets for each child.** \nFirst Child- $15 \nEach additional child- $5 \nDigital copies of all photos will be  provided following the shoot.\n\nPhotoshoot will be at Club DREAMS – 25 Scotch Rd – Suite H Ewing\, NJ
URL:https://dsacnj.org/event/western-themed-photoshoot/
LOCATION:Club DREAMS\, 25 Scotch Rd.\, Suite H\, Ewing\, NJ\, 08628\, United States
CATEGORIES:Adults 18+,Babies/Toddler,Children,In person events,Parent/family socials (TBD),Siblings,SOCIAL,SPECIAL EVENT,Teens
ORGANIZER;CN="Club DREAMS team":MAILTO:Clubdreams@dsacnj.org
END:VEVENT
BEGIN:VEVENT
DTSTART;TZID=UTC:20220223T160000
DTEND;TZID=UTC:20220223T180000
DTSTAMP:20260422T180944
CREATED:20220207T202321Z
LAST-MODIFIED:20220302T200022Z
UID:10000139-1645632000-1645639200@dsacnj.org
SUMMARY:Open Play Wednesdays 4:00-6:00pm
DESCRIPTION:Come join us for open play from 4-6pm at Club Dreams.  Cost is $10 for the first child and $5 for each additional child for NON-MEMBERS. See you there!
URL:https://dsacnj.org/event/open-play-wednesdays-400-600pm/2022-02-23/
LOCATION:Club DREAMS\, 25 Scotch Rd.\, Suite H\, Ewing\, NJ\, 08628\, United States
CATEGORIES:Babies/Toddler,Children,ENRICHMENT,In person events,Parent/family socials (TBD),Siblings,SOCIAL,Teens
ORGANIZER;CN="Club DREAMS team":MAILTO:Clubdreams@dsacnj.org
END:VEVENT
END:VCALENDAR