BEGIN:VCALENDAR
VERSION:2.0
PRODID:-//Down Syndrome Association of Central New Jersey - ECPv6.15.15//NONSGML v1.0//EN
CALSCALE:GREGORIAN
METHOD:PUBLISH
X-ORIGINAL-URL:https://dsacnj.org
X-WR-CALDESC:Events for Down Syndrome Association of Central New Jersey
REFRESH-INTERVAL;VALUE=DURATION:PT1H
X-Robots-Tag:noindex
X-PUBLISHED-TTL:PT1H
BEGIN:VTIMEZONE
TZID:UTC
BEGIN:STANDARD
TZOFFSETFROM:+0000
TZOFFSETTO:+0000
TZNAME:UTC
DTSTART:20200101T000000
END:STANDARD
END:VTIMEZONE
BEGIN:VEVENT
DTSTART;TZID=UTC:20211009T110000
DTEND;TZID=UTC:20211009T120000
DTSTAMP:20260423T021840
CREATED:20210825T202422Z
LAST-MODIFIED:20220108T025137Z
UID:10000143-1633777200-1633780800@dsacnj.org
SUMMARY:Arts and Crafts/Guided Drawing Saturday
DESCRIPTION:Join us at our center for guided drawing and other teen crafts! \n  \nREGISTER HERE FOR ONLINE \nONLINE ONLY TEMPORARILY
URL:https://dsacnj.org/event/artsandcrafts-saturday/2021-10-09/
LOCATION:Club DREAMS\, 25 Scotch Rd.\, Suite H\, Ewing\, NJ\, 08628\, United States
CATEGORIES:Adults 18+,Babies/Toddler,Children,ENRICHMENT,In person events,Teens
ORGANIZER;CN="Club DREAMS team":MAILTO:Clubdreams@dsacnj.org
END:VEVENT
BEGIN:VEVENT
DTSTART;TZID=UTC:20211004T161500
DTEND;TZID=UTC:20211004T164500
DTSTAMP:20260423T021840
CREATED:20210825T111112Z
LAST-MODIFIED:20220103T073647Z
UID:10000124-1633364100-1633365900@dsacnj.org
SUMMARY:Academic 1 (Monday)
DESCRIPTION:Academic sessions allow an opportunity to work on academic skills in a small group setting led by a Club DREAMS team member.  Sessions are fun and interactive yet review key academic skills in fields of math\, reading\, science\, geography\, time and money. All learners working on the skills for the content planned for the session are welcome to join.  Approximate age range for content is as follows: Level 1: under 7 learners; Level 2:  7-10 years;  Level 3:  11-13 years; Level 4:  14+ Years \nRegister Below. This link will register you all scheduled upcoming sessions – no commitment required.  Drop in and regular attendance welcome. After registering\, you will receive a confirmation email containing information about joining the meeting. \nREGISTER HERE FOR THIS VIRTUAL ONLY PROGRAM
URL:https://dsacnj.org/event/academic-1/2021-10-04/
LOCATION:
CATEGORIES:ACADEMICS,Children,Online virtual events
END:VEVENT
BEGIN:VEVENT
DTSTART;TZID=UTC:20211003T110000
DTEND;TZID=UTC:20211003T114500
DTSTAMP:20260423T021840
CREATED:20210826T021439Z
LAST-MODIFIED:20210908T044805Z
UID:10000195-1633258800-1633261500@dsacnj.org
SUMMARY:Parent and Me Movement and Music (Sunday)
DESCRIPTION:This program is designed for our youngest members to work on gross and fine motor skills while enjoying bonding with a parent and meeting new friends.   Run by a physical therapy assistant and one of our interns. Most appropriate for ages 5 and under. \nMusic will be integrated and rhythm.  This will be live in person at Club DREAMS and virtually streamed for those wishing to participate from home. \nREGISTER HERE FOR VIRTUAL PARTICIPATION FROM HOME \nREGISTER BELOW TO PARTICIPATE IN PERSON – Limited capacity for the safety of our members.
URL:https://dsacnj.org/event/mommy-and-me-movement-and-music/2021-10-03/
LOCATION:VIRTUAL OR ON SITE CLUB DREAMS\, 25 Scotch Rd\, Suite H\, Ewing\, NJ\, 08628\, United States
CATEGORIES:Arts/music,Babies/Toddler,Children,ENRICHMENT,Fitness/dance/sports,In person events,Online virtual events
ORGANIZER;CN="Club DREAMS team":MAILTO:Clubdreams@dsacnj.org
END:VEVENT
BEGIN:VEVENT
DTSTART;TZID=UTC:20210930T153000
DTEND;TZID=UTC:20210930T163000
DTSTAMP:20260423T021840
CREATED:20210825T102218Z
LAST-MODIFIED:20210908T044208Z
UID:10000112-1633015800-1633019400@dsacnj.org
SUMMARY:Homework Helpers (Thursday)
DESCRIPTION:This in person session is led by a college intern with experience teaching children and adults with Down syndrome.  Come in with your homework questions\, work on assignments\, work on academic goals.  We will request you to provide learning goals when participating in this session so that we can best meet your needs.  Capacity is limited.
URL:https://dsacnj.org/event/homework-helpers-2/2021-09-30/
LOCATION:Club DREAMS\, 25 Scotch Rd.\, Suite H\, Ewing\, NJ\, 08628\, United States
CATEGORIES:ACADEMICS,Adults 18+,Children,HOMEWORK HELPERS,In person events,Teens
END:VEVENT
BEGIN:VEVENT
DTSTART;TZID=UTC:20210928T170000
DTEND;TZID=UTC:20210928T183000
DTSTAMP:20260423T021840
CREATED:20210825T101633Z
LAST-MODIFIED:20210906T193223Z
UID:10000105-1632848400-1632853800@dsacnj.org
SUMMARY:Homework Helpers (Tuesday)
DESCRIPTION:This in person session is led by a certified teacher with special education background.  Come in with your homework questions\, work on assignments\, work on academic goals.  We will request you to provide learning goals when participating in this session so that we can best meet your needs.  Capacity is limited.
URL:https://dsacnj.org/event/homework-helpers/2021-09-28/
LOCATION:Club DREAMS\, 25 Scotch Rd.\, Suite H\, Ewing\, NJ\, 08628\, United States
CATEGORIES:ACADEMICS,Adults 18+,Children,HOMEWORK HELPERS,In person events,Teens
ORGANIZER;CN="Club DREAMS team":MAILTO:Clubdreams@dsacnj.org
END:VEVENT
BEGIN:VEVENT
DTSTART;TZID=UTC:20210927T161500
DTEND;TZID=UTC:20210927T164500
DTSTAMP:20260423T021840
CREATED:20210825T111112Z
LAST-MODIFIED:20220103T073647Z
UID:10000123-1632759300-1632761100@dsacnj.org
SUMMARY:Academic 1 (Monday)
DESCRIPTION:Academic sessions allow an opportunity to work on academic skills in a small group setting led by a Club DREAMS team member.  Sessions are fun and interactive yet review key academic skills in fields of math\, reading\, science\, geography\, time and money. All learners working on the skills for the content planned for the session are welcome to join.  Approximate age range for content is as follows: Level 1: under 7 learners; Level 2:  7-10 years;  Level 3:  11-13 years; Level 4:  14+ Years \nRegister Below. This link will register you all scheduled upcoming sessions – no commitment required.  Drop in and regular attendance welcome. After registering\, you will receive a confirmation email containing information about joining the meeting. \nREGISTER HERE FOR THIS VIRTUAL ONLY PROGRAM
URL:https://dsacnj.org/event/academic-1/2021-09-27/
LOCATION:
CATEGORIES:ACADEMICS,Children,Online virtual events
END:VEVENT
BEGIN:VEVENT
DTSTART;TZID=UTC:20210926T110000
DTEND;TZID=UTC:20210926T114500
DTSTAMP:20260423T021840
CREATED:20210826T021439Z
LAST-MODIFIED:20210908T044805Z
UID:10000194-1632654000-1632656700@dsacnj.org
SUMMARY:Parent and Me Movement and Music (Sunday)
DESCRIPTION:This program is designed for our youngest members to work on gross and fine motor skills while enjoying bonding with a parent and meeting new friends.   Run by a physical therapy assistant and one of our interns. Most appropriate for ages 5 and under. \nMusic will be integrated and rhythm.  This will be live in person at Club DREAMS and virtually streamed for those wishing to participate from home. \nREGISTER HERE FOR VIRTUAL PARTICIPATION FROM HOME \nREGISTER BELOW TO PARTICIPATE IN PERSON – Limited capacity for the safety of our members.
URL:https://dsacnj.org/event/mommy-and-me-movement-and-music/2021-09-26/
LOCATION:VIRTUAL OR ON SITE CLUB DREAMS\, 25 Scotch Rd\, Suite H\, Ewing\, NJ\, 08628\, United States
CATEGORIES:Arts/music,Babies/Toddler,Children,ENRICHMENT,Fitness/dance/sports,In person events,Online virtual events
ORGANIZER;CN="Club DREAMS team":MAILTO:Clubdreams@dsacnj.org
END:VEVENT
BEGIN:VEVENT
DTSTART;TZID=UTC:20210924T140000
DTEND;TZID=UTC:20210924T180000
DTSTAMP:20260423T021840
CREATED:20210924T192111Z
LAST-MODIFIED:20220216T201541Z
UID:10000011-1632492000-1632506400@dsacnj.org
SUMMARY:Open Play (ON HOLD)
DESCRIPTION:OPEN PLAY IS CURRENTLY ON HOLD- WE WILL UPDATE YOU WHEN OPEN PLAY IS BACK UP AND RUNNING! \nThank you for your understanding! 🙂 \n  \nOpen play allow participants to enjoy our space in the age appropriate area of the center.  Climb\, read\, write\, explore\, pretend\, get gaming! \nPlan to meet up with friends and other families to enjoy Club DREAMS. \nCapacity is limited.   Open play is opened to community for integrative play if space permits. \nIN PERSON ONLY \nIndividuals with Down syndrome and siblings free.  We love inclusive play and we invite community peers at $10 per session.    If your registration is confirmed please pay under donation page $10 to PayPal link and type Open play in comments.
URL:https://dsacnj.org/event/open-play-friday-2/
LOCATION:NJ
CATEGORIES:Babies/Toddler,Children,In person events,SOCIAL
ORGANIZER;CN="Club DREAMS team":MAILTO:Clubdreams@dsacnj.org
END:VEVENT
BEGIN:VEVENT
DTSTART;TZID=UTC:20210923T153000
DTEND;TZID=UTC:20210923T163000
DTSTAMP:20260423T021840
CREATED:20210825T102218Z
LAST-MODIFIED:20210908T044208Z
UID:10000111-1632411000-1632414600@dsacnj.org
SUMMARY:Homework Helpers (Thursday)
DESCRIPTION:This in person session is led by a college intern with experience teaching children and adults with Down syndrome.  Come in with your homework questions\, work on assignments\, work on academic goals.  We will request you to provide learning goals when participating in this session so that we can best meet your needs.  Capacity is limited.
URL:https://dsacnj.org/event/homework-helpers-2/2021-09-23/
LOCATION:Club DREAMS\, 25 Scotch Rd.\, Suite H\, Ewing\, NJ\, 08628\, United States
CATEGORIES:ACADEMICS,Adults 18+,Children,HOMEWORK HELPERS,In person events,Teens
END:VEVENT
BEGIN:VEVENT
DTSTART;TZID=UTC:20210921T170000
DTEND;TZID=UTC:20210921T183000
DTSTAMP:20260423T021840
CREATED:20210825T101633Z
LAST-MODIFIED:20210906T193223Z
UID:10000104-1632243600-1632249000@dsacnj.org
SUMMARY:Homework Helpers (Tuesday)
DESCRIPTION:This in person session is led by a certified teacher with special education background.  Come in with your homework questions\, work on assignments\, work on academic goals.  We will request you to provide learning goals when participating in this session so that we can best meet your needs.  Capacity is limited.
URL:https://dsacnj.org/event/homework-helpers/2021-09-21/
LOCATION:Club DREAMS\, 25 Scotch Rd.\, Suite H\, Ewing\, NJ\, 08628\, United States
CATEGORIES:ACADEMICS,Adults 18+,Children,HOMEWORK HELPERS,In person events,Teens
ORGANIZER;CN="Club DREAMS team":MAILTO:Clubdreams@dsacnj.org
END:VEVENT
BEGIN:VEVENT
DTSTART;TZID=UTC:20210920T161500
DTEND;TZID=UTC:20210920T164500
DTSTAMP:20260423T021840
CREATED:20210825T111112Z
LAST-MODIFIED:20220103T073647Z
UID:10000122-1632154500-1632156300@dsacnj.org
SUMMARY:Academic 1 (Monday)
DESCRIPTION:Academic sessions allow an opportunity to work on academic skills in a small group setting led by a Club DREAMS team member.  Sessions are fun and interactive yet review key academic skills in fields of math\, reading\, science\, geography\, time and money. All learners working on the skills for the content planned for the session are welcome to join.  Approximate age range for content is as follows: Level 1: under 7 learners; Level 2:  7-10 years;  Level 3:  11-13 years; Level 4:  14+ Years \nRegister Below. This link will register you all scheduled upcoming sessions – no commitment required.  Drop in and regular attendance welcome. After registering\, you will receive a confirmation email containing information about joining the meeting. \nREGISTER HERE FOR THIS VIRTUAL ONLY PROGRAM
URL:https://dsacnj.org/event/academic-1/2021-09-20/
LOCATION:
CATEGORIES:ACADEMICS,Children,Online virtual events
END:VEVENT
BEGIN:VEVENT
DTSTART;TZID=UTC:20210919T110000
DTEND;TZID=UTC:20210919T114500
DTSTAMP:20260423T021840
CREATED:20210826T021439Z
LAST-MODIFIED:20220608T013302Z
UID:10000206-1632049200-1632051900@dsacnj.org
SUMMARY:Parent and Me Movement and Music (Sunday)
DESCRIPTION:This program is designed for our youngest members to work on gross and fine motor skills while enjoying bonding with a parent and meeting new friends.   Run by a physical therapy assistant and one of our interns. Most appropriate for ages 5 and under. \nMusic will be integrated and rhythm.  This will be live in person at Club DREAMS and virtually streamed for those wishing to participate from home. \nREGISTER HERE FOR VIRTUAL PARTICIPATION FROM HOME \nREGISTER BELOW TO PARTICIPATE IN PERSON – Limited capacity for the safety of our members.
URL:https://dsacnj.org/event/mommy-and-me-movement-and-music-2021-09-19/
LOCATION:VIRTUAL OR ON SITE CLUB DREAMS\, 25 Scotch Rd\, Suite H\, Ewing\, NJ\, 08628\, United States
CATEGORIES:Arts/music,Babies/Toddler,Children,ENRICHMENT,Fitness/dance/sports,In person events,Online virtual events
ORGANIZER;CN="Club DREAMS team":MAILTO:Clubdreams@dsacnj.org
END:VEVENT
BEGIN:VEVENT
DTSTART;TZID=UTC:20210917T163000
DTEND;TZID=UTC:20210917T173000
DTSTAMP:20260423T021840
CREATED:20210903T225106Z
LAST-MODIFIED:20210903T225106Z
UID:10000239-1631896200-1631899800@dsacnj.org
SUMMARY:New Parent/Young Child Meet Up
DESCRIPTION:This program is for parent or relatives of young children (under 7) to come along with your children to meet up with other parents of young children.  The kids can enjoy. interacting and building friendships while the parents can share experiences and resources. \nAt this time program is limited to 5 children and parents on site at one time. We have over 3300 square feet of space to spread out and enjoy. \nSiblings are welcome to also enjoy support and friendship. \nMasks required for all those over 2 years old. \nIn Person only.
URL:https://dsacnj.org/event/new-parent-young-child-meet-up/
LOCATION:Club DREAMS\, 25 Scotch Rd.\, Suite H\, Ewing\, NJ\, 08628\, United States
CATEGORIES:Babies/Toddler,Children,FAMILY SUPPORT,In person events,Parent/family socials (TBD),Siblings
ORGANIZER;CN="Club DREAMS team":MAILTO:Clubdreams@dsacnj.org
END:VEVENT
BEGIN:VEVENT
DTSTART;TZID=UTC:20210916T153000
DTEND;TZID=UTC:20210916T163000
DTSTAMP:20260423T021840
CREATED:20210825T102218Z
LAST-MODIFIED:20210908T044208Z
UID:10000110-1631806200-1631809800@dsacnj.org
SUMMARY:Homework Helpers (Thursday)
DESCRIPTION:This in person session is led by a college intern with experience teaching children and adults with Down syndrome.  Come in with your homework questions\, work on assignments\, work on academic goals.  We will request you to provide learning goals when participating in this session so that we can best meet your needs.  Capacity is limited.
URL:https://dsacnj.org/event/homework-helpers-2/2021-09-16/
LOCATION:Club DREAMS\, 25 Scotch Rd.\, Suite H\, Ewing\, NJ\, 08628\, United States
CATEGORIES:ACADEMICS,Adults 18+,Children,HOMEWORK HELPERS,In person events,Teens
END:VEVENT
BEGIN:VEVENT
DTSTART;TZID=UTC:20210914T170000
DTEND;TZID=UTC:20210914T183000
DTSTAMP:20260423T021840
CREATED:20210825T101633Z
LAST-MODIFIED:20210906T193223Z
UID:10000103-1631638800-1631644200@dsacnj.org
SUMMARY:Homework Helpers (Tuesday)
DESCRIPTION:This in person session is led by a certified teacher with special education background.  Come in with your homework questions\, work on assignments\, work on academic goals.  We will request you to provide learning goals when participating in this session so that we can best meet your needs.  Capacity is limited.
URL:https://dsacnj.org/event/homework-helpers/2021-09-14/
LOCATION:Club DREAMS\, 25 Scotch Rd.\, Suite H\, Ewing\, NJ\, 08628\, United States
CATEGORIES:ACADEMICS,Adults 18+,Children,HOMEWORK HELPERS,In person events,Teens
ORGANIZER;CN="Club DREAMS team":MAILTO:Clubdreams@dsacnj.org
END:VEVENT
BEGIN:VEVENT
DTSTART;TZID=UTC:20210913T161500
DTEND;TZID=UTC:20210913T164500
DTSTAMP:20260423T021840
CREATED:20210825T111112Z
LAST-MODIFIED:20220103T073647Z
UID:10000121-1631549700-1631551500@dsacnj.org
SUMMARY:Academic 1 (Monday)
DESCRIPTION:Academic sessions allow an opportunity to work on academic skills in a small group setting led by a Club DREAMS team member.  Sessions are fun and interactive yet review key academic skills in fields of math\, reading\, science\, geography\, time and money. All learners working on the skills for the content planned for the session are welcome to join.  Approximate age range for content is as follows: Level 1: under 7 learners; Level 2:  7-10 years;  Level 3:  11-13 years; Level 4:  14+ Years \nRegister Below. This link will register you all scheduled upcoming sessions – no commitment required.  Drop in and regular attendance welcome. After registering\, you will receive a confirmation email containing information about joining the meeting. \nREGISTER HERE FOR THIS VIRTUAL ONLY PROGRAM
URL:https://dsacnj.org/event/academic-1/2021-09-13/
LOCATION:
CATEGORIES:ACADEMICS,Children,Online virtual events
END:VEVENT
BEGIN:VEVENT
DTSTART;TZID=UTC:20210912T110000
DTEND;TZID=UTC:20210912T114500
DTSTAMP:20260423T021840
CREATED:20210826T021439Z
LAST-MODIFIED:20210908T044805Z
UID:10000193-1631444400-1631447100@dsacnj.org
SUMMARY:Parent and Me Movement and Music (Sunday)
DESCRIPTION:This program is designed for our youngest members to work on gross and fine motor skills while enjoying bonding with a parent and meeting new friends.   Run by a physical therapy assistant and one of our interns. Most appropriate for ages 5 and under. \nMusic will be integrated and rhythm.  This will be live in person at Club DREAMS and virtually streamed for those wishing to participate from home. \nREGISTER HERE FOR VIRTUAL PARTICIPATION FROM HOME \nREGISTER BELOW TO PARTICIPATE IN PERSON – Limited capacity for the safety of our members.
URL:https://dsacnj.org/event/mommy-and-me-movement-and-music/2021-09-12/
LOCATION:VIRTUAL OR ON SITE CLUB DREAMS\, 25 Scotch Rd\, Suite H\, Ewing\, NJ\, 08628\, United States
CATEGORIES:Arts/music,Babies/Toddler,Children,ENRICHMENT,Fitness/dance/sports,In person events,Online virtual events
ORGANIZER;CN="Club DREAMS team":MAILTO:Clubdreams@dsacnj.org
END:VEVENT
BEGIN:VEVENT
DTSTART;TZID=UTC:20210910T130000
DTEND;TZID=UTC:20210910T180000
DTSTAMP:20260423T021840
CREATED:20210906T045617Z
LAST-MODIFIED:20220216T201402Z
UID:10000002-1631278800-1631296800@dsacnj.org
SUMMARY:Open Play (ON HOLD)
DESCRIPTION:Open play allow participants to enjoy our space in the age appropriate area of the center.  Climb\, read\, write\, explore\, pretend\, get gaming! \nPlan to meet up with friends and other families to enjoy Club DREAMS. \nCapacity is limited.   Open play is opened to community for integrative play if space permits. \nIN PERSON ONLY \nIndividuals with Down syndrome and siblings free.  We love inclusive play and we invite community peers at $10 per session.    If your registration is confirmed please pay under donation page $10 to PayPal link and type Open play in comments.
URL:https://dsacnj.org/event/open-play-friday/2021-09-10/
LOCATION:Club DREAMS\, 25 Scotch Rd.\, Suite H\, Ewing\, NJ\, 08628\, United States
CATEGORIES:Adults 18+,Babies/Toddler,Children,FAMILY SUPPORT,In person events,Parent/family socials (TBD),Siblings,SOCIAL,Teens
ORGANIZER;CN="Club DREAMS team":MAILTO:Clubdreams@dsacnj.org
END:VEVENT
BEGIN:VEVENT
DTSTART;TZID=UTC:20210909T153000
DTEND;TZID=UTC:20210909T163000
DTSTAMP:20260423T021840
CREATED:20210825T102218Z
LAST-MODIFIED:20210908T044208Z
UID:10000109-1631201400-1631205000@dsacnj.org
SUMMARY:Homework Helpers (Thursday)
DESCRIPTION:This in person session is led by a college intern with experience teaching children and adults with Down syndrome.  Come in with your homework questions\, work on assignments\, work on academic goals.  We will request you to provide learning goals when participating in this session so that we can best meet your needs.  Capacity is limited.
URL:https://dsacnj.org/event/homework-helpers-2/2021-09-09/
LOCATION:Club DREAMS\, 25 Scotch Rd.\, Suite H\, Ewing\, NJ\, 08628\, United States
CATEGORIES:ACADEMICS,Adults 18+,Children,HOMEWORK HELPERS,In person events,Teens
END:VEVENT
BEGIN:VEVENT
DTSTART;TZID=UTC:20210908T140000
DTEND;TZID=UTC:20210908T160000
DTSTAMP:20260423T021840
CREATED:20210825T104911Z
LAST-MODIFIED:20210922T210743Z
UID:10000120-1631109600-1631116800@dsacnj.org
SUMMARY:
DESCRIPTION:Open play allow participants to enjoy our space in the age appropriate area of the center.  Climb\, read\, write\, explore\, pretend\, get gaming! \nPlan to meet up with friends and other families to enjoy Club DREAMS. \nCapacity is limited.   Open play is opened to community for integrative play if space permits. \nIN PERSON ONLY \nIndividuals with Down syndrome and siblings free.  We love inclusive play and we invite community peers at $10 per session.    If your registration is confirmed please pay under donation page $10 to PayPal link and type Open play in comments.
URL:https://dsacnj.org/event/open-play/
LOCATION:Club DREAMS\, 25 Scotch Rd.\, Suite H\, Ewing\, NJ\, 08628\, United States
CATEGORIES:Adults 18+,Babies/Toddler,Children,FAMILY SUPPORT,In person events,Parent/family socials (TBD),Siblings,SOCIAL,Teens
ORGANIZER;CN="Club DREAMS team":MAILTO:Clubdreams@dsacnj.org
END:VEVENT
BEGIN:VEVENT
DTSTART;TZID=UTC:20210907T170000
DTEND;TZID=UTC:20210907T183000
DTSTAMP:20260423T021840
CREATED:20210825T101633Z
LAST-MODIFIED:20210906T193223Z
UID:10000102-1631034000-1631039400@dsacnj.org
SUMMARY:Homework Helpers (Tuesday)
DESCRIPTION:This in person session is led by a certified teacher with special education background.  Come in with your homework questions\, work on assignments\, work on academic goals.  We will request you to provide learning goals when participating in this session so that we can best meet your needs.  Capacity is limited.
URL:https://dsacnj.org/event/homework-helpers/2021-09-07/
LOCATION:Club DREAMS\, 25 Scotch Rd.\, Suite H\, Ewing\, NJ\, 08628\, United States
CATEGORIES:ACADEMICS,Adults 18+,Children,HOMEWORK HELPERS,In person events,Teens
ORGANIZER;CN="Club DREAMS team":MAILTO:Clubdreams@dsacnj.org
END:VEVENT
BEGIN:VEVENT
DTSTART;TZID=UTC:20210826T000000
DTEND;TZID=UTC:20210826T000000
DTSTAMP:20260423T021840
CREATED:20210826T083005Z
LAST-MODIFIED:20210906T193658Z
UID:10000232-1629936000-1629936000@dsacnj.org
SUMMARY:DANCE NIGHT
DESCRIPTION:Dance activities and games\, line dances and party music. Get together with friends to practice social dances\, tiktok dances or play dance games.\nAges 13+ \nSlice of pizza and drinks will be provided. \nLive on site at Club DREAMS – limited capacity. \nIf you would like to join virtually 30 minutes of the event will be live streamed. \nREGISTER HERE FOR VIRTUAL  \nREGISTER FOR LIVE ATTENDANCE \n  \n  \n 
URL:https://dsacnj.org/event/dance-night-2/
LOCATION:NJ
CATEGORIES:Adults 18+,Children,ENRICHMENT,In person events,Online virtual events,Siblings,SOCIAL,SPECIAL EVENT,Teens
END:VEVENT
BEGIN:VEVENT
DTSTART;TZID=UTC:20210310T180000
DTEND;TZID=UTC:20220310T193000
DTSTAMP:20260423T021840
CREATED:20220223T225848Z
LAST-MODIFIED:20220310T211721Z
UID:10000359-1615399200-1646940600@dsacnj.org
SUMMARY:Leprechaun Trap Building Craft
DESCRIPTION:Want to try to catch a leprechaun?  Join us for a leprechaun trap building craft. All materials included. Thursday\, March 10th from 6-7:30pm. Space is limited. Register Below. \n\n\n\n\n\n\n\n\n\n 
URL:https://dsacnj.org/event/leprechaun-trap-building-craft/
LOCATION:Club DREAMS\, 25 Scotch Rd.\, Suite H\, Ewing\, NJ\, 08628\, United States
CATEGORIES:Arts/music,Children,ENRICHMENT,In person events,SOCIAL,Teens
ORGANIZER;CN="Club DREAMS team":MAILTO:Clubdreams@dsacnj.org
END:VEVENT
END:VCALENDAR