BEGIN:VCALENDAR
VERSION:2.0
PRODID:-//Down Syndrome Association of Central New Jersey - ECPv6.15.15//NONSGML v1.0//EN
CALSCALE:GREGORIAN
METHOD:PUBLISH
X-ORIGINAL-URL:https://dsacnj.org
X-WR-CALDESC:Events for Down Syndrome Association of Central New Jersey
REFRESH-INTERVAL;VALUE=DURATION:PT1H
X-Robots-Tag:noindex
X-PUBLISHED-TTL:PT1H
BEGIN:VTIMEZONE
TZID:UTC
BEGIN:STANDARD
TZOFFSETFROM:+0000
TZOFFSETTO:+0000
TZNAME:UTC
DTSTART:20210101T000000
END:STANDARD
END:VTIMEZONE
BEGIN:VEVENT
DTSTART;TZID=UTC:20220801T130000
DTEND;TZID=UTC:20220801T153000
DTSTAMP:20260421T150156
CREATED:20220421T221955Z
LAST-MODIFIED:20220727T195453Z
UID:10000290-1659358800-1659367800@dsacnj.org
SUMMARY:Summer Camp
DESCRIPTION:Club DREAMS Summer Camp! August 1-5th 1-4p.m. Join us for a fun and exciting Great Outdoors themed Summer Camp! Each day will be a different outdoor world to explore and activities that are specific to that theme\, Music\, arts and crafts\, outdoor playtime\, games and other fun activities will all be provided. You will receive a daily itinerary so you know exactly what your child will be doing that day. Cost is $125 per camper. Spots are limited. Sign up today! Grades K-5th & 6-12th. You Must REGISTER & PURCHASE A TICKET BELOW \n\n\n\n\n\n\n\n\n\n\n \n\n\n\n 
URL:https://dsacnj.org/event/summer-camp-2/2022-08-01/
LOCATION:Club DREAMS\, 25 Scotch Rd.\, Suite H\, Ewing\, NJ\, 08628\, United States
CATEGORIES:ACADEMICS,Arts/music,CAMPS,Children,ENRICHMENT,Fitness/dance/sports,In person events,Siblings,SOCIAL,SPECIAL EVENT,Teens
ORGANIZER;CN="Club DREAMS team":MAILTO:Clubdreams@dsacnj.org
END:VEVENT
BEGIN:VEVENT
DTSTART;TZID=UTC:20220722T120000
DTEND;TZID=UTC:20220722T160000
DTSTAMP:20260421T150156
CREATED:20220421T220831Z
LAST-MODIFIED:20220506T235103Z
UID:10000328-1658491200-1658505600@dsacnj.org
SUMMARY:Summer Camp
DESCRIPTION:Club DREAMS Summer Camp! July 18th -22nd 12-4p.m. Join us for a fun and exciting Around the World themed Summer Camp! Each day will be a different Country and activities that are specific to that theme\, Music\, arts and crafts\, outdoor playtime\, lunch\, games and other fun activities will all be provided. You will receive a daily itinerary so you know exactly what your child will be doing that day. Cost is $180 per camper. Spots are limited. Sign up today! Grades K-5th & 6-12th. \nYou Must REGISTER & PURCHASE A TICKET BELOW \n\n\n\n\n\n\n\n\n\n\n \n\n\n\n 
URL:https://dsacnj.org/event/8365/2022-07-22/
LOCATION:Club DREAMS\, 25 Scotch Rd.\, Suite H\, Ewing\, NJ\, 08628\, United States
CATEGORIES:ACADEMICS,Arts/music,CAMPS,Children,ENRICHMENT,Fitness/dance/sports,In person events,Siblings,SOCIAL,SPECIAL EVENT,Teens
ORGANIZER;CN="Club DREAMS team":MAILTO:Clubdreams@dsacnj.org
END:VEVENT
BEGIN:VEVENT
DTSTART;TZID=UTC:20220721T120000
DTEND;TZID=UTC:20220721T160000
DTSTAMP:20260421T150156
CREATED:20220421T220831Z
LAST-MODIFIED:20220506T235103Z
UID:10000327-1658404800-1658419200@dsacnj.org
SUMMARY:Summer Camp
DESCRIPTION:Club DREAMS Summer Camp! July 18th -22nd 12-4p.m. Join us for a fun and exciting Around the World themed Summer Camp! Each day will be a different Country and activities that are specific to that theme\, Music\, arts and crafts\, outdoor playtime\, lunch\, games and other fun activities will all be provided. You will receive a daily itinerary so you know exactly what your child will be doing that day. Cost is $180 per camper. Spots are limited. Sign up today! Grades K-5th & 6-12th. \nYou Must REGISTER & PURCHASE A TICKET BELOW \n\n\n\n\n\n\n\n\n\n\n \n\n\n\n 
URL:https://dsacnj.org/event/8365/2022-07-21/
LOCATION:Club DREAMS\, 25 Scotch Rd.\, Suite H\, Ewing\, NJ\, 08628\, United States
CATEGORIES:ACADEMICS,Arts/music,CAMPS,Children,ENRICHMENT,Fitness/dance/sports,In person events,Siblings,SOCIAL,SPECIAL EVENT,Teens
ORGANIZER;CN="Club DREAMS team":MAILTO:Clubdreams@dsacnj.org
END:VEVENT
BEGIN:VEVENT
DTSTART;TZID=UTC:20220720T120000
DTEND;TZID=UTC:20220720T160000
DTSTAMP:20260421T150156
CREATED:20220421T220831Z
LAST-MODIFIED:20220506T235103Z
UID:10000326-1658318400-1658332800@dsacnj.org
SUMMARY:Summer Camp
DESCRIPTION:Club DREAMS Summer Camp! July 18th -22nd 12-4p.m. Join us for a fun and exciting Around the World themed Summer Camp! Each day will be a different Country and activities that are specific to that theme\, Music\, arts and crafts\, outdoor playtime\, lunch\, games and other fun activities will all be provided. You will receive a daily itinerary so you know exactly what your child will be doing that day. Cost is $180 per camper. Spots are limited. Sign up today! Grades K-5th & 6-12th. \nYou Must REGISTER & PURCHASE A TICKET BELOW \n\n\n\n\n\n\n\n\n\n\n \n\n\n\n 
URL:https://dsacnj.org/event/8365/2022-07-20/
LOCATION:Club DREAMS\, 25 Scotch Rd.\, Suite H\, Ewing\, NJ\, 08628\, United States
CATEGORIES:ACADEMICS,Arts/music,CAMPS,Children,ENRICHMENT,Fitness/dance/sports,In person events,Siblings,SOCIAL,SPECIAL EVENT,Teens
ORGANIZER;CN="Club DREAMS team":MAILTO:Clubdreams@dsacnj.org
END:VEVENT
BEGIN:VEVENT
DTSTART;TZID=UTC:20220719T120000
DTEND;TZID=UTC:20220719T160000
DTSTAMP:20260421T150156
CREATED:20220421T220831Z
LAST-MODIFIED:20220506T235103Z
UID:10000325-1658232000-1658246400@dsacnj.org
SUMMARY:Summer Camp
DESCRIPTION:Club DREAMS Summer Camp! July 18th -22nd 12-4p.m. Join us for a fun and exciting Around the World themed Summer Camp! Each day will be a different Country and activities that are specific to that theme\, Music\, arts and crafts\, outdoor playtime\, lunch\, games and other fun activities will all be provided. You will receive a daily itinerary so you know exactly what your child will be doing that day. Cost is $180 per camper. Spots are limited. Sign up today! Grades K-5th & 6-12th. \nYou Must REGISTER & PURCHASE A TICKET BELOW \n\n\n\n\n\n\n\n\n\n\n \n\n\n\n 
URL:https://dsacnj.org/event/8365/2022-07-19/
LOCATION:Club DREAMS\, 25 Scotch Rd.\, Suite H\, Ewing\, NJ\, 08628\, United States
CATEGORIES:ACADEMICS,Arts/music,CAMPS,Children,ENRICHMENT,Fitness/dance/sports,In person events,Siblings,SOCIAL,SPECIAL EVENT,Teens
ORGANIZER;CN="Club DREAMS team":MAILTO:Clubdreams@dsacnj.org
END:VEVENT
BEGIN:VEVENT
DTSTART;TZID=UTC:20220718T120000
DTEND;TZID=UTC:20220718T160000
DTSTAMP:20260421T150156
CREATED:20220421T220831Z
LAST-MODIFIED:20220506T235103Z
UID:10000324-1658145600-1658160000@dsacnj.org
SUMMARY:Summer Camp
DESCRIPTION:Club DREAMS Summer Camp! July 18th -22nd 12-4p.m. Join us for a fun and exciting Around the World themed Summer Camp! Each day will be a different Country and activities that are specific to that theme\, Music\, arts and crafts\, outdoor playtime\, lunch\, games and other fun activities will all be provided. You will receive a daily itinerary so you know exactly what your child will be doing that day. Cost is $180 per camper. Spots are limited. Sign up today! Grades K-5th & 6-12th. \nYou Must REGISTER & PURCHASE A TICKET BELOW \n\n\n\n\n\n\n\n\n\n\n \n\n\n\n 
URL:https://dsacnj.org/event/8365/2022-07-18/
LOCATION:Club DREAMS\, 25 Scotch Rd.\, Suite H\, Ewing\, NJ\, 08628\, United States
CATEGORIES:ACADEMICS,Arts/music,CAMPS,Children,ENRICHMENT,Fitness/dance/sports,In person events,Siblings,SOCIAL,SPECIAL EVENT,Teens
ORGANIZER;CN="Club DREAMS team":MAILTO:Clubdreams@dsacnj.org
END:VEVENT
BEGIN:VEVENT
DTSTART;TZID=UTC:20220624T090000
DTEND;TZID=UTC:20220624T130000
DTSTAMP:20260421T150156
CREATED:20220412T204855Z
LAST-MODIFIED:20220608T182959Z
UID:10000311-1656061200-1656075600@dsacnj.org
SUMMARY:Summer Camp
DESCRIPTION:Club DREAMS Summer Camp! June 20-24th 9-1p.m Join us for a fun and exciting Disney themed Summer Camp! Each day will be a different Disney movie theme and activities that are specific to that theme\, Music\, arts and crafts\, outdoor playtime\, lunch\, games and other fun activities will all be provided. You will receive a daily itinerary so you know exactly what your child will be doing that day. Cost is $180 per camper. Spots are limited. Sign up today! Grades K-5th & 6-12th. You Must REGISTER & PURCHASE A TICKET BELOW \n\n\n\n\n\n\n\n\n\n\n \n\n\n\n 
URL:https://dsacnj.org/event/summer-camp/2022-06-24/
LOCATION:Club DREAMS\, 25 Scotch Rd.\, Suite H\, Ewing\, NJ\, 08628\, United States
CATEGORIES:ACADEMICS,Arts/music,CAMPS,ENRICHMENT,Fitness/dance/sports,In person events,Siblings,SOCIAL,SPECIAL EVENT,Teens
ORGANIZER;CN="Club DREAMS team":MAILTO:Clubdreams@dsacnj.org
END:VEVENT
BEGIN:VEVENT
DTSTART;TZID=UTC:20220623T090000
DTEND;TZID=UTC:20220623T130000
DTSTAMP:20260421T150156
CREATED:20220412T204855Z
LAST-MODIFIED:20220608T182959Z
UID:10000310-1655974800-1655989200@dsacnj.org
SUMMARY:Summer Camp
DESCRIPTION:Club DREAMS Summer Camp! June 20-24th 9-1p.m Join us for a fun and exciting Disney themed Summer Camp! Each day will be a different Disney movie theme and activities that are specific to that theme\, Music\, arts and crafts\, outdoor playtime\, lunch\, games and other fun activities will all be provided. You will receive a daily itinerary so you know exactly what your child will be doing that day. Cost is $180 per camper. Spots are limited. Sign up today! Grades K-5th & 6-12th. You Must REGISTER & PURCHASE A TICKET BELOW \n\n\n\n\n\n\n\n\n\n\n \n\n\n\n 
URL:https://dsacnj.org/event/summer-camp/2022-06-23/
LOCATION:Club DREAMS\, 25 Scotch Rd.\, Suite H\, Ewing\, NJ\, 08628\, United States
CATEGORIES:ACADEMICS,Arts/music,CAMPS,ENRICHMENT,Fitness/dance/sports,In person events,Siblings,SOCIAL,SPECIAL EVENT,Teens
ORGANIZER;CN="Club DREAMS team":MAILTO:Clubdreams@dsacnj.org
END:VEVENT
BEGIN:VEVENT
DTSTART;TZID=UTC:20220622T090000
DTEND;TZID=UTC:20220622T130000
DTSTAMP:20260421T150156
CREATED:20220412T204855Z
LAST-MODIFIED:20220608T182959Z
UID:10000309-1655888400-1655902800@dsacnj.org
SUMMARY:Summer Camp
DESCRIPTION:Club DREAMS Summer Camp! June 20-24th 9-1p.m Join us for a fun and exciting Disney themed Summer Camp! Each day will be a different Disney movie theme and activities that are specific to that theme\, Music\, arts and crafts\, outdoor playtime\, lunch\, games and other fun activities will all be provided. You will receive a daily itinerary so you know exactly what your child will be doing that day. Cost is $180 per camper. Spots are limited. Sign up today! Grades K-5th & 6-12th. You Must REGISTER & PURCHASE A TICKET BELOW \n\n\n\n\n\n\n\n\n\n\n \n\n\n\n 
URL:https://dsacnj.org/event/summer-camp/2022-06-22/
LOCATION:Club DREAMS\, 25 Scotch Rd.\, Suite H\, Ewing\, NJ\, 08628\, United States
CATEGORIES:ACADEMICS,Arts/music,CAMPS,ENRICHMENT,Fitness/dance/sports,In person events,Siblings,SOCIAL,SPECIAL EVENT,Teens
ORGANIZER;CN="Club DREAMS team":MAILTO:Clubdreams@dsacnj.org
END:VEVENT
BEGIN:VEVENT
DTSTART;TZID=UTC:20220621T090000
DTEND;TZID=UTC:20220621T130000
DTSTAMP:20260421T150156
CREATED:20220412T204855Z
LAST-MODIFIED:20220608T182959Z
UID:10000308-1655802000-1655816400@dsacnj.org
SUMMARY:Summer Camp
DESCRIPTION:Club DREAMS Summer Camp! June 20-24th 9-1p.m Join us for a fun and exciting Disney themed Summer Camp! Each day will be a different Disney movie theme and activities that are specific to that theme\, Music\, arts and crafts\, outdoor playtime\, lunch\, games and other fun activities will all be provided. You will receive a daily itinerary so you know exactly what your child will be doing that day. Cost is $180 per camper. Spots are limited. Sign up today! Grades K-5th & 6-12th. You Must REGISTER & PURCHASE A TICKET BELOW \n\n\n\n\n\n\n\n\n\n\n \n\n\n\n 
URL:https://dsacnj.org/event/summer-camp/2022-06-21/
LOCATION:Club DREAMS\, 25 Scotch Rd.\, Suite H\, Ewing\, NJ\, 08628\, United States
CATEGORIES:ACADEMICS,Arts/music,CAMPS,ENRICHMENT,Fitness/dance/sports,In person events,Siblings,SOCIAL,SPECIAL EVENT,Teens
ORGANIZER;CN="Club DREAMS team":MAILTO:Clubdreams@dsacnj.org
END:VEVENT
BEGIN:VEVENT
DTSTART;TZID=UTC:20220620T090000
DTEND;TZID=UTC:20220620T130000
DTSTAMP:20260421T150156
CREATED:20220412T204855Z
LAST-MODIFIED:20220608T182959Z
UID:10000307-1655715600-1655730000@dsacnj.org
SUMMARY:Summer Camp
DESCRIPTION:Club DREAMS Summer Camp! June 20-24th 9-1p.m Join us for a fun and exciting Disney themed Summer Camp! Each day will be a different Disney movie theme and activities that are specific to that theme\, Music\, arts and crafts\, outdoor playtime\, lunch\, games and other fun activities will all be provided. You will receive a daily itinerary so you know exactly what your child will be doing that day. Cost is $180 per camper. Spots are limited. Sign up today! Grades K-5th & 6-12th. You Must REGISTER & PURCHASE A TICKET BELOW \n\n\n\n\n\n\n\n\n\n\n \n\n\n\n 
URL:https://dsacnj.org/event/summer-camp/2022-06-20/
LOCATION:Club DREAMS\, 25 Scotch Rd.\, Suite H\, Ewing\, NJ\, 08628\, United States
CATEGORIES:ACADEMICS,Arts/music,CAMPS,ENRICHMENT,Fitness/dance/sports,In person events,Siblings,SOCIAL,SPECIAL EVENT,Teens
ORGANIZER;CN="Club DREAMS team":MAILTO:Clubdreams@dsacnj.org
END:VEVENT
BEGIN:VEVENT
DTSTART;TZID=UTC:20220617T140000
DTEND;TZID=UTC:20220617T160000
DTSTAMP:20260421T150156
CREATED:20220401T184624Z
LAST-MODIFIED:20220608T190656Z
UID:10000544-1655474400-1655481600@dsacnj.org
SUMMARY:Open Play
DESCRIPTION:Join us for Open Play every Friday from 2-4p.m. Our center offers a wide range of activities for all age groups.  Come check out our center\, mingle and relax while your kids play and have fun!   \n\n\n\n\n\n\n\n\n\n 
URL:https://dsacnj.org/event/open-play-3-2022-04-15-2022-06-17/
LOCATION:Club DREAMS\, 25 Scotch Rd.\, Suite H\, Ewing\, NJ\, 08628\, United States
CATEGORIES:Babies/Toddler,Children,In person events,Parent/family socials (TBD),Siblings,SOCIAL,Teens
ORGANIZER;CN="Club DREAMS team":MAILTO:Clubdreams@dsacnj.org
END:VEVENT
BEGIN:VEVENT
DTSTART;TZID=UTC:20220615T140000
DTEND;TZID=UTC:20220615T160000
DTSTAMP:20260421T150156
CREATED:20220608T190420Z
LAST-MODIFIED:20220608T190420Z
UID:10000227-1655301600-1655308800@dsacnj.org
SUMMARY:Open Play
DESCRIPTION:Join us for Open Play from 2-4p.m.  Come enjoy our amazing center and all it has to offer. Areas of fun for crawlers up to teens!
URL:https://dsacnj.org/event/open-play-4/
LOCATION:Club DREAMS\, 25 Scotch Rd.\, Suite H\, Ewing\, NJ\, 08628\, United States
CATEGORIES:Babies/Toddler,Children,In person events,Parent/family socials (TBD),Siblings,SOCIAL,Teens
ORGANIZER;CN="Club DREAMS team":MAILTO:Clubdreams@dsacnj.org
END:VEVENT
BEGIN:VEVENT
DTSTART;TZID=UTC:20220601T140000
DTEND;TZID=UTC:20220601T160000
DTSTAMP:20260421T150156
CREATED:20220401T184624Z
LAST-MODIFIED:20220608T191752Z
UID:10000545-1654092000-1654099200@dsacnj.org
SUMMARY:Open Play
DESCRIPTION:Join us for Open Play every Friday from 2-4p.m. Our center offers a wide range of activities for all age groups.  Come check out our center\, mingle and relax while your kids play and have fun!   \n\n\n\n\n\n\n\n\n\n 
URL:https://dsacnj.org/event/open-play-3-2022-04-15-2022-06-24/
LOCATION:Club DREAMS\, 25 Scotch Rd.\, Suite H\, Ewing\, NJ\, 08628\, United States
CATEGORIES:Babies/Toddler,Children,In person events,Siblings,SOCIAL,Teens
ORGANIZER;CN="Club DREAMS team":MAILTO:Clubdreams@dsacnj.org
END:VEVENT
BEGIN:VEVENT
DTSTART;TZID=UTC:20220501T170000
DTEND;TZID=UTC:20220501T173000
DTSTAMP:20260421T150156
CREATED:20210823T003552Z
LAST-MODIFIED:20220502T205653Z
UID:10000021-1651424400-1651426200@dsacnj.org
SUMMARY:American Sign Language (Tuesday)
DESCRIPTION:We will review some key sign language vocabulary to help with communication in a fun and interactive session. All ages welcome. This event will have a virtual teacher that can be observed on site from Club DREAMS for our in person participants or you can register to participate from home. Be sure to choose the correct registration option below. If you register as a virtual participant but decide to come to Club DREAMS on certain days\, please register again for in person option using link below on the dates you choose to come in person. REGISTER FOR VIRTUAL PARTICIPATION FROM HOME HERE.  Registration will schedule you for all sessions in our fall season – no commitment is required. Drop in and regular attendance welcome. After registering\, you will receive a confirmation email containing information about joining the meeting. THIS PROGRAM IS VIRTUAL ONLY! \n\n\n\n\n\n\n\n\n\n 
URL:https://dsacnj.org/event/american-sign-language-topic-tbd/
LOCATION:Virtual Zoom
CATEGORIES:Adults 18+,Babies/Toddler,Children,ENRICHMENT,Online virtual events,Siblings,Teens
END:VEVENT
BEGIN:VEVENT
DTSTART;TZID=UTC:20220415T140000
DTEND;TZID=UTC:20220415T160000
DTSTAMP:20260421T150156
CREATED:20220401T184624Z
LAST-MODIFIED:20220408T183930Z
UID:10000542-1650031200-1650038400@dsacnj.org
SUMMARY:Open Play Friday
DESCRIPTION:Join us for Open Play every Friday from 2-4p.m. Our center offers a wide range of activities for all age groups.  Come check out our center\, mingle and relax while your kids play and have fun!   \n\n\n\n\n\n\n\n\n\n\n \n\n\n\n 
URL:https://dsacnj.org/event/open-play-3/
LOCATION:Club DREAMS\, 25 Scotch Rd.\, Suite H\, Ewing\, NJ\, 08628\, United States
CATEGORIES:Babies/Toddler,Children,In person events,Siblings,SOCIAL,Teens
ORGANIZER;CN="Club DREAMS team":MAILTO:Clubdreams@dsacnj.org
END:VEVENT
BEGIN:VEVENT
DTSTART;TZID=UTC:20220409T093000
DTEND;TZID=UTC:20220409T120000
DTSTAMP:20260421T150156
CREATED:20220316T192221Z
LAST-MODIFIED:20220316T192223Z
UID:10000535-1649496600-1649505600@dsacnj.org
SUMMARY:Breakfast & Outdoor Egg Hunt
DESCRIPTION:Join us for a fun breakfast and outdoor egg hunt on Saturday\, April 9th. Breakfast will be served from 9:30-11 a.m. & the outdoor egg hunt will be from 11-12p.m. – *Weather Permitting*\n\nTake a picture with a real bunny!\n\nBreakfast will be served by our members! Breakfast items to include pancakes\, bagels\, muffins\, yogurt bar\, fruit\, assorted juices\, coffee and tea.\n\nCOST per person is: 12 & Older -$10; Under 12 – $7; 2 & Under is FREE\n\nDREAM TEAM MEMBER COST is $3\n\nYou can purchase crafts at the event for an additional $2 each.\n\nWe hope to see you there!
URL:https://dsacnj.org/event/breakfast-outdoor-egg-hunt/
LOCATION:Club DREAMS\, 25 Scotch Rd.\, Suite H\, Ewing\, NJ\, 08628\, United States
CATEGORIES:Adults 18+,Babies/Toddler,Children,In person events,Parent/family socials (TBD),Siblings,SOCIAL,SPECIAL EVENT,Teens
ORGANIZER;CN="Club DREAMS team":MAILTO:Clubdreams@dsacnj.org
END:VEVENT
BEGIN:VEVENT
DTSTART;TZID=UTC:20220406T140000
DTEND;TZID=UTC:20220406T160000
DTSTAMP:20260421T150156
CREATED:20220401T203806Z
LAST-MODIFIED:20220601T172641Z
UID:10000546-1649253600-1649260800@dsacnj.org
SUMMARY:Open Play Wednesday 2-4p.m.
DESCRIPTION:Join us for Open Play every Wednesday from 2-4p.m. Our center offers a wide range of activities for all age groups.  Come check out our center\, mingle and relax while your kids play and have fun! \n\n\n\n\n\n\n\n\n\n\n \n\n\n\n \n\n\n\n 
URL:https://dsacnj.org/event/open-play-wednesday-2-4p-m/
LOCATION:Club DREAMS\, 25 Scotch Rd.\, Suite H\, Ewing\, NJ\, 08628\, United States
CATEGORIES:Babies/Toddler,Children,In person events,Siblings,SOCIAL,Teens
ORGANIZER;CN="Club DREAMS team":MAILTO:Clubdreams@dsacnj.org
END:VEVENT
BEGIN:VEVENT
DTSTART;TZID=UTC:20220325T140000
DTEND;TZID=UTC:20220325T160000
DTSTAMP:20260421T150156
CREATED:20220304T215506Z
LAST-MODIFIED:20220304T215510Z
UID:10000379-1648216800-1648224000@dsacnj.org
SUMMARY:Open Play Friday 2-4pm
DESCRIPTION:Join us for Open Play on Friday\, March 25th from 2-4p.m.\n\nnon-member cost is $10 per child.\n\nnon-member cost is $5 per additional child
URL:https://dsacnj.org/event/open-play-friday-2-4pm/
LOCATION:Club DREAMS\, 25 Scotch Rd.\, Suite H\, Ewing\, NJ\, 08628\, United States
CATEGORIES:Babies/Toddler,Children,In person events,Siblings,SOCIAL
ORGANIZER;CN="Club DREAMS team":MAILTO:Clubdreams@dsacnj.org
END:VEVENT
BEGIN:VEVENT
DTSTART;TZID=UTC:20220323T160000
DTEND;TZID=UTC:20220323T180000
DTSTAMP:20260421T150156
CREATED:20220207T202321Z
LAST-MODIFIED:20220302T200022Z
UID:10000141-1648051200-1648058400@dsacnj.org
SUMMARY:Open Play Wednesdays 4:00-6:00pm
DESCRIPTION:Come join us for open play from 4-6pm at Club Dreams.  Cost is $10 for the first child and $5 for each additional child for NON-MEMBERS. See you there!
URL:https://dsacnj.org/event/open-play-wednesdays-400-600pm/2022-03-23/
LOCATION:Club DREAMS\, 25 Scotch Rd.\, Suite H\, Ewing\, NJ\, 08628\, United States
CATEGORIES:Babies/Toddler,Children,ENRICHMENT,In person events,Parent/family socials (TBD),Siblings,SOCIAL,Teens
ORGANIZER;CN="Club DREAMS team":MAILTO:Clubdreams@dsacnj.org
END:VEVENT
BEGIN:VEVENT
DTSTART;TZID=UTC:20220323T160000
DTEND;TZID=UTC:20220323T180000
DTSTAMP:20260421T150156
CREATED:20220207T202321Z
LAST-MODIFIED:20220324T000448Z
UID:10000344-1648051200-1648058400@dsacnj.org
SUMMARY:Open Play Wednesdays 4:00-6:00pm
DESCRIPTION:Come join us for open play from 4-6pm at Club Dreams.  Cost is $10 for the first child and $5 for each additional child for NON-MEMBERS. See you there! \n\n\n\n\n\n\n\n\n\n\n \n\n\n\n 
URL:https://dsacnj.org/event/open-play-wednesdays-400-600pm-2022-03-23/2022-03-23/
LOCATION:Club DREAMS\, 25 Scotch Rd.\, Suite H\, Ewing\, NJ\, 08628\, United States
CATEGORIES:Babies/Toddler,Children,ENRICHMENT,In person events,Parent/family socials (TBD),Siblings,SOCIAL,Teens
ORGANIZER;CN="Club DREAMS team":MAILTO:Clubdreams@dsacnj.org
END:VEVENT
BEGIN:VEVENT
DTSTART;TZID=UTC:20220323T093000
DTEND;TZID=UTC:20220323T103000
DTSTAMP:20260421T150156
CREATED:20220207T200357Z
LAST-MODIFIED:20220314T194956Z
UID:10000119-1648027800-1648031400@dsacnj.org
SUMMARY:Open Play Wednesdays 9:30-10:30am Not Available 3/16
DESCRIPTION:Come join us for Open Play on Wednesdays from 9:30-10:30am. The cost is $10 for the first child and $5 for each additional child.  See you there!
URL:https://dsacnj.org/event/open-play-wednesdays-930-1030am/2022-03-23/
LOCATION:Club DREAMS\, 25 Scotch Rd.\, Suite H\, Ewing\, NJ\, 08628\, United States
CATEGORIES:Babies/Toddler,Children,ENRICHMENT,In person events,Parent/family socials (TBD),Siblings,SOCIAL
ORGANIZER;CN="Club DREAMS team":MAILTO:Clubdreams@dsacnj.org
END:VEVENT
BEGIN:VEVENT
DTSTART;TZID=UTC:20220320T140000
DTEND;TZID=UTC:20220320T180000
DTSTAMP:20260421T150156
CREATED:20220214T235633Z
LAST-MODIFIED:20220216T201944Z
UID:10000346-1647784800-1647799200@dsacnj.org
SUMMARY:Rock Your Socks Off
DESCRIPTION:Kick your boots off and join us for Rock Your Socks Off Hoe down for Down Syndrome.  The Downs Syndrome Association of Central NJ presents a World Down Syndrome Day of Celebration on Sunday\, March 20\, 2022\, from 2-6pm at Copper’s Riverview located at 50 Riverview Plaza\, Trenton NJ 08611. \nFree Admission and socks for those with Trisomy 21. $21.00 Admission for those 3 and older. Free Admission for those under 3. \nExciting silent auction items\, DJ\, Dancing and Free Caricatures. Buffet lunch and refreshments with Cash bar. \nBring your friends\, neighbors\, relatives\, dance troops\, teams\, classmates\, teachers\, coaches\, therapists\, and community leaders of all ages! \nREGISTER\, SPONSOR OR DONATE here at RYSO.givesmart.com  \n  \n  \n 
URL:https://dsacnj.org/event/rock-your-socks-off/
LOCATION:NJ
CATEGORIES:Adults 18+,Babies/Toddler,Children,In person events,Parent/family socials (TBD),Siblings,SOCIAL,SPECIAL EVENT,Teens
ORGANIZER;CN="Club DREAMS team":MAILTO:Clubdreams@dsacnj.org
END:VEVENT
BEGIN:VEVENT
DTSTART;TZID=UTC:20220318T140000
DTEND;TZID=UTC:20220318T160000
DTSTAMP:20260421T150156
CREATED:20220304T214931Z
LAST-MODIFIED:20220314T195230Z
UID:10000378-1647612000-1647619200@dsacnj.org
SUMMARY:Open Play Friday 2-4p.m. Not Available 3/18
DESCRIPTION:Join us for Open Play on Friday\, March 18th from 2-4p.m. non-member cost is $10 per child. non-member cost is $5 per additional child \n\n\n\n\n\n\n\n\n\n\n \n\n\n\n 
URL:https://dsacnj.org/event/open-play-friday-2-4p-m-2/
LOCATION:Club DREAMS\, 25 Scotch Rd.\, Suite H\, Ewing\, NJ\, 08628\, United States
CATEGORIES:Babies/Toddler,Children,In person events,Siblings,SOCIAL
ORGANIZER;CN="Club DREAMS team":MAILTO:Clubdreams@dsacnj.org
END:VEVENT
BEGIN:VEVENT
DTSTART;TZID=UTC:20220316T160000
DTEND;TZID=UTC:20220316T180000
DTSTAMP:20260421T150156
CREATED:20220207T202321Z
LAST-MODIFIED:20220314T194858Z
UID:10000343-1647446400-1647453600@dsacnj.org
SUMMARY:Open Play Wednesdays 4:00-6:00pm Not Available 3/16
DESCRIPTION:Come join us for open play from 4-6pm at Club Dreams.  Cost is $10 for the first child and $5 for each additional child for NON-MEMBERS. See you there! \n\n\n\n\n\n\n\n\n\n\n \n\n\n\n 
URL:https://dsacnj.org/event/open-play-wednesdays-400-600pm-2022-03-16/
LOCATION:Club DREAMS\, 25 Scotch Rd.\, Suite H\, Ewing\, NJ\, 08628\, United States
CATEGORIES:Babies/Toddler,Children,ENRICHMENT,In person events,Parent/family socials (TBD),Siblings,SOCIAL,Teens
ORGANIZER;CN="Club DREAMS team":MAILTO:Clubdreams@dsacnj.org
END:VEVENT
BEGIN:VEVENT
DTSTART;TZID=UTC:20220316T093000
DTEND;TZID=UTC:20220316T103000
DTSTAMP:20260421T150156
CREATED:20220207T200357Z
LAST-MODIFIED:20220314T195139Z
UID:10000137-1647423000-1647426600@dsacnj.org
SUMMARY:Open Play Wednesdays 9:30-10:30am Not Available 3/16
DESCRIPTION:Come join us for Open Play on Wednesdays from 9:30-10:30am. The cost is $10 for the first child and $5 for each additional child.  See you there!
URL:https://dsacnj.org/event/open-play-wednesdays-930-1030am-2022-03-16/
LOCATION:Club DREAMS\, 25 Scotch Rd.\, Suite H\, Ewing\, NJ\, 08628\, United States
CATEGORIES:Babies/Toddler,Children,ENRICHMENT,In person events,Parent/family socials (TBD),Siblings,SOCIAL
ORGANIZER;CN="Club DREAMS team":MAILTO:Clubdreams@dsacnj.org
END:VEVENT
BEGIN:VEVENT
DTSTART;TZID=UTC:20220311T140000
DTEND;TZID=UTC:20220311T160000
DTSTAMP:20260421T150156
CREATED:20220304T214503Z
LAST-MODIFIED:20220304T214508Z
UID:10000365-1647007200-1647014400@dsacnj.org
SUMMARY:Open Play Friday 2-4p.m.
DESCRIPTION:Join us for Open Play on Friday\, March 11th from 2-4p.m.\n\nnon-member cost is $10 per child.\n\nnon-member cost is $5 per additional child
URL:https://dsacnj.org/event/open-play-friday-2-4p-m/
LOCATION:Club DREAMS\, 25 Scotch Rd.\, Suite H\, Ewing\, NJ\, 08628\, United States
CATEGORIES:Babies/Toddler,Children,In person events,Siblings,SOCIAL
ORGANIZER;CN="Club DREAMS team":MAILTO:Clubdreams@dsacnj.org
END:VEVENT
BEGIN:VEVENT
DTSTART;TZID=UTC:20220309T160000
DTEND;TZID=UTC:20220309T180000
DTSTAMP:20260421T150156
CREATED:20220207T202321Z
LAST-MODIFIED:20220302T200022Z
UID:10000140-1646841600-1646848800@dsacnj.org
SUMMARY:Open Play Wednesdays 4:00-6:00pm
DESCRIPTION:Come join us for open play from 4-6pm at Club Dreams.  Cost is $10 for the first child and $5 for each additional child for NON-MEMBERS. See you there!
URL:https://dsacnj.org/event/open-play-wednesdays-400-600pm/2022-03-09/
LOCATION:Club DREAMS\, 25 Scotch Rd.\, Suite H\, Ewing\, NJ\, 08628\, United States
CATEGORIES:Babies/Toddler,Children,ENRICHMENT,In person events,Parent/family socials (TBD),Siblings,SOCIAL,Teens
ORGANIZER;CN="Club DREAMS team":MAILTO:Clubdreams@dsacnj.org
END:VEVENT
BEGIN:VEVENT
DTSTART;TZID=UTC:20220309T093000
DTEND;TZID=UTC:20220309T103000
DTSTAMP:20260421T150156
CREATED:20220207T200357Z
LAST-MODIFIED:20220314T194956Z
UID:10000118-1646818200-1646821800@dsacnj.org
SUMMARY:Open Play Wednesdays 9:30-10:30am Not Available 3/16
DESCRIPTION:Come join us for Open Play on Wednesdays from 9:30-10:30am. The cost is $10 for the first child and $5 for each additional child.  See you there!
URL:https://dsacnj.org/event/open-play-wednesdays-930-1030am/2022-03-09/
LOCATION:Club DREAMS\, 25 Scotch Rd.\, Suite H\, Ewing\, NJ\, 08628\, United States
CATEGORIES:Babies/Toddler,Children,ENRICHMENT,In person events,Parent/family socials (TBD),Siblings,SOCIAL
ORGANIZER;CN="Club DREAMS team":MAILTO:Clubdreams@dsacnj.org
END:VEVENT
BEGIN:VEVENT
DTSTART;TZID=UTC:20220302T160000
DTEND;TZID=UTC:20220302T180000
DTSTAMP:20260421T150156
CREATED:20220207T202321Z
LAST-MODIFIED:20220302T195715Z
UID:10000153-1646236800-1646244000@dsacnj.org
SUMMARY:Open Play Wednesdays 4:00-6:00pm
DESCRIPTION:Come join us for open play from 4-6pm at Club Dreams.  Cost is $10 for the first child and $5 for each additional child for NON-MEMBERS. See you there!
URL:https://dsacnj.org/event/open-play-wednesdays-400-600pm-2022-03-02/
LOCATION:Club DREAMS\, 25 Scotch Rd.\, Suite H\, Ewing\, NJ\, 08628\, United States
CATEGORIES:Babies/Toddler,Children,ENRICHMENT,In person events,Parent/family socials (TBD),Siblings,SOCIAL,Teens
ORGANIZER;CN="Club DREAMS team":MAILTO:Clubdreams@dsacnj.org
END:VEVENT
END:VCALENDAR