BEGIN:VCALENDAR
VERSION:2.0
PRODID:-//Down Syndrome Association of Central New Jersey - ECPv6.15.15//NONSGML v1.0//EN
CALSCALE:GREGORIAN
METHOD:PUBLISH
X-ORIGINAL-URL:https://dsacnj.org
X-WR-CALDESC:Events for Down Syndrome Association of Central New Jersey
REFRESH-INTERVAL;VALUE=DURATION:PT1H
X-Robots-Tag:noindex
X-PUBLISHED-TTL:PT1H
BEGIN:VTIMEZONE
TZID:UTC
BEGIN:STANDARD
TZOFFSETFROM:+0000
TZOFFSETTO:+0000
TZNAME:UTC
DTSTART:20200101T000000
END:STANDARD
END:VTIMEZONE
BEGIN:VEVENT
DTSTART;TZID=UTC:20220302T093000
DTEND;TZID=UTC:20220302T103000
DTSTAMP:20260421T175128
CREATED:20220207T200357Z
LAST-MODIFIED:20220314T194956Z
UID:10000117-1646213400-1646217000@dsacnj.org
SUMMARY:Open Play Wednesdays 9:30-10:30am Not Available 3/16
DESCRIPTION:Come join us for Open Play on Wednesdays from 9:30-10:30am. The cost is $10 for the first child and $5 for each additional child.  See you there!
URL:https://dsacnj.org/event/open-play-wednesdays-930-1030am/2022-03-02/
LOCATION:Club DREAMS\, 25 Scotch Rd.\, Suite H\, Ewing\, NJ\, 08628\, United States
CATEGORIES:Babies/Toddler,Children,ENRICHMENT,In person events,Parent/family socials (TBD),Siblings,SOCIAL
ORGANIZER;CN="Club DREAMS team":MAILTO:Clubdreams@dsacnj.org
END:VEVENT
BEGIN:VEVENT
DTSTART;TZID=UTC:20220227T100000
DTEND;TZID=UTC:20220227T130000
DTSTAMP:20260421T175128
CREATED:20220202T211710Z
LAST-MODIFIED:20220216T203131Z
UID:10000023-1645956000-1645966800@dsacnj.org
SUMMARY:Western Themed Photoshoot
DESCRIPTION:Kick off your boots and get ready to Rock Your Socks Off!  We are nearing the time of Rock Your Socks Off on March 20th! As we get closer\, we are hoping to spread the word to more communities of people. To do so\, we are hosting a photoshoot on February 27th from 10am – 1pm\, with the theme of Western featuring your children and our members! Accessories will be available. \n**Each family will get a 15 minute time slot. If you wish to add an additional time slot\, please purchase 2 tickets for each child.** \nFirst Child- $15 \nEach additional child- $5 \nDigital copies of all photos will be  provided following the shoot.\n\nPhotoshoot will be at Club DREAMS – 25 Scotch Rd – Suite H Ewing\, NJ
URL:https://dsacnj.org/event/western-themed-photoshoot/
LOCATION:Club DREAMS\, 25 Scotch Rd.\, Suite H\, Ewing\, NJ\, 08628\, United States
CATEGORIES:Adults 18+,Babies/Toddler,Children,In person events,Parent/family socials (TBD),Siblings,SOCIAL,SPECIAL EVENT,Teens
ORGANIZER;CN="Club DREAMS team":MAILTO:Clubdreams@dsacnj.org
END:VEVENT
BEGIN:VEVENT
DTSTART;TZID=UTC:20220223T160000
DTEND;TZID=UTC:20220223T180000
DTSTAMP:20260421T175128
CREATED:20220207T202321Z
LAST-MODIFIED:20220302T200022Z
UID:10000139-1645632000-1645639200@dsacnj.org
SUMMARY:Open Play Wednesdays 4:00-6:00pm
DESCRIPTION:Come join us for open play from 4-6pm at Club Dreams.  Cost is $10 for the first child and $5 for each additional child for NON-MEMBERS. See you there!
URL:https://dsacnj.org/event/open-play-wednesdays-400-600pm/2022-02-23/
LOCATION:Club DREAMS\, 25 Scotch Rd.\, Suite H\, Ewing\, NJ\, 08628\, United States
CATEGORIES:Babies/Toddler,Children,ENRICHMENT,In person events,Parent/family socials (TBD),Siblings,SOCIAL,Teens
ORGANIZER;CN="Club DREAMS team":MAILTO:Clubdreams@dsacnj.org
END:VEVENT
BEGIN:VEVENT
DTSTART;TZID=UTC:20220223T093000
DTEND;TZID=UTC:20220223T103000
DTSTAMP:20260421T175128
CREATED:20220207T200357Z
LAST-MODIFIED:20220314T194956Z
UID:10000116-1645608600-1645612200@dsacnj.org
SUMMARY:Open Play Wednesdays 9:30-10:30am Not Available 3/16
DESCRIPTION:Come join us for Open Play on Wednesdays from 9:30-10:30am. The cost is $10 for the first child and $5 for each additional child.  See you there!
URL:https://dsacnj.org/event/open-play-wednesdays-930-1030am/2022-02-23/
LOCATION:Club DREAMS\, 25 Scotch Rd.\, Suite H\, Ewing\, NJ\, 08628\, United States
CATEGORIES:Babies/Toddler,Children,ENRICHMENT,In person events,Parent/family socials (TBD),Siblings,SOCIAL
ORGANIZER;CN="Club DREAMS team":MAILTO:Clubdreams@dsacnj.org
END:VEVENT
BEGIN:VEVENT
DTSTART;TZID=UTC:20220216T160000
DTEND;TZID=UTC:20220216T180000
DTSTAMP:20260421T175128
CREATED:20220207T202321Z
LAST-MODIFIED:20220302T200022Z
UID:10000138-1645027200-1645034400@dsacnj.org
SUMMARY:Open Play Wednesdays 4:00-6:00pm
DESCRIPTION:Come join us for open play from 4-6pm at Club Dreams.  Cost is $10 for the first child and $5 for each additional child for NON-MEMBERS. See you there!
URL:https://dsacnj.org/event/open-play-wednesdays-400-600pm/2022-02-16/
LOCATION:Club DREAMS\, 25 Scotch Rd.\, Suite H\, Ewing\, NJ\, 08628\, United States
CATEGORIES:Babies/Toddler,Children,ENRICHMENT,In person events,Parent/family socials (TBD),Siblings,SOCIAL,Teens
ORGANIZER;CN="Club DREAMS team":MAILTO:Clubdreams@dsacnj.org
END:VEVENT
BEGIN:VEVENT
DTSTART;TZID=UTC:20220216T093000
DTEND;TZID=UTC:20220216T103000
DTSTAMP:20260421T175128
CREATED:20220207T200357Z
LAST-MODIFIED:20220314T194956Z
UID:10000115-1645003800-1645007400@dsacnj.org
SUMMARY:Open Play Wednesdays 9:30-10:30am Not Available 3/16
DESCRIPTION:Come join us for Open Play on Wednesdays from 9:30-10:30am. The cost is $10 for the first child and $5 for each additional child.  See you there!
URL:https://dsacnj.org/event/open-play-wednesdays-930-1030am/2022-02-16/
LOCATION:Club DREAMS\, 25 Scotch Rd.\, Suite H\, Ewing\, NJ\, 08628\, United States
CATEGORIES:Babies/Toddler,Children,ENRICHMENT,In person events,Parent/family socials (TBD),Siblings,SOCIAL
ORGANIZER;CN="Club DREAMS team":MAILTO:Clubdreams@dsacnj.org
END:VEVENT
BEGIN:VEVENT
DTSTART;TZID=UTC:20220212T190000
DTEND;TZID=UTC:20220212T210000
DTSTAMP:20260421T175128
CREATED:20220115T092555Z
LAST-MODIFIED:20220208T195916Z
UID:10000340-1644692400-1644699600@dsacnj.org
SUMMARY:Trivia Night: 321 Game On - POSTPONED
DESCRIPTION:This event has been POSTPONED!  Stay tuned for the new date. \nThe Down Syndrome Association of Central New Jersey is hosting our second annual community trivia night fundraiser. The money raised from the event will go towards DSACNJ and Club DREAMS\, so we can further support our families and members in our community and spread awareness of Down syndrome. Club DREAMS has offered over 1600 virtual and live programs for free in the past 20 months and we are thrilled to have Club DREAMS space being enjoyed by many! \nJoin as a team (up to 8 players per a team)\, family\, individual\, or couple for an opportunity to win cash prizes for top 3 teams (1st place: $400\, 2nd place: $200\, 3rd place: $100). Also make more than one team in your household (kids versus adults/girls versus boys) for some friendly competition and more chances to bring home a prize! Also 3 random door prizes will be drawn throughout the evening and a prize for best team name! Join now and help us spread the word to get others to join or sponsor. Considering sponsoring? Don’t forget employee match programs (we are a 501c3 nonprofit). \nAttend in person for a fun social gathering (while kids can enjoy open play) or play virtually from the comfort of your home!  Either way a fun filled family friendly night is guaranteed!  If you participate at Club DREAMS feel free to bring young children to play and enjoy the space while you test your knowledge at Trivia Night. \nRegister at trivianight321.givesmart.com
URL:https://dsacnj.org/event/trivia-night-321-game-on/
LOCATION:VIRTUAL OR ON SITE CLUB DREAMS\, 25 Scotch Rd\, Suite H\, Ewing\, NJ\, 08628\, United States
CATEGORIES:Adults 18+,Children,ENRICHMENT,FAMILY SUPPORT,In person events,Online virtual events,Parent/family socials (TBD),Siblings,SOCIAL,SPECIAL EVENT,Teens
ORGANIZER;CN="Club DREAMS team":MAILTO:Clubdreams@dsacnj.org
END:VEVENT
BEGIN:VEVENT
DTSTART;TZID=UTC:20220202T130000
DTEND;TZID=UTC:20220202T180000
DTSTAMP:20260421T175128
CREATED:20210906T045617Z
LAST-MODIFIED:20220216T201402Z
UID:10000003-1643806800-1643824800@dsacnj.org
SUMMARY:Open Play (ON HOLD)
DESCRIPTION:Open play allow participants to enjoy our space in the age appropriate area of the center.  Climb\, read\, write\, explore\, pretend\, get gaming! \nPlan to meet up with friends and other families to enjoy Club DREAMS. \nCapacity is limited.   Open play is opened to community for integrative play if space permits. \nIN PERSON ONLY \nIndividuals with Down syndrome and siblings free.  We love inclusive play and we invite community peers at $10 per session.    If your registration is confirmed please pay under donation page $10 to PayPal link and type Open play in comments.
URL:https://dsacnj.org/event/open-play-friday/2022-02-02/
LOCATION:Club DREAMS\, 25 Scotch Rd.\, Suite H\, Ewing\, NJ\, 08628\, United States
CATEGORIES:Adults 18+,Babies/Toddler,Children,FAMILY SUPPORT,In person events,Parent/family socials (TBD),Siblings,SOCIAL,Teens
ORGANIZER;CN="Club DREAMS team":MAILTO:Clubdreams@dsacnj.org
END:VEVENT
BEGIN:VEVENT
DTSTART;TZID=UTC:20211204T100000
DTEND;TZID=UTC:20211204T130000
DTSTAMP:20260421T175128
CREATED:20211115T225353Z
LAST-MODIFIED:20211115T234419Z
UID:10000333-1638612000-1638622800@dsacnj.org
SUMMARY:Custom Gift Making Workshop
DESCRIPTION:Get your creativity cap on!! This event is perfect for all kids\, teens and even adults!\nWe will be providing all registered individuals  with the availability of a gift making assistant to walk through the process of choosing gifts for everyone and/or every pet on your list and then customizing personalization\, design or logo using Cricut design studio! \nWine glasses\, beer mugs\, onesies\, banks\, candles\, pot holders\, pillow cases\, pet food bowl\, planters\, ornaments\, vases and more! \nThese gifts will thrill all your recipients.\nGifts will range in price from $3-$15. \nWe will provide a gift planning worksheet prior to the event to brainstorm along with a parent if needed so that you can be ready to get your holiday shopping complete! \nPlus there will be a vendor sale at the same time for additional shopping pleasure (or for parents to  complete their shopping list)!  Including Tubberware\, One Hope\, Touchstone and more! \nAnd of course Santa photo shoot will be available\, as will snacks\, muffins\, hot cocoa and coffee! \nSiblings welcome\, community peers welcome! \n10% discount for DREAM TEAM Members! \n  \n  \n 
URL:https://dsacnj.org/event/3443/
LOCATION:Club DREAMS\, 25 Scotch Rd.\, Suite H\, Ewing\, NJ\, 08628\, United States
CATEGORIES:Adults 18+,Arts/music,Babies/Toddler,Children,ENRICHMENT,FAMILY SUPPORT,In person events,Parent/family socials (TBD),Siblings,SOCIAL,SPECIAL EVENT,Teens
ORGANIZER;CN="Club DREAMS team":MAILTO:Clubdreams@dsacnj.org
END:VEVENT
BEGIN:VEVENT
DTSTART;TZID=UTC:20210917T163000
DTEND;TZID=UTC:20210917T173000
DTSTAMP:20260421T175128
CREATED:20210903T225106Z
LAST-MODIFIED:20210903T225106Z
UID:10000239-1631896200-1631899800@dsacnj.org
SUMMARY:New Parent/Young Child Meet Up
DESCRIPTION:This program is for parent or relatives of young children (under 7) to come along with your children to meet up with other parents of young children.  The kids can enjoy. interacting and building friendships while the parents can share experiences and resources. \nAt this time program is limited to 5 children and parents on site at one time. We have over 3300 square feet of space to spread out and enjoy. \nSiblings are welcome to also enjoy support and friendship. \nMasks required for all those over 2 years old. \nIn Person only.
URL:https://dsacnj.org/event/new-parent-young-child-meet-up/
LOCATION:Club DREAMS\, 25 Scotch Rd.\, Suite H\, Ewing\, NJ\, 08628\, United States
CATEGORIES:Babies/Toddler,Children,FAMILY SUPPORT,In person events,Parent/family socials (TBD),Siblings
ORGANIZER;CN="Club DREAMS team":MAILTO:Clubdreams@dsacnj.org
END:VEVENT
BEGIN:VEVENT
DTSTART;TZID=UTC:20210910T130000
DTEND;TZID=UTC:20210910T180000
DTSTAMP:20260421T175128
CREATED:20210906T045617Z
LAST-MODIFIED:20220216T201402Z
UID:10000002-1631278800-1631296800@dsacnj.org
SUMMARY:Open Play (ON HOLD)
DESCRIPTION:Open play allow participants to enjoy our space in the age appropriate area of the center.  Climb\, read\, write\, explore\, pretend\, get gaming! \nPlan to meet up with friends and other families to enjoy Club DREAMS. \nCapacity is limited.   Open play is opened to community for integrative play if space permits. \nIN PERSON ONLY \nIndividuals with Down syndrome and siblings free.  We love inclusive play and we invite community peers at $10 per session.    If your registration is confirmed please pay under donation page $10 to PayPal link and type Open play in comments.
URL:https://dsacnj.org/event/open-play-friday/2021-09-10/
LOCATION:Club DREAMS\, 25 Scotch Rd.\, Suite H\, Ewing\, NJ\, 08628\, United States
CATEGORIES:Adults 18+,Babies/Toddler,Children,FAMILY SUPPORT,In person events,Parent/family socials (TBD),Siblings,SOCIAL,Teens
ORGANIZER;CN="Club DREAMS team":MAILTO:Clubdreams@dsacnj.org
END:VEVENT
BEGIN:VEVENT
DTSTART;TZID=UTC:20210908T140000
DTEND;TZID=UTC:20210908T160000
DTSTAMP:20260421T175128
CREATED:20210825T104911Z
LAST-MODIFIED:20210922T210743Z
UID:10000120-1631109600-1631116800@dsacnj.org
SUMMARY:
DESCRIPTION:Open play allow participants to enjoy our space in the age appropriate area of the center.  Climb\, read\, write\, explore\, pretend\, get gaming! \nPlan to meet up with friends and other families to enjoy Club DREAMS. \nCapacity is limited.   Open play is opened to community for integrative play if space permits. \nIN PERSON ONLY \nIndividuals with Down syndrome and siblings free.  We love inclusive play and we invite community peers at $10 per session.    If your registration is confirmed please pay under donation page $10 to PayPal link and type Open play in comments.
URL:https://dsacnj.org/event/open-play/
LOCATION:Club DREAMS\, 25 Scotch Rd.\, Suite H\, Ewing\, NJ\, 08628\, United States
CATEGORIES:Adults 18+,Babies/Toddler,Children,FAMILY SUPPORT,In person events,Parent/family socials (TBD),Siblings,SOCIAL,Teens
ORGANIZER;CN="Club DREAMS team":MAILTO:Clubdreams@dsacnj.org
END:VEVENT
BEGIN:VEVENT
DTSTART;TZID=UTC:20210826T000000
DTEND;TZID=UTC:20210826T000000
DTSTAMP:20260421T175128
CREATED:20210826T083005Z
LAST-MODIFIED:20210906T193658Z
UID:10000232-1629936000-1629936000@dsacnj.org
SUMMARY:DANCE NIGHT
DESCRIPTION:Dance activities and games\, line dances and party music. Get together with friends to practice social dances\, tiktok dances or play dance games.\nAges 13+ \nSlice of pizza and drinks will be provided. \nLive on site at Club DREAMS – limited capacity. \nIf you would like to join virtually 30 minutes of the event will be live streamed. \nREGISTER HERE FOR VIRTUAL  \nREGISTER FOR LIVE ATTENDANCE \n  \n  \n 
URL:https://dsacnj.org/event/dance-night-2/
LOCATION:NJ
CATEGORIES:Adults 18+,Children,ENRICHMENT,In person events,Online virtual events,Siblings,SOCIAL,SPECIAL EVENT,Teens
END:VEVENT
END:VCALENDAR