BEGIN:VCALENDAR
VERSION:2.0
PRODID:-//Down Syndrome Association of Central New Jersey - ECPv6.15.15//NONSGML v1.0//EN
CALSCALE:GREGORIAN
METHOD:PUBLISH
X-WR-CALNAME:Down Syndrome Association of Central New Jersey
X-ORIGINAL-URL:https://dsacnj.org
X-WR-CALDESC:Events for Down Syndrome Association of Central New Jersey
REFRESH-INTERVAL;VALUE=DURATION:PT1H
X-Robots-Tag:noindex
X-PUBLISHED-TTL:PT1H
BEGIN:VTIMEZONE
TZID:America/New_York
BEGIN:DAYLIGHT
TZOFFSETFROM:-0500
TZOFFSETTO:-0400
TZNAME:EDT
DTSTART:20240310T070000
END:DAYLIGHT
BEGIN:STANDARD
TZOFFSETFROM:-0400
TZOFFSETTO:-0500
TZNAME:EST
DTSTART:20241103T060000
END:STANDARD
BEGIN:DAYLIGHT
TZOFFSETFROM:-0500
TZOFFSETTO:-0400
TZNAME:EDT
DTSTART:20250309T070000
END:DAYLIGHT
BEGIN:STANDARD
TZOFFSETFROM:-0400
TZOFFSETTO:-0500
TZNAME:EST
DTSTART:20251102T060000
END:STANDARD
BEGIN:DAYLIGHT
TZOFFSETFROM:-0500
TZOFFSETTO:-0400
TZNAME:EDT
DTSTART:20260308T070000
END:DAYLIGHT
BEGIN:STANDARD
TZOFFSETFROM:-0400
TZOFFSETTO:-0500
TZNAME:EST
DTSTART:20261101T060000
END:STANDARD
END:VTIMEZONE
BEGIN:VEVENT
DTSTART;TZID=America/New_York:20251213T100000
DTEND;TZID=America/New_York:20251213T120000
DTSTAMP:20260424T020706
CREATED:20251201T165821Z
LAST-MODIFIED:20251201T170443Z
UID:10009467-1765620000-1765627200@dsacnj.org
SUMMARY:New Parent Meet Up/Gross Motor Exercise Play Group
DESCRIPTION:Join us at Club DREAMS for the last Gross Motor Play Group/Parents Meet Up of 2025\,  in collaboration with Rutgers DPT students! This special event also doubles as a new parent meet-up — a great way to connect while your little ones (ages 7 and under) enjoy fun\, movement-based activities designed to support gross motor development. Come play\, move\, and meet fellow parents in the community! \nSaturday\, December 13th from 10am-12pm. Light refreshments will be served. \nQuestions\, please contact Ashley Conklin\, PT\, DPT\, PCS at therabilitiesllc@gmail.com
URL:https://dsacnj.org/event/new-parent-meet-up-gross-motor-exercise-play-group/
LOCATION:Club DREAMS\, 25 Scotch Rd.\, Suite H\, Ewing\, NJ\, 08628\, United States
CATEGORIES:Babies/Toddler,Children,In person events,Parent/family socials (TBD),SOCIAL,SPECIAL EVENT
ATTACH;FMTTYPE=image/png:https://dsacnj.org/wp-content/uploads/2025/12/New-ParentYoung-Child-Meet-Up.png
END:VEVENT
END:VCALENDAR