BEGIN:VCALENDAR
VERSION:2.0
PRODID:-//Down Syndrome Association of Central New Jersey - ECPv6.15.15//NONSGML v1.0//EN
CALSCALE:GREGORIAN
METHOD:PUBLISH
X-ORIGINAL-URL:https://dsacnj.org
X-WR-CALDESC:Events for Down Syndrome Association of Central New Jersey
REFRESH-INTERVAL;VALUE=DURATION:PT1H
X-Robots-Tag:noindex
X-PUBLISHED-TTL:PT1H
BEGIN:VTIMEZONE
TZID:America/New_York
BEGIN:DAYLIGHT
TZOFFSETFROM:-0500
TZOFFSETTO:-0400
TZNAME:EDT
DTSTART:20240310T070000
END:DAYLIGHT
BEGIN:STANDARD
TZOFFSETFROM:-0400
TZOFFSETTO:-0500
TZNAME:EST
DTSTART:20241103T060000
END:STANDARD
BEGIN:DAYLIGHT
TZOFFSETFROM:-0500
TZOFFSETTO:-0400
TZNAME:EDT
DTSTART:20250309T070000
END:DAYLIGHT
BEGIN:STANDARD
TZOFFSETFROM:-0400
TZOFFSETTO:-0500
TZNAME:EST
DTSTART:20251102T060000
END:STANDARD
BEGIN:DAYLIGHT
TZOFFSETFROM:-0500
TZOFFSETTO:-0400
TZNAME:EDT
DTSTART:20260308T070000
END:DAYLIGHT
BEGIN:STANDARD
TZOFFSETFROM:-0400
TZOFFSETTO:-0500
TZNAME:EST
DTSTART:20261101T060000
END:STANDARD
END:VTIMEZONE
BEGIN:VEVENT
DTSTART;TZID=America/New_York:20251025T100000
DTEND;TZID=America/New_York:20251025T120000
DTSTAMP:20260422T045042
CREATED:20250904T155922Z
LAST-MODIFIED:20250910T175359Z
UID:10009162-1761386400-1761393600@dsacnj.org
SUMMARY:Open Play/Mommy and Me Saturdays
DESCRIPTION:Join us for both Open Play from 10-11am and Mommy and Me Yoga— from 11-12pma fun\, safe\, and inclusive environment where little ones can explore\, play\, and learn alongside their caregivers. Designed for children under 7\, this unstructured playtime encourages social interaction\, gross motor development\, and parent-child bonding in a welcoming space for all families. Come connect\, laugh\, and grow together!
URL:https://dsacnj.org/event/open-play-mommy-and-me-saturdays/2025-10-25/
LOCATION:Club DREAMS\, 25 Scotch Rd.\, Suite H\, Ewing\, NJ\, 08628\, United States
CATEGORIES:Babies/Toddler,Children,ENRICHMENT,In person events,Parent/family socials (TBD),SOCIAL,Teens
ATTACH;FMTTYPE=image/png:https://dsacnj.org/wp-content/uploads/2025/09/Saturday-Open-Play-1.png
ORGANIZER;CN="Club DREAMS team":MAILTO:Clubdreams@dsacnj.org
END:VEVENT
BEGIN:VEVENT
DTSTART;TZID=America/New_York:20251025T120000
DTEND;TZID=America/New_York:20251025T140000
DTSTAMP:20260422T045042
CREATED:20251001T142858Z
LAST-MODIFIED:20251001T144302Z
UID:10009464-1761393600-1761400800@dsacnj.org
SUMMARY:Halloween Party 17 & Under
DESCRIPTION:Join us for a Spooktacular Halloween Party that’s fun for all ages 17 and under! Come in costume and celebrate with us on Saturday\, October 25th from 12–2 PM at Club DREAMS. Enjoy music\, games\, crafts\, snacks\, and loads of Halloween fun! It’s the perfect way to kick off the spooky season—don’t miss it!
URL:https://dsacnj.org/event/halloween-party-17-under/
LOCATION:Club DREAMS\, 25 Scotch Rd.\, Suite H\, Ewing\, NJ\, 08628\, United States
CATEGORIES:Babies/Toddler,Children,Parent/family socials (TBD),Siblings,SOCIAL,SPECIAL EVENT,Teens
ATTACH;FMTTYPE=image/png:https://dsacnj.org/wp-content/uploads/2025/10/Halloween-Party-1025.png
ORGANIZER;CN="Club DREAMS team":MAILTO:Clubdreams@dsacnj.org
END:VEVENT
END:VCALENDAR