BEGIN:VCALENDAR
VERSION:2.0
PRODID:-//Down Syndrome Association of Central New Jersey - ECPv6.15.15//NONSGML v1.0//EN
CALSCALE:GREGORIAN
METHOD:PUBLISH
X-WR-CALNAME:Down Syndrome Association of Central New Jersey
X-ORIGINAL-URL:https://dsacnj.org
X-WR-CALDESC:Events for Down Syndrome Association of Central New Jersey
REFRESH-INTERVAL;VALUE=DURATION:PT1H
X-Robots-Tag:noindex
X-PUBLISHED-TTL:PT1H
BEGIN:VTIMEZONE
TZID:UTC
BEGIN:STANDARD
TZOFFSETFROM:+0000
TZOFFSETTO:+0000
TZNAME:UTC
DTSTART:20200101T000000
END:STANDARD
END:VTIMEZONE
BEGIN:VEVENT
DTSTART;TZID=UTC:20211009T113000
DTEND;TZID=UTC:20211009T143000
DTSTAMP:20260425T081918
CREATED:20210825T203900Z
LAST-MODIFIED:20211120T010600Z
UID:10000163-1633779000-1633789800@dsacnj.org
SUMMARY:Open Play (Saturday)
DESCRIPTION:Open play allow participants to enjoy our space in the age appropriate area of the center.  Climb\, read\, write\, explore\, pretend\, get gaming! Plan to meet up with friends and other families to enjoy Club DREAMS. Capacity is limited.   Open play is opened to community for integrative play if space permits. IN PERSON ONLY \nEvery open play Saturday will include a craft (crafts start at 12:00) and a science experiment (starting at 1:00)! \n  \nIndividuals with Down syndrome and siblings free\, Community Members registration $5 if space available.
URL:https://dsacnj.org/event/open-play-2/2021-10-09/
LOCATION:Club DREAMS\, 25 Scotch Rd.\, Suite H\, Ewing\, NJ\, 08628\, United States
CATEGORIES:Adults 18+,Babies/Toddler,Children,FAMILY SUPPORT,In person events,SOCIAL,Teens
ORGANIZER;CN="Club DREAMS team":MAILTO:Clubdreams@dsacnj.org
END:VEVENT
BEGIN:VEVENT
DTSTART;TZID=UTC:20211009T110000
DTEND;TZID=UTC:20211009T120000
DTSTAMP:20260425T081918
CREATED:20210825T202422Z
LAST-MODIFIED:20220108T025137Z
UID:10000143-1633777200-1633780800@dsacnj.org
SUMMARY:Arts and Crafts/Guided Drawing Saturday
DESCRIPTION:Join us at our center for guided drawing and other teen crafts! \n  \nREGISTER HERE FOR ONLINE \nONLINE ONLY TEMPORARILY
URL:https://dsacnj.org/event/artsandcrafts-saturday/2021-10-09/
LOCATION:Club DREAMS\, 25 Scotch Rd.\, Suite H\, Ewing\, NJ\, 08628\, United States
CATEGORIES:Adults 18+,Babies/Toddler,Children,ENRICHMENT,In person events,Teens
ORGANIZER;CN="Club DREAMS team":MAILTO:Clubdreams@dsacnj.org
END:VEVENT
BEGIN:VEVENT
DTSTART;TZID=UTC:20211008T190000
DTEND;TZID=UTC:20211008T203000
DTSTAMP:20260425T081918
CREATED:20210923T225315Z
LAST-MODIFIED:20211007T212821Z
UID:10000007-1633719600-1633725000@dsacnj.org
SUMMARY:KARAOKE + DANCE NIGHT
DESCRIPTION:Come join us at our Club DREAMS center for a night of karaoke and dance! All are welcome to also use our game area as well\, with magnetic darts\, air hockey\, rock climbing\, giant connect 4\, and more! For even more fun\, bring siblings and/or friends to join in!! \nRegister for in person using the button! \nREGISTER FOR VIRTUAL HERE 
URL:https://dsacnj.org/event/karaoke-dance-night/
LOCATION:Club DREAMS\, 25 Scotch Rd.\, Suite H\, Ewing\, NJ\, 08628\, United States
CATEGORIES:In person events,SOCIAL,SPECIAL EVENT
ORGANIZER;CN="Club DREAMS team":MAILTO:Clubdreams@dsacnj.org
END:VEVENT
BEGIN:VEVENT
DTSTART;TZID=UTC:20211005T190000
DTEND;TZID=UTC:20211022T210000
DTSTAMP:20260425T081918
CREATED:20210923T233638Z
LAST-MODIFIED:20211005T231818Z
UID:10000008-1633460400-1634936400@dsacnj.org
SUMMARY:
DESCRIPTION:  \n 
URL:https://dsacnj.org/event/mom-daughter-and-friends-spa-and-makeover-night/
LOCATION:Club DREAMS\, 25 Scotch Rd.\, Suite H\, Ewing\, NJ\, 08628\, United States
CATEGORIES:In person events,SOCIAL,SPECIAL EVENT
ORGANIZER;CN="Club DREAMS team":MAILTO:Clubdreams@dsacnj.org
END:VEVENT
BEGIN:VEVENT
DTSTART;TZID=UTC:20211004T161500
DTEND;TZID=UTC:20211004T164500
DTSTAMP:20260425T081918
CREATED:20210825T111112Z
LAST-MODIFIED:20220103T073647Z
UID:10000124-1633364100-1633365900@dsacnj.org
SUMMARY:Academic 1 (Monday)
DESCRIPTION:Academic sessions allow an opportunity to work on academic skills in a small group setting led by a Club DREAMS team member.  Sessions are fun and interactive yet review key academic skills in fields of math\, reading\, science\, geography\, time and money. All learners working on the skills for the content planned for the session are welcome to join.  Approximate age range for content is as follows: Level 1: under 7 learners; Level 2:  7-10 years;  Level 3:  11-13 years; Level 4:  14+ Years \nRegister Below. This link will register you all scheduled upcoming sessions – no commitment required.  Drop in and regular attendance welcome. After registering\, you will receive a confirmation email containing information about joining the meeting. \nREGISTER HERE FOR THIS VIRTUAL ONLY PROGRAM
URL:https://dsacnj.org/event/academic-1/2021-10-04/
LOCATION:
CATEGORIES:ACADEMICS,Children,Online virtual events
END:VEVENT
BEGIN:VEVENT
DTSTART;TZID=UTC:20211003T160000
DTEND;TZID=UTC:20211003T164500
DTSTAMP:20260425T081918
CREATED:20210826T022130Z
LAST-MODIFIED:20211205T233706Z
UID:10000219-1633276800-1633279500@dsacnj.org
SUMMARY:ON PAUSE UNTIL FURTHER NOTICE- Dance mixed styles- ages 13+
DESCRIPTION:Dance instruction in varied styles rotating every 12 weeks followed by a showcase of the dance learned.   Work on techniques in ballet\, contemporary\, lyrical\, jazz\, hiphop and others.   This class is for ages 13+ \nMeet new friends and have some fun. \nLed by an experienced dance teacher.
URL:https://dsacnj.org/event/dance-mixed-styles-ages-13/2021-10-03/
LOCATION:Club DREAMS\, 25 Scotch Rd.\, Suite H\, Ewing\, NJ\, 08628\, United States
CATEGORIES:ENRICHMENT,Fitness/dance/sports,In person events
ORGANIZER;CN="Club DREAMS team":MAILTO:Clubdreams@dsacnj.org
END:VEVENT
BEGIN:VEVENT
DTSTART;TZID=UTC:20211003T150000
DTEND;TZID=UTC:20211003T154500
DTSTAMP:20260425T081918
CREATED:20210826T021959Z
LAST-MODIFIED:20211205T233815Z
UID:10000210-1633273200-1633275900@dsacnj.org
SUMMARY:ON PAUSE UNTIL FURTHER NOTICE- Dance - mixed styles ages 7-12 (Sunday)
DESCRIPTION:Dance instruction in varied styles rotating every 12 weeks followed by a showcase of the dance learned.   Work on techniques in ballet\, contemporary\, lyrical\, jazz\, hiphop and others.   This class is for ages 7-12. \nMeet new friends and have some fun. \nLed by an experienced dance teacher.
URL:https://dsacnj.org/event/dance-mixed-styles-ages-7-12/2021-10-03/
LOCATION:Club DREAMS\, 25 Scotch Rd.\, Suite H\, Ewing\, NJ\, 08628\, United States
CATEGORIES:ENRICHMENT,Fitness/dance/sports,In person events
END:VEVENT
BEGIN:VEVENT
DTSTART;TZID=UTC:20211003T110000
DTEND;TZID=UTC:20211003T114500
DTSTAMP:20260425T081918
CREATED:20210826T021439Z
LAST-MODIFIED:20210908T044805Z
UID:10000195-1633258800-1633261500@dsacnj.org
SUMMARY:Parent and Me Movement and Music (Sunday)
DESCRIPTION:This program is designed for our youngest members to work on gross and fine motor skills while enjoying bonding with a parent and meeting new friends.   Run by a physical therapy assistant and one of our interns. Most appropriate for ages 5 and under. \nMusic will be integrated and rhythm.  This will be live in person at Club DREAMS and virtually streamed for those wishing to participate from home. \nREGISTER HERE FOR VIRTUAL PARTICIPATION FROM HOME \nREGISTER BELOW TO PARTICIPATE IN PERSON – Limited capacity for the safety of our members.
URL:https://dsacnj.org/event/mommy-and-me-movement-and-music/2021-10-03/
LOCATION:VIRTUAL OR ON SITE CLUB DREAMS\, 25 Scotch Rd\, Suite H\, Ewing\, NJ\, 08628\, United States
CATEGORIES:Arts/music,Babies/Toddler,Children,ENRICHMENT,Fitness/dance/sports,In person events,Online virtual events
ORGANIZER;CN="Club DREAMS team":MAILTO:Clubdreams@dsacnj.org
END:VEVENT
BEGIN:VEVENT
DTSTART;TZID=UTC:20211003T100000
DTEND;TZID=UTC:20211003T104500
DTSTAMP:20260425T081918
CREATED:20210826T020945Z
LAST-MODIFIED:20220108T025344Z
UID:10000181-1633255200-1633257900@dsacnj.org
SUMMARY:Yoga (Sunday)
DESCRIPTION:Come join us for a refreshing group morning yoga session. Practice easy poses and share some laughs with the group. Session will be run online only temporarily! \nREGISTER HERE TO JOIN VIRTUALLY FROM HOME  This link will register you for all the sessions of the season – no commitment required.  Drop in and regular attendance welcome. After registering\, you will receive a confirmation email containing information about joining the meeting. \n  \n 
URL:https://dsacnj.org/event/yoga-2/2021-10-03/
LOCATION:VIRTUAL OR ON SITE CLUB DREAMS\, 25 Scotch Rd\, Suite H\, Ewing\, NJ\, 08628\, United States
CATEGORIES:ENRICHMENT,Fitness/dance/sports,In person events,Online virtual events
END:VEVENT
BEGIN:VEVENT
DTSTART;TZID=UTC:20211001T170000
DTEND;TZID=UTC:20211001T183000
DTSTAMP:20260425T081918
CREATED:20210925T192838Z
LAST-MODIFIED:20210925T192838Z
UID:10000001-1633107600-1633113000@dsacnj.org
SUMMARY:GAME NIGHT 10/1
DESCRIPTION:Come join us at our center for a fun-filled game night! Connect 4\, Bingo\, board games\, you name it!! See you there! \nClick the button below to register!
URL:https://dsacnj.org/event/game-night-10-1/
LOCATION:NJ
CATEGORIES:In person events,SOCIAL,SPECIAL EVENT
ORGANIZER;CN="Club DREAMS team":MAILTO:Clubdreams@dsacnj.org
END:VEVENT
BEGIN:VEVENT
DTSTART;TZID=UTC:20210930T153000
DTEND;TZID=UTC:20210930T163000
DTSTAMP:20260425T081918
CREATED:20210825T102218Z
LAST-MODIFIED:20210908T044208Z
UID:10000112-1633015800-1633019400@dsacnj.org
SUMMARY:Homework Helpers (Thursday)
DESCRIPTION:This in person session is led by a college intern with experience teaching children and adults with Down syndrome.  Come in with your homework questions\, work on assignments\, work on academic goals.  We will request you to provide learning goals when participating in this session so that we can best meet your needs.  Capacity is limited.
URL:https://dsacnj.org/event/homework-helpers-2/2021-09-30/
LOCATION:Club DREAMS\, 25 Scotch Rd.\, Suite H\, Ewing\, NJ\, 08628\, United States
CATEGORIES:ACADEMICS,Adults 18+,Children,HOMEWORK HELPERS,In person events,Teens
END:VEVENT
BEGIN:VEVENT
DTSTART;TZID=UTC:20210929T163000
DTEND;TZID=UTC:20210929T173000
DTSTAMP:20260425T081918
CREATED:20210826T045202Z
LAST-MODIFIED:20210929T205741Z
UID:10000230-1632933000-1632936600@dsacnj.org
SUMMARY:Cooking - rainbow fruit salad
DESCRIPTION:Choosing good produce as well as cutting\, peeling and washing fruit properly is an important skill as is creating a beautiful display. Safety knives will be used. Ages 14 + \n  \nOn site – supplies provided \n 
URL:https://dsacnj.org/event/cooking-rainbow-fruit-salad/
LOCATION:Club DREAMS\, 25 Scotch Rd.\, Suite H\, Ewing\, NJ\, 08628\, United States
CATEGORIES:Adults 18+,ENRICHMENT,In person events,LIFE SKILLS/JOB SKILLS,SPECIAL EVENT,Teens
ORGANIZER;CN="Club DREAMS team":MAILTO:Clubdreams@dsacnj.org
END:VEVENT
BEGIN:VEVENT
DTSTART;TZID=UTC:20210929T160000
DTEND;TZID=UTC:20210929T163000
DTSTAMP:20260425T081918
CREATED:20210826T044915Z
LAST-MODIFIED:20210929T205521Z
UID:10000228-1632931200-1632933000@dsacnj.org
SUMMARY:Life skills - perfect table setting
DESCRIPTION:Learn to set a proper table and some tips for special occasion table settings and napkin folding. \nREGISTER FOR ONLINE HERE
URL:https://dsacnj.org/event/life-skills-perfect-table-setting/
LOCATION:Club DREAMS\, 25 Scotch Rd.\, Suite H\, Ewing\, NJ\, 08628\, United States
CATEGORIES:Adults 18+,ENRICHMENT,LIFE SKILLS/JOB SKILLS,SPECIAL EVENT,Teens
ORGANIZER;CN="Club DREAMS team":MAILTO:Clubdreams@dsacnj.org
END:VEVENT
BEGIN:VEVENT
DTSTART;TZID=UTC:20210928T170000
DTEND;TZID=UTC:20210928T183000
DTSTAMP:20260425T081918
CREATED:20210825T101633Z
LAST-MODIFIED:20210906T193223Z
UID:10000105-1632848400-1632853800@dsacnj.org
SUMMARY:Homework Helpers (Tuesday)
DESCRIPTION:This in person session is led by a certified teacher with special education background.  Come in with your homework questions\, work on assignments\, work on academic goals.  We will request you to provide learning goals when participating in this session so that we can best meet your needs.  Capacity is limited.
URL:https://dsacnj.org/event/homework-helpers/2021-09-28/
LOCATION:Club DREAMS\, 25 Scotch Rd.\, Suite H\, Ewing\, NJ\, 08628\, United States
CATEGORIES:ACADEMICS,Adults 18+,Children,HOMEWORK HELPERS,In person events,Teens
ORGANIZER;CN="Club DREAMS team":MAILTO:Clubdreams@dsacnj.org
END:VEVENT
BEGIN:VEVENT
DTSTART;TZID=UTC:20210928T161500
DTEND;TZID=UTC:20210928T170000
DTSTAMP:20260425T081918
CREATED:20210825T095926Z
LAST-MODIFIED:20211006T000349Z
UID:10000097-1632845700-1632848400@dsacnj.org
SUMMARY:Academic Level 4 (Tuesday)
DESCRIPTION:Academic Level 4 is for teens to adults to work on academics that will assist with life long independence such as measuring\, multiplication\, division word problems\, money management\, time telling\, weather reports\, tipping\, paying bills. \nThis event will have a virtual teacher that can be observed on site from Club DREAMS for our in person participants or you can register to participate from home. Be sure to choose the correct registration option below. If you register as a virtual participant but decide to come to Club DREAMS on certain days\, please register again for in person option using link below on the dates you choose to come in person. \nREGISTER FOR VIRTUAL PARTICIPATION FROM HOME HERE.Registration will schedule you for all sessions in our fall season – no commitment is required. Drop in and regular attendance welcome. After registering\, you will receive a confirmation email containing information about joining the meeting. \nUse the register button below if you will be coming to Club DREAMS to participate in this session. 
URL:https://dsacnj.org/event/academic-level-4/2021-09-28/
LOCATION:VIRTUAL OR ON SITE CLUB DREAMS\, 25 Scotch Rd\, Suite H\, Ewing\, NJ\, 08628\, United States
CATEGORIES:ACADEMICS,Adults 18+,In person events,Online virtual events
END:VEVENT
BEGIN:VEVENT
DTSTART;TZID=UTC:20210927T161500
DTEND;TZID=UTC:20210927T164500
DTSTAMP:20260425T081918
CREATED:20210825T111112Z
LAST-MODIFIED:20220103T073647Z
UID:10000123-1632759300-1632761100@dsacnj.org
SUMMARY:Academic 1 (Monday)
DESCRIPTION:Academic sessions allow an opportunity to work on academic skills in a small group setting led by a Club DREAMS team member.  Sessions are fun and interactive yet review key academic skills in fields of math\, reading\, science\, geography\, time and money. All learners working on the skills for the content planned for the session are welcome to join.  Approximate age range for content is as follows: Level 1: under 7 learners; Level 2:  7-10 years;  Level 3:  11-13 years; Level 4:  14+ Years \nRegister Below. This link will register you all scheduled upcoming sessions – no commitment required.  Drop in and regular attendance welcome. After registering\, you will receive a confirmation email containing information about joining the meeting. \nREGISTER HERE FOR THIS VIRTUAL ONLY PROGRAM
URL:https://dsacnj.org/event/academic-1/2021-09-27/
LOCATION:
CATEGORIES:ACADEMICS,Children,Online virtual events
END:VEVENT
BEGIN:VEVENT
DTSTART;TZID=UTC:20210926T150000
DTEND;TZID=UTC:20210926T154500
DTSTAMP:20260425T081918
CREATED:20210826T021959Z
LAST-MODIFIED:20211205T233815Z
UID:10000209-1632668400-1632671100@dsacnj.org
SUMMARY:ON PAUSE UNTIL FURTHER NOTICE- Dance - mixed styles ages 7-12 (Sunday)
DESCRIPTION:Dance instruction in varied styles rotating every 12 weeks followed by a showcase of the dance learned.   Work on techniques in ballet\, contemporary\, lyrical\, jazz\, hiphop and others.   This class is for ages 7-12. \nMeet new friends and have some fun. \nLed by an experienced dance teacher.
URL:https://dsacnj.org/event/dance-mixed-styles-ages-7-12/2021-09-26/
LOCATION:Club DREAMS\, 25 Scotch Rd.\, Suite H\, Ewing\, NJ\, 08628\, United States
CATEGORIES:ENRICHMENT,Fitness/dance/sports,In person events
END:VEVENT
BEGIN:VEVENT
DTSTART;TZID=UTC:20210926T110000
DTEND;TZID=UTC:20210926T114500
DTSTAMP:20260425T081918
CREATED:20210826T021439Z
LAST-MODIFIED:20210908T044805Z
UID:10000194-1632654000-1632656700@dsacnj.org
SUMMARY:Parent and Me Movement and Music (Sunday)
DESCRIPTION:This program is designed for our youngest members to work on gross and fine motor skills while enjoying bonding with a parent and meeting new friends.   Run by a physical therapy assistant and one of our interns. Most appropriate for ages 5 and under. \nMusic will be integrated and rhythm.  This will be live in person at Club DREAMS and virtually streamed for those wishing to participate from home. \nREGISTER HERE FOR VIRTUAL PARTICIPATION FROM HOME \nREGISTER BELOW TO PARTICIPATE IN PERSON – Limited capacity for the safety of our members.
URL:https://dsacnj.org/event/mommy-and-me-movement-and-music/2021-09-26/
LOCATION:VIRTUAL OR ON SITE CLUB DREAMS\, 25 Scotch Rd\, Suite H\, Ewing\, NJ\, 08628\, United States
CATEGORIES:Arts/music,Babies/Toddler,Children,ENRICHMENT,Fitness/dance/sports,In person events,Online virtual events
ORGANIZER;CN="Club DREAMS team":MAILTO:Clubdreams@dsacnj.org
END:VEVENT
BEGIN:VEVENT
DTSTART;TZID=UTC:20210926T100000
DTEND;TZID=UTC:20210926T104500
DTSTAMP:20260425T081918
CREATED:20210826T020945Z
LAST-MODIFIED:20220108T025344Z
UID:10000180-1632650400-1632653100@dsacnj.org
SUMMARY:Yoga (Sunday)
DESCRIPTION:Come join us for a refreshing group morning yoga session. Practice easy poses and share some laughs with the group. Session will be run online only temporarily! \nREGISTER HERE TO JOIN VIRTUALLY FROM HOME  This link will register you for all the sessions of the season – no commitment required.  Drop in and regular attendance welcome. After registering\, you will receive a confirmation email containing information about joining the meeting. \n  \n 
URL:https://dsacnj.org/event/yoga-2/2021-09-26/
LOCATION:VIRTUAL OR ON SITE CLUB DREAMS\, 25 Scotch Rd\, Suite H\, Ewing\, NJ\, 08628\, United States
CATEGORIES:ENRICHMENT,Fitness/dance/sports,In person events,Online virtual events
END:VEVENT
BEGIN:VEVENT
DTSTART;TZID=UTC:20210925T100000
DTEND;TZID=UTC:20210925T103000
DTSTAMP:20260425T081918
CREATED:20210918T191348Z
LAST-MODIFIED:20220310T205935Z
UID:10000006-1632564000-1632565800@dsacnj.org
SUMMARY:Storytelling with Caroline
DESCRIPTION:Do you love listening to stories? Come to our center (or online) on Saturday mornings at 10:00 to hear your favorite stories!! Register for virtual zoom here This link will register you for all the sessions of the season – no commitment required.  Drop in and regular attendance welcome. After registering\, you will receive a confirmation email containing information about joining the meeting.   REGISTER BELOW IF ATTENDING LIVE IN PERSON AT CLUB DREAMS -limited capacity   \n\n\n\n\n\n\n\n\n\n 
URL:https://dsacnj.org/event/storytelling-with-caroline/
LOCATION:VIRTUAL OR ON SITE CLUB DREAMS\, 25 Scotch Rd\, Suite H\, Ewing\, NJ\, 08628\, United States
CATEGORIES:ENRICHMENT
ORGANIZER;CN="Club DREAMS team":MAILTO:Clubdreams@dsacnj.org
END:VEVENT
BEGIN:VEVENT
DTSTART;TZID=UTC:20210924T170000
DTEND;TZID=UTC:20210924T183000
DTSTAMP:20260425T081918
CREATED:20210826T044518Z
LAST-MODIFIED:20210826T044550Z
UID:10000226-1632502800-1632508200@dsacnj.org
SUMMARY:Canvas Painting
DESCRIPTION:Join us for a guided drawing and canvas painting design.  Supplies provided.  Ages 7+ \nParent required to stay if under 11
URL:https://dsacnj.org/event/canvas-painting/
LOCATION:Club DREAMS\, 25 Scotch Rd.\, Suite H\, Ewing\, NJ\, 08628\, United States
CATEGORIES:Arts/music,ENRICHMENT,In person events,SPECIAL EVENT
ORGANIZER;CN="Club DREAMS team":MAILTO:Clubdreams@dsacnj.org
END:VEVENT
BEGIN:VEVENT
DTSTART;TZID=UTC:20210924T140000
DTEND;TZID=UTC:20210924T180000
DTSTAMP:20260425T081918
CREATED:20210924T192111Z
LAST-MODIFIED:20220216T201541Z
UID:10000011-1632492000-1632506400@dsacnj.org
SUMMARY:Open Play (ON HOLD)
DESCRIPTION:OPEN PLAY IS CURRENTLY ON HOLD- WE WILL UPDATE YOU WHEN OPEN PLAY IS BACK UP AND RUNNING! \nThank you for your understanding! 🙂 \n  \nOpen play allow participants to enjoy our space in the age appropriate area of the center.  Climb\, read\, write\, explore\, pretend\, get gaming! \nPlan to meet up with friends and other families to enjoy Club DREAMS. \nCapacity is limited.   Open play is opened to community for integrative play if space permits. \nIN PERSON ONLY \nIndividuals with Down syndrome and siblings free.  We love inclusive play and we invite community peers at $10 per session.    If your registration is confirmed please pay under donation page $10 to PayPal link and type Open play in comments.
URL:https://dsacnj.org/event/open-play-friday-2/
LOCATION:NJ
CATEGORIES:Babies/Toddler,Children,In person events,SOCIAL
ORGANIZER;CN="Club DREAMS team":MAILTO:Clubdreams@dsacnj.org
END:VEVENT
BEGIN:VEVENT
DTSTART;TZID=UTC:20210923T153000
DTEND;TZID=UTC:20210923T163000
DTSTAMP:20260425T081918
CREATED:20210825T102218Z
LAST-MODIFIED:20210908T044208Z
UID:10000111-1632411000-1632414600@dsacnj.org
SUMMARY:Homework Helpers (Thursday)
DESCRIPTION:This in person session is led by a college intern with experience teaching children and adults with Down syndrome.  Come in with your homework questions\, work on assignments\, work on academic goals.  We will request you to provide learning goals when participating in this session so that we can best meet your needs.  Capacity is limited.
URL:https://dsacnj.org/event/homework-helpers-2/2021-09-23/
LOCATION:Club DREAMS\, 25 Scotch Rd.\, Suite H\, Ewing\, NJ\, 08628\, United States
CATEGORIES:ACADEMICS,Adults 18+,Children,HOMEWORK HELPERS,In person events,Teens
END:VEVENT
BEGIN:VEVENT
DTSTART;TZID=UTC:20210921T170000
DTEND;TZID=UTC:20210921T183000
DTSTAMP:20260425T081918
CREATED:20210825T101633Z
LAST-MODIFIED:20210906T193223Z
UID:10000104-1632243600-1632249000@dsacnj.org
SUMMARY:Homework Helpers (Tuesday)
DESCRIPTION:This in person session is led by a certified teacher with special education background.  Come in with your homework questions\, work on assignments\, work on academic goals.  We will request you to provide learning goals when participating in this session so that we can best meet your needs.  Capacity is limited.
URL:https://dsacnj.org/event/homework-helpers/2021-09-21/
LOCATION:Club DREAMS\, 25 Scotch Rd.\, Suite H\, Ewing\, NJ\, 08628\, United States
CATEGORIES:ACADEMICS,Adults 18+,Children,HOMEWORK HELPERS,In person events,Teens
ORGANIZER;CN="Club DREAMS team":MAILTO:Clubdreams@dsacnj.org
END:VEVENT
BEGIN:VEVENT
DTSTART;TZID=UTC:20210921T161500
DTEND;TZID=UTC:20210921T170000
DTSTAMP:20260425T081918
CREATED:20210825T095926Z
LAST-MODIFIED:20211006T000349Z
UID:10000096-1632240900-1632243600@dsacnj.org
SUMMARY:Academic Level 4 (Tuesday)
DESCRIPTION:Academic Level 4 is for teens to adults to work on academics that will assist with life long independence such as measuring\, multiplication\, division word problems\, money management\, time telling\, weather reports\, tipping\, paying bills. \nThis event will have a virtual teacher that can be observed on site from Club DREAMS for our in person participants or you can register to participate from home. Be sure to choose the correct registration option below. If you register as a virtual participant but decide to come to Club DREAMS on certain days\, please register again for in person option using link below on the dates you choose to come in person. \nREGISTER FOR VIRTUAL PARTICIPATION FROM HOME HERE.Registration will schedule you for all sessions in our fall season – no commitment is required. Drop in and regular attendance welcome. After registering\, you will receive a confirmation email containing information about joining the meeting. \nUse the register button below if you will be coming to Club DREAMS to participate in this session. 
URL:https://dsacnj.org/event/academic-level-4/2021-09-21/
LOCATION:VIRTUAL OR ON SITE CLUB DREAMS\, 25 Scotch Rd\, Suite H\, Ewing\, NJ\, 08628\, United States
CATEGORIES:ACADEMICS,Adults 18+,In person events,Online virtual events
END:VEVENT
BEGIN:VEVENT
DTSTART;TZID=UTC:20210920T161500
DTEND;TZID=UTC:20210920T164500
DTSTAMP:20260425T081918
CREATED:20210825T111112Z
LAST-MODIFIED:20220103T073647Z
UID:10000122-1632154500-1632156300@dsacnj.org
SUMMARY:Academic 1 (Monday)
DESCRIPTION:Academic sessions allow an opportunity to work on academic skills in a small group setting led by a Club DREAMS team member.  Sessions are fun and interactive yet review key academic skills in fields of math\, reading\, science\, geography\, time and money. All learners working on the skills for the content planned for the session are welcome to join.  Approximate age range for content is as follows: Level 1: under 7 learners; Level 2:  7-10 years;  Level 3:  11-13 years; Level 4:  14+ Years \nRegister Below. This link will register you all scheduled upcoming sessions – no commitment required.  Drop in and regular attendance welcome. After registering\, you will receive a confirmation email containing information about joining the meeting. \nREGISTER HERE FOR THIS VIRTUAL ONLY PROGRAM
URL:https://dsacnj.org/event/academic-1/2021-09-20/
LOCATION:
CATEGORIES:ACADEMICS,Children,Online virtual events
END:VEVENT
BEGIN:VEVENT
DTSTART;TZID=UTC:20210919T150000
DTEND;TZID=UTC:20210919T154500
DTSTAMP:20260425T081918
CREATED:20210826T021959Z
LAST-MODIFIED:20211205T233815Z
UID:10000208-1632063600-1632066300@dsacnj.org
SUMMARY:ON PAUSE UNTIL FURTHER NOTICE- Dance - mixed styles ages 7-12 (Sunday)
DESCRIPTION:Dance instruction in varied styles rotating every 12 weeks followed by a showcase of the dance learned.   Work on techniques in ballet\, contemporary\, lyrical\, jazz\, hiphop and others.   This class is for ages 7-12. \nMeet new friends and have some fun. \nLed by an experienced dance teacher.
URL:https://dsacnj.org/event/dance-mixed-styles-ages-7-12/2021-09-19/
LOCATION:Club DREAMS\, 25 Scotch Rd.\, Suite H\, Ewing\, NJ\, 08628\, United States
CATEGORIES:ENRICHMENT,Fitness/dance/sports,In person events
END:VEVENT
BEGIN:VEVENT
DTSTART;TZID=UTC:20210919T110000
DTEND;TZID=UTC:20210919T114500
DTSTAMP:20260425T081918
CREATED:20210826T021439Z
LAST-MODIFIED:20220608T013302Z
UID:10000206-1632049200-1632051900@dsacnj.org
SUMMARY:Parent and Me Movement and Music (Sunday)
DESCRIPTION:This program is designed for our youngest members to work on gross and fine motor skills while enjoying bonding with a parent and meeting new friends.   Run by a physical therapy assistant and one of our interns. Most appropriate for ages 5 and under. \nMusic will be integrated and rhythm.  This will be live in person at Club DREAMS and virtually streamed for those wishing to participate from home. \nREGISTER HERE FOR VIRTUAL PARTICIPATION FROM HOME \nREGISTER BELOW TO PARTICIPATE IN PERSON – Limited capacity for the safety of our members.
URL:https://dsacnj.org/event/mommy-and-me-movement-and-music-2021-09-19/
LOCATION:VIRTUAL OR ON SITE CLUB DREAMS\, 25 Scotch Rd\, Suite H\, Ewing\, NJ\, 08628\, United States
CATEGORIES:Arts/music,Babies/Toddler,Children,ENRICHMENT,Fitness/dance/sports,In person events,Online virtual events
ORGANIZER;CN="Club DREAMS team":MAILTO:Clubdreams@dsacnj.org
END:VEVENT
BEGIN:VEVENT
DTSTART;TZID=UTC:20210919T100000
DTEND;TZID=UTC:20210919T104500
DTSTAMP:20260425T081918
CREATED:20210826T020945Z
LAST-MODIFIED:20220108T025344Z
UID:10000179-1632045600-1632048300@dsacnj.org
SUMMARY:Yoga (Sunday)
DESCRIPTION:Come join us for a refreshing group morning yoga session. Practice easy poses and share some laughs with the group. Session will be run online only temporarily! \nREGISTER HERE TO JOIN VIRTUALLY FROM HOME  This link will register you for all the sessions of the season – no commitment required.  Drop in and regular attendance welcome. After registering\, you will receive a confirmation email containing information about joining the meeting. \n  \n 
URL:https://dsacnj.org/event/yoga-2/2021-09-19/
LOCATION:VIRTUAL OR ON SITE CLUB DREAMS\, 25 Scotch Rd\, Suite H\, Ewing\, NJ\, 08628\, United States
CATEGORIES:ENRICHMENT,Fitness/dance/sports,In person events,Online virtual events
END:VEVENT
BEGIN:VEVENT
DTSTART;TZID=UTC:20210918T160000
DTEND;TZID=UTC:20210918T180000
DTSTAMP:20260425T081918
CREATED:20210826T043913Z
LAST-MODIFIED:20210826T043913Z
UID:10000223-1631980800-1631988000@dsacnj.org
SUMMARY:BINGO NIGHT
DESCRIPTION:Fun BINGO game night.\nPrizes will be offered!\n7 and older (parent required to stay if under 11)
URL:https://dsacnj.org/event/bingo-night/
LOCATION:Club DREAMS\, 25 Scotch Rd.\, Suite H\, Ewing\, NJ\, 08628\, United States
CATEGORIES:In person events,SPECIAL EVENT
ORGANIZER;CN="Club DREAMS team":MAILTO:Clubdreams@dsacnj.org
END:VEVENT
END:VCALENDAR