BEGIN:VCALENDAR
VERSION:2.0
PRODID:-//Down Syndrome Association of Central New Jersey - ECPv6.15.15//NONSGML v1.0//EN
CALSCALE:GREGORIAN
METHOD:PUBLISH
X-WR-CALNAME:Down Syndrome Association of Central New Jersey
X-ORIGINAL-URL:https://dsacnj.org
X-WR-CALDESC:Events for Down Syndrome Association of Central New Jersey
REFRESH-INTERVAL;VALUE=DURATION:PT1H
X-Robots-Tag:noindex
X-PUBLISHED-TTL:PT1H
BEGIN:VTIMEZONE
TZID:UTC
BEGIN:STANDARD
TZOFFSETFROM:+0000
TZOFFSETTO:+0000
TZNAME:UTC
DTSTART:20200101T000000
END:STANDARD
END:VTIMEZONE
BEGIN:VTIMEZONE
TZID:America/New_York
BEGIN:DAYLIGHT
TZOFFSETFROM:-0500
TZOFFSETTO:-0400
TZNAME:EDT
DTSTART:20200308T070000
END:DAYLIGHT
BEGIN:STANDARD
TZOFFSETFROM:-0400
TZOFFSETTO:-0500
TZNAME:EST
DTSTART:20201101T060000
END:STANDARD
BEGIN:DAYLIGHT
TZOFFSETFROM:-0500
TZOFFSETTO:-0400
TZNAME:EDT
DTSTART:20210314T070000
END:DAYLIGHT
BEGIN:STANDARD
TZOFFSETFROM:-0400
TZOFFSETTO:-0500
TZNAME:EST
DTSTART:20211107T060000
END:STANDARD
BEGIN:DAYLIGHT
TZOFFSETFROM:-0500
TZOFFSETTO:-0400
TZNAME:EDT
DTSTART:20220313T070000
END:DAYLIGHT
BEGIN:STANDARD
TZOFFSETFROM:-0400
TZOFFSETTO:-0500
TZNAME:EST
DTSTART:20221106T060000
END:STANDARD
END:VTIMEZONE
BEGIN:VEVENT
DTSTART;TZID=UTC:20210917T163000
DTEND;TZID=UTC:20210917T173000
DTSTAMP:20260425T122938
CREATED:20210903T225106Z
LAST-MODIFIED:20210903T225106Z
UID:10000239-1631896200-1631899800@dsacnj.org
SUMMARY:New Parent/Young Child Meet Up
DESCRIPTION:This program is for parent or relatives of young children (under 7) to come along with your children to meet up with other parents of young children.  The kids can enjoy. interacting and building friendships while the parents can share experiences and resources. \nAt this time program is limited to 5 children and parents on site at one time. We have over 3300 square feet of space to spread out and enjoy. \nSiblings are welcome to also enjoy support and friendship. \nMasks required for all those over 2 years old. \nIn Person only.
URL:https://dsacnj.org/event/new-parent-young-child-meet-up/
LOCATION:Club DREAMS\, 25 Scotch Rd.\, Suite H\, Ewing\, NJ\, 08628\, United States
CATEGORIES:Babies/Toddler,Children,FAMILY SUPPORT,In person events,Parent/family socials (TBD),Siblings
ORGANIZER;CN="Club DREAMS team":MAILTO:Clubdreams@dsacnj.org
END:VEVENT
BEGIN:VEVENT
DTSTART;TZID=UTC:20210916T181500
DTEND;TZID=UTC:20210916T191500
DTSTAMP:20260425T122938
CREATED:20210826T044157Z
LAST-MODIFIED:20210826T044157Z
UID:10000224-1631816100-1631819700@dsacnj.org
SUMMARY:Barre technique
DESCRIPTION:Calling all dancers to stretch and improve barre technique with our pro dance instructor! \nLimited to 5 in person dancers.
URL:https://dsacnj.org/event/barre-technique/
LOCATION:Club DREAMS\, 25 Scotch Rd.\, Suite H\, Ewing\, NJ\, 08628\, United States
CATEGORIES:ENRICHMENT,Fitness/dance/sports,In person events,SPECIAL EVENT
ORGANIZER;CN="Club DREAMS team":MAILTO:Clubdreams@dsacnj.org
END:VEVENT
BEGIN:VEVENT
DTSTART;TZID=UTC:20210916T153000
DTEND;TZID=UTC:20210916T163000
DTSTAMP:20260425T122938
CREATED:20210825T102218Z
LAST-MODIFIED:20210908T044208Z
UID:10000110-1631806200-1631809800@dsacnj.org
SUMMARY:Homework Helpers (Thursday)
DESCRIPTION:This in person session is led by a college intern with experience teaching children and adults with Down syndrome.  Come in with your homework questions\, work on assignments\, work on academic goals.  We will request you to provide learning goals when participating in this session so that we can best meet your needs.  Capacity is limited.
URL:https://dsacnj.org/event/homework-helpers-2/2021-09-16/
LOCATION:Club DREAMS\, 25 Scotch Rd.\, Suite H\, Ewing\, NJ\, 08628\, United States
CATEGORIES:ACADEMICS,Adults 18+,Children,HOMEWORK HELPERS,In person events,Teens
END:VEVENT
BEGIN:VEVENT
DTSTART;TZID=UTC:20210914T170000
DTEND;TZID=UTC:20210914T183000
DTSTAMP:20260425T122938
CREATED:20210825T101633Z
LAST-MODIFIED:20210906T193223Z
UID:10000103-1631638800-1631644200@dsacnj.org
SUMMARY:Homework Helpers (Tuesday)
DESCRIPTION:This in person session is led by a certified teacher with special education background.  Come in with your homework questions\, work on assignments\, work on academic goals.  We will request you to provide learning goals when participating in this session so that we can best meet your needs.  Capacity is limited.
URL:https://dsacnj.org/event/homework-helpers/2021-09-14/
LOCATION:Club DREAMS\, 25 Scotch Rd.\, Suite H\, Ewing\, NJ\, 08628\, United States
CATEGORIES:ACADEMICS,Adults 18+,Children,HOMEWORK HELPERS,In person events,Teens
ORGANIZER;CN="Club DREAMS team":MAILTO:Clubdreams@dsacnj.org
END:VEVENT
BEGIN:VEVENT
DTSTART;TZID=UTC:20210914T161500
DTEND;TZID=UTC:20210914T170000
DTSTAMP:20260425T122938
CREATED:20210825T095926Z
LAST-MODIFIED:20211006T000349Z
UID:10000095-1631636100-1631638800@dsacnj.org
SUMMARY:Academic Level 4 (Tuesday)
DESCRIPTION:Academic Level 4 is for teens to adults to work on academics that will assist with life long independence such as measuring\, multiplication\, division word problems\, money management\, time telling\, weather reports\, tipping\, paying bills. \nThis event will have a virtual teacher that can be observed on site from Club DREAMS for our in person participants or you can register to participate from home. Be sure to choose the correct registration option below. If you register as a virtual participant but decide to come to Club DREAMS on certain days\, please register again for in person option using link below on the dates you choose to come in person. \nREGISTER FOR VIRTUAL PARTICIPATION FROM HOME HERE.Registration will schedule you for all sessions in our fall season – no commitment is required. Drop in and regular attendance welcome. After registering\, you will receive a confirmation email containing information about joining the meeting. \nUse the register button below if you will be coming to Club DREAMS to participate in this session. 
URL:https://dsacnj.org/event/academic-level-4/2021-09-14/
LOCATION:VIRTUAL OR ON SITE CLUB DREAMS\, 25 Scotch Rd\, Suite H\, Ewing\, NJ\, 08628\, United States
CATEGORIES:ACADEMICS,Adults 18+,In person events,Online virtual events
END:VEVENT
BEGIN:VEVENT
DTSTART;TZID=UTC:20210913T161500
DTEND;TZID=UTC:20210913T164500
DTSTAMP:20260425T122938
CREATED:20210825T111112Z
LAST-MODIFIED:20220103T073647Z
UID:10000121-1631549700-1631551500@dsacnj.org
SUMMARY:Academic 1 (Monday)
DESCRIPTION:Academic sessions allow an opportunity to work on academic skills in a small group setting led by a Club DREAMS team member.  Sessions are fun and interactive yet review key academic skills in fields of math\, reading\, science\, geography\, time and money. All learners working on the skills for the content planned for the session are welcome to join.  Approximate age range for content is as follows: Level 1: under 7 learners; Level 2:  7-10 years;  Level 3:  11-13 years; Level 4:  14+ Years \nRegister Below. This link will register you all scheduled upcoming sessions – no commitment required.  Drop in and regular attendance welcome. After registering\, you will receive a confirmation email containing information about joining the meeting. \nREGISTER HERE FOR THIS VIRTUAL ONLY PROGRAM
URL:https://dsacnj.org/event/academic-1/2021-09-13/
LOCATION:
CATEGORIES:ACADEMICS,Children,Online virtual events
END:VEVENT
BEGIN:VEVENT
DTSTART;TZID=UTC:20210912T160000
DTEND;TZID=UTC:20210912T164500
DTSTAMP:20260425T122938
CREATED:20210826T022130Z
LAST-MODIFIED:20211205T233706Z
UID:10000218-1631462400-1631465100@dsacnj.org
SUMMARY:ON PAUSE UNTIL FURTHER NOTICE- Dance mixed styles- ages 13+
DESCRIPTION:Dance instruction in varied styles rotating every 12 weeks followed by a showcase of the dance learned.   Work on techniques in ballet\, contemporary\, lyrical\, jazz\, hiphop and others.   This class is for ages 13+ \nMeet new friends and have some fun. \nLed by an experienced dance teacher.
URL:https://dsacnj.org/event/dance-mixed-styles-ages-13/2021-09-12/
LOCATION:Club DREAMS\, 25 Scotch Rd.\, Suite H\, Ewing\, NJ\, 08628\, United States
CATEGORIES:ENRICHMENT,Fitness/dance/sports,In person events
ORGANIZER;CN="Club DREAMS team":MAILTO:Clubdreams@dsacnj.org
END:VEVENT
BEGIN:VEVENT
DTSTART;TZID=UTC:20210912T150000
DTEND;TZID=UTC:20210912T154500
DTSTAMP:20260425T122938
CREATED:20210826T021959Z
LAST-MODIFIED:20211205T233815Z
UID:10000207-1631458800-1631461500@dsacnj.org
SUMMARY:ON PAUSE UNTIL FURTHER NOTICE- Dance - mixed styles ages 7-12 (Sunday)
DESCRIPTION:Dance instruction in varied styles rotating every 12 weeks followed by a showcase of the dance learned.   Work on techniques in ballet\, contemporary\, lyrical\, jazz\, hiphop and others.   This class is for ages 7-12. \nMeet new friends and have some fun. \nLed by an experienced dance teacher.
URL:https://dsacnj.org/event/dance-mixed-styles-ages-7-12/2021-09-12/
LOCATION:Club DREAMS\, 25 Scotch Rd.\, Suite H\, Ewing\, NJ\, 08628\, United States
CATEGORIES:ENRICHMENT,Fitness/dance/sports,In person events
END:VEVENT
BEGIN:VEVENT
DTSTART;TZID=UTC:20210912T110000
DTEND;TZID=UTC:20210912T114500
DTSTAMP:20260425T122938
CREATED:20210826T021439Z
LAST-MODIFIED:20210908T044805Z
UID:10000193-1631444400-1631447100@dsacnj.org
SUMMARY:Parent and Me Movement and Music (Sunday)
DESCRIPTION:This program is designed for our youngest members to work on gross and fine motor skills while enjoying bonding with a parent and meeting new friends.   Run by a physical therapy assistant and one of our interns. Most appropriate for ages 5 and under. \nMusic will be integrated and rhythm.  This will be live in person at Club DREAMS and virtually streamed for those wishing to participate from home. \nREGISTER HERE FOR VIRTUAL PARTICIPATION FROM HOME \nREGISTER BELOW TO PARTICIPATE IN PERSON – Limited capacity for the safety of our members.
URL:https://dsacnj.org/event/mommy-and-me-movement-and-music/2021-09-12/
LOCATION:VIRTUAL OR ON SITE CLUB DREAMS\, 25 Scotch Rd\, Suite H\, Ewing\, NJ\, 08628\, United States
CATEGORIES:Arts/music,Babies/Toddler,Children,ENRICHMENT,Fitness/dance/sports,In person events,Online virtual events
ORGANIZER;CN="Club DREAMS team":MAILTO:Clubdreams@dsacnj.org
END:VEVENT
BEGIN:VEVENT
DTSTART;TZID=UTC:20210912T100000
DTEND;TZID=UTC:20210912T104500
DTSTAMP:20260425T122938
CREATED:20210826T020945Z
LAST-MODIFIED:20220108T025344Z
UID:10000178-1631440800-1631443500@dsacnj.org
SUMMARY:Yoga (Sunday)
DESCRIPTION:Come join us for a refreshing group morning yoga session. Practice easy poses and share some laughs with the group. Session will be run online only temporarily! \nREGISTER HERE TO JOIN VIRTUALLY FROM HOME  This link will register you for all the sessions of the season – no commitment required.  Drop in and regular attendance welcome. After registering\, you will receive a confirmation email containing information about joining the meeting. \n  \n 
URL:https://dsacnj.org/event/yoga-2/2021-09-12/
LOCATION:VIRTUAL OR ON SITE CLUB DREAMS\, 25 Scotch Rd\, Suite H\, Ewing\, NJ\, 08628\, United States
CATEGORIES:ENRICHMENT,Fitness/dance/sports,In person events,Online virtual events
END:VEVENT
BEGIN:VEVENT
DTSTART;TZID=UTC:20210910T180000
DTEND;TZID=UTC:20210910T200000
DTSTAMP:20260425T122938
CREATED:20210826T042956Z
LAST-MODIFIED:20210908T044346Z
UID:10000222-1631296800-1631304000@dsacnj.org
SUMMARY:Dance Night (Friday)
DESCRIPTION:Get together with friends to dance\, play games\, have slice pizza and have fun!\nPractice social dance moves\, line dances\, tiktok dances and more! Ages 13+ invited. \nPizza will be served.\nLive in person at Club DREAMS \nFirst 45 minutes will be streamed for virtual attendees. REGISTER HERE FOR VIRTUAL ATTENDANCE FROM HOME \nREGISTER BELOW FOR IN PERSON
URL:https://dsacnj.org/event/dance-night/
LOCATION:VIRTUAL OR ON SITE CLUB DREAMS\, 25 Scotch Rd\, Suite H\, Ewing\, NJ\, 08628\, United States
CATEGORIES:Adults 18+,In person events,Online virtual events,SPECIAL EVENT,Teens
ORGANIZER;CN="Club DREAMS team":MAILTO:Clubdreams@dsacnj.org
END:VEVENT
BEGIN:VEVENT
DTSTART;TZID=UTC:20210910T130000
DTEND;TZID=UTC:20210910T180000
DTSTAMP:20260425T122938
CREATED:20210906T045617Z
LAST-MODIFIED:20220216T201402Z
UID:10000002-1631278800-1631296800@dsacnj.org
SUMMARY:Open Play (ON HOLD)
DESCRIPTION:Open play allow participants to enjoy our space in the age appropriate area of the center.  Climb\, read\, write\, explore\, pretend\, get gaming! \nPlan to meet up with friends and other families to enjoy Club DREAMS. \nCapacity is limited.   Open play is opened to community for integrative play if space permits. \nIN PERSON ONLY \nIndividuals with Down syndrome and siblings free.  We love inclusive play and we invite community peers at $10 per session.    If your registration is confirmed please pay under donation page $10 to PayPal link and type Open play in comments.
URL:https://dsacnj.org/event/open-play-friday/2021-09-10/
LOCATION:Club DREAMS\, 25 Scotch Rd.\, Suite H\, Ewing\, NJ\, 08628\, United States
CATEGORIES:Adults 18+,Babies/Toddler,Children,FAMILY SUPPORT,In person events,Parent/family socials (TBD),Siblings,SOCIAL,Teens
ORGANIZER;CN="Club DREAMS team":MAILTO:Clubdreams@dsacnj.org
END:VEVENT
BEGIN:VEVENT
DTSTART;TZID=UTC:20210909T173000
DTEND;TZID=UTC:20210909T181500
DTSTAMP:20260425T122938
CREATED:20210825T211243Z
LAST-MODIFIED:20220104T194424Z
UID:10000177-1631208600-1631211300@dsacnj.org
SUMMARY:Life Skills
DESCRIPTION:Would you like to learn about some essential job or life skills important for everyone!  This is the class for you – especially focused on Older teens and Adults to encourage independence in general  and entry into the workforce.  Topics are presented in a fun and interactive setting and may include service skills\, computer skills\, interviewing skills\, social skills\, job search skills\, homemaker skills\, among other things. \nREGISTER HERE FOR VIRTUAL LIFE SKILLS \n  \nTEMPORARILY VIRTUAL ONLY
URL:https://dsacnj.org/event/life-skills/2021-09-09/
LOCATION:VIRTUAL OR ON SITE CLUB DREAMS\, 25 Scotch Rd\, Suite H\, Ewing\, NJ\, 08628\, United States
CATEGORIES:Adults 18+,ENRICHMENT,In person events,LIFE SKILLS/JOB SKILLS,Online virtual events,Teens
ORGANIZER;CN="Club DREAMS team":MAILTO:Clubdreams@dsacnj.org
END:VEVENT
BEGIN:VEVENT
DTSTART;TZID=UTC:20210909T153000
DTEND;TZID=UTC:20210909T163000
DTSTAMP:20260425T122938
CREATED:20210825T102218Z
LAST-MODIFIED:20210908T044208Z
UID:10000109-1631201400-1631205000@dsacnj.org
SUMMARY:Homework Helpers (Thursday)
DESCRIPTION:This in person session is led by a college intern with experience teaching children and adults with Down syndrome.  Come in with your homework questions\, work on assignments\, work on academic goals.  We will request you to provide learning goals when participating in this session so that we can best meet your needs.  Capacity is limited.
URL:https://dsacnj.org/event/homework-helpers-2/2021-09-09/
LOCATION:Club DREAMS\, 25 Scotch Rd.\, Suite H\, Ewing\, NJ\, 08628\, United States
CATEGORIES:ACADEMICS,Adults 18+,Children,HOMEWORK HELPERS,In person events,Teens
END:VEVENT
BEGIN:VEVENT
DTSTART;TZID=UTC:20210908T140000
DTEND;TZID=UTC:20210908T160000
DTSTAMP:20260425T122938
CREATED:20210825T104911Z
LAST-MODIFIED:20210922T210743Z
UID:10000120-1631109600-1631116800@dsacnj.org
SUMMARY:
DESCRIPTION:Open play allow participants to enjoy our space in the age appropriate area of the center.  Climb\, read\, write\, explore\, pretend\, get gaming! \nPlan to meet up with friends and other families to enjoy Club DREAMS. \nCapacity is limited.   Open play is opened to community for integrative play if space permits. \nIN PERSON ONLY \nIndividuals with Down syndrome and siblings free.  We love inclusive play and we invite community peers at $10 per session.    If your registration is confirmed please pay under donation page $10 to PayPal link and type Open play in comments.
URL:https://dsacnj.org/event/open-play/
LOCATION:Club DREAMS\, 25 Scotch Rd.\, Suite H\, Ewing\, NJ\, 08628\, United States
CATEGORIES:Adults 18+,Babies/Toddler,Children,FAMILY SUPPORT,In person events,Parent/family socials (TBD),Siblings,SOCIAL,Teens
ORGANIZER;CN="Club DREAMS team":MAILTO:Clubdreams@dsacnj.org
END:VEVENT
BEGIN:VEVENT
DTSTART;TZID=UTC:20210907T170000
DTEND;TZID=UTC:20210907T183000
DTSTAMP:20260425T122938
CREATED:20210825T101633Z
LAST-MODIFIED:20210906T193223Z
UID:10000102-1631034000-1631039400@dsacnj.org
SUMMARY:Homework Helpers (Tuesday)
DESCRIPTION:This in person session is led by a certified teacher with special education background.  Come in with your homework questions\, work on assignments\, work on academic goals.  We will request you to provide learning goals when participating in this session so that we can best meet your needs.  Capacity is limited.
URL:https://dsacnj.org/event/homework-helpers/2021-09-07/
LOCATION:Club DREAMS\, 25 Scotch Rd.\, Suite H\, Ewing\, NJ\, 08628\, United States
CATEGORIES:ACADEMICS,Adults 18+,Children,HOMEWORK HELPERS,In person events,Teens
ORGANIZER;CN="Club DREAMS team":MAILTO:Clubdreams@dsacnj.org
END:VEVENT
BEGIN:VEVENT
DTSTART;TZID=UTC:20210907T161500
DTEND;TZID=UTC:20210907T170000
DTSTAMP:20260425T122938
CREATED:20210825T095926Z
LAST-MODIFIED:20211006T000349Z
UID:10000094-1631031300-1631034000@dsacnj.org
SUMMARY:Academic Level 4 (Tuesday)
DESCRIPTION:Academic Level 4 is for teens to adults to work on academics that will assist with life long independence such as measuring\, multiplication\, division word problems\, money management\, time telling\, weather reports\, tipping\, paying bills. \nThis event will have a virtual teacher that can be observed on site from Club DREAMS for our in person participants or you can register to participate from home. Be sure to choose the correct registration option below. If you register as a virtual participant but decide to come to Club DREAMS on certain days\, please register again for in person option using link below on the dates you choose to come in person. \nREGISTER FOR VIRTUAL PARTICIPATION FROM HOME HERE.Registration will schedule you for all sessions in our fall season – no commitment is required. Drop in and regular attendance welcome. After registering\, you will receive a confirmation email containing information about joining the meeting. \nUse the register button below if you will be coming to Club DREAMS to participate in this session. 
URL:https://dsacnj.org/event/academic-level-4/2021-09-07/
LOCATION:VIRTUAL OR ON SITE CLUB DREAMS\, 25 Scotch Rd\, Suite H\, Ewing\, NJ\, 08628\, United States
CATEGORIES:ACADEMICS,Adults 18+,In person events,Online virtual events
END:VEVENT
BEGIN:VEVENT
DTSTART;TZID=UTC:20210826T000000
DTEND;TZID=UTC:20210826T000000
DTSTAMP:20260425T122938
CREATED:20210826T083005Z
LAST-MODIFIED:20210906T193658Z
UID:10000232-1629936000-1629936000@dsacnj.org
SUMMARY:DANCE NIGHT
DESCRIPTION:Dance activities and games\, line dances and party music. Get together with friends to practice social dances\, tiktok dances or play dance games.\nAges 13+ \nSlice of pizza and drinks will be provided. \nLive on site at Club DREAMS – limited capacity. \nIf you would like to join virtually 30 minutes of the event will be live streamed. \nREGISTER HERE FOR VIRTUAL  \nREGISTER FOR LIVE ATTENDANCE \n  \n  \n 
URL:https://dsacnj.org/event/dance-night-2/
LOCATION:NJ
CATEGORIES:Adults 18+,Children,ENRICHMENT,In person events,Online virtual events,Siblings,SOCIAL,SPECIAL EVENT,Teens
END:VEVENT
BEGIN:VEVENT
DTSTART;TZID=UTC:20210825T150000
DTEND;TZID=UTC:20210825T153000
DTSTAMP:20260425T122938
CREATED:20210823T003809Z
LAST-MODIFIED:20210825T210426Z
UID:10000022-1629903600-1629905400@dsacnj.org
SUMMARY:Academic Session - Level 3 (Topic TBD)
DESCRIPTION:Academic sessions allow an opportunity to work on academic skills in a small group setting led by a Club DREAMS team member.  Sessions are fun and interactive yet review key academic skills in fields of math\, reading\, science\, geography\, time and money. All learners working on the skills for the content planned for the session are welcome to join.  Approximate age range for content is as follows: Level 1: under 7 learners; Level 2:  7-10 years;  Level 3:  11-13 years; Level 4:  14+ Years \nRegister Below. This link will register you for all the sessions of the spring season – no commitment required.  Drop in and regular attendance welcome. After registering\, you will receive a confirmation email containing information about joining the meeting. \nIf interested in a one-on-one session\, email: Clubdreams@dsacnj.org
URL:https://dsacnj.org/event/academic-session-level-3-topic-tbd/2021-08-25/
LOCATION:NJ
CATEGORIES:Teens
END:VEVENT
BEGIN:VEVENT
DTSTART;TZID=America/New_York:20210823T170000
DTEND;TZID=America/New_York:20210823T173000
DTSTAMP:20260425T122938
CREATED:20210823T003220Z
LAST-MODIFIED:20210825T210517Z
UID:10000020-1629738000-1629739800@dsacnj.org
SUMMARY:Spanish 101 (Topic TBD)
DESCRIPTION:Spanish for beginners. We will work on introduction to Spanish words and phrases to build vocabulary and confidence. \nRegister Below. This link will register you for all the sessions of the spring season – no commitment required. Drop in and regular attendance welcome. After registering\, you will receive a confirmation email containing information about joining the meeting.
URL:https://dsacnj.org/event/spanish-101-topic-tbd/2021-08-23/
LOCATION:NJ
END:VEVENT
BEGIN:VEVENT
DTSTART;TZID=UTC:20210823T154500
DTEND;TZID=UTC:20210823T161500
DTSTAMP:20260425T122938
CREATED:20210822T224000Z
LAST-MODIFIED:20220912T193426Z
UID:10000018-1629733500-1629735300@dsacnj.org
SUMMARY:Buddy 2 Buddy (Monday-virtual only)
DESCRIPTION:Join us for a Buddy to Buddy Zoom session and tell us about your day\, week\, or month! This is a social meet up group for teens and adults. Play games\, laugh\, tell jokes and get to make some friends. \nREGISTER HERE FOR VIRTUAL BUDDY TO BUDDY
URL:https://dsacnj.org/event/buddy-2-buddy-topic-tbd/2021-08-23/
LOCATION:Virtual Zoom
CATEGORIES:Adults 18+,Online virtual events,SOCIAL,Teens
END:VEVENT
BEGIN:VEVENT
DTSTART;TZID=UTC:20210821T140000
DTEND;TZID=UTC:20210821T180000
DTSTAMP:20260425T122938
CREATED:20210812T233441Z
LAST-MODIFIED:20210812T233651Z
UID:10000017-1629554400-1629568800@dsacnj.org
SUMMARY:Club DREAMS Grand Opening
DESCRIPTION:Club DREAMS is opening!  Join us to celebrate.
URL:https://dsacnj.org/event/club-dreams-grand-opening/
LOCATION:NJ
ORGANIZER;CN="Melissa b":MAILTO:mb@gmail.com
END:VEVENT
BEGIN:VEVENT
DTSTART;TZID=UTC:20210310T180000
DTEND;TZID=UTC:20220310T193000
DTSTAMP:20260425T122938
CREATED:20220223T225848Z
LAST-MODIFIED:20220310T211721Z
UID:10000359-1615399200-1646940600@dsacnj.org
SUMMARY:Leprechaun Trap Building Craft
DESCRIPTION:Want to try to catch a leprechaun?  Join us for a leprechaun trap building craft. All materials included. Thursday\, March 10th from 6-7:30pm. Space is limited. Register Below. \n\n\n\n\n\n\n\n\n\n 
URL:https://dsacnj.org/event/leprechaun-trap-building-craft/
LOCATION:Club DREAMS\, 25 Scotch Rd.\, Suite H\, Ewing\, NJ\, 08628\, United States
CATEGORIES:Arts/music,Children,ENRICHMENT,In person events,SOCIAL,Teens
ORGANIZER;CN="Club DREAMS team":MAILTO:Clubdreams@dsacnj.org
END:VEVENT
END:VCALENDAR