BEGIN:VCALENDAR
VERSION:2.0
PRODID:-//Down Syndrome Association of Central New Jersey - ECPv6.15.15//NONSGML v1.0//EN
CALSCALE:GREGORIAN
METHOD:PUBLISH
X-WR-CALNAME:Down Syndrome Association of Central New Jersey
X-ORIGINAL-URL:https://dsacnj.org
X-WR-CALDESC:Events for Down Syndrome Association of Central New Jersey
REFRESH-INTERVAL;VALUE=DURATION:PT1H
X-Robots-Tag:noindex
X-PUBLISHED-TTL:PT1H
BEGIN:VTIMEZONE
TZID:UTC
BEGIN:STANDARD
TZOFFSETFROM:+0000
TZOFFSETTO:+0000
TZNAME:UTC
DTSTART:20220101T000000
END:STANDARD
END:VTIMEZONE
BEGIN:VEVENT
DTSTART;TZID=UTC:20230204T090000
DTEND;TZID=UTC:20230204T110000
DTSTAMP:20260419T075318
CREATED:20220829T230717Z
LAST-MODIFIED:20230629T211641Z
UID:10000632-1675501200-1675508400@dsacnj.org
SUMMARY:OPEN PLAY - Saturday
DESCRIPTION:Join us for Inclusive Open Play  Saturday Mornings from 9-11 AM. Our center offers a wide range of activities for all age groups.  Come check out our center\, mingle and relax while your kids play and have fun! \n \nCost for NON-DREAM TEAM MEMBERS. Payment will be taken at the center or can be \nVENMO – @DSACNJ-NJ or PAYPAL @ Down Syndrome Association of Central New Jersey \n$10 for 1st child and $5 for each additional child. (payment made at center via cash\, check\, venmo/paypal) \nInquire about our Open Play Pass Memberships! \nQuestions: email us at Clubdreams@dsacnj.org or 609-883-0321 or ask for a tour of our center \nRegister below.
URL:https://dsacnj.org/event/open-play-5/2023-02-04/
LOCATION:Club DREAMS\, 25 Scotch Rd.\, Suite H\, Ewing\, NJ\, 08628\, United States
CATEGORIES:Babies/Toddler,Children,In person events,Siblings,SOCIAL,Teens
ATTACH;FMTTYPE=image/png:https://dsacnj.org/wp-content/uploads/2022/08/Open-Play-3.png
ORGANIZER;CN="Club DREAMS team":MAILTO:Clubdreams@dsacnj.org
END:VEVENT
BEGIN:VEVENT
DTSTART;TZID=UTC:20230203T080000
DTEND;TZID=UTC:20230203T170000
DTSTAMP:20260419T075318
CREATED:20230204T003505Z
LAST-MODIFIED:20230204T003505Z
UID:10000804-1675411200-1675443600@dsacnj.org
SUMMARY:Closed for Private Party/ Event
DESCRIPTION:Closed for a Private Party
URL:https://dsacnj.org/event/closed-for-private-party-event/
LOCATION:NJ
ORGANIZER;CN="Club DREAMS team":MAILTO:Clubdreams@dsacnj.org
END:VEVENT
BEGIN:VEVENT
DTSTART;TZID=UTC:20230202T160000
DTEND;TZID=UTC:20230202T163000
DTSTAMP:20260419T075318
CREATED:20210823T004049Z
LAST-MODIFIED:20230622T233606Z
UID:10000062-1675353600-1675355400@dsacnj.org
SUMMARY:Virtual Yoga
DESCRIPTION:Learn several different poses that will keep your body healthy and active. REGISTER & CLICK HERE FOR VITURAL YOGA This link will register you for all the sessions of this season – no commitment required. Drop in and regular attendance welcome. After registering\, you will receive a confirmation email containing information about joining the meeting.     \n\n\n\n\n\n\n\n\n\n 
URL:https://dsacnj.org/event/yoga/2023-02-02/
LOCATION:Virtual Zoom
CATEGORIES:Adults 18+,Children,ENRICHMENT,Fitness/dance/sports,Online virtual events,Teens
END:VEVENT
BEGIN:VEVENT
DTSTART;TZID=UTC:20230201T163000
DTEND;TZID=UTC:20230201T170000
DTSTAMP:20260419T075318
CREATED:20221117T232156Z
LAST-MODIFIED:20230623T212709Z
UID:10000744-1675269000-1675270800@dsacnj.org
SUMMARY:Craft Time
DESCRIPTION:Join us for interactive VIRTUAL or In Person craft time. Register for the online class below and send address the week prior to receive your bag of complete craft supplies in the mail. Registrations must be in by Wednesday\, the week prior to ensure you craft supplies will be delivered on time. On the day of the class\, you will have all supplies needed to follow along:) EMAIL clubdreams@dsacnj.org with your mailing address to receive your supplies. \nREGISTER FOR THE VIRTUAL CLASS HERE: \nhttps://us06web.zoom.us/meeting/register/tZ0oc-irpzMtE9I7i_m9h2wlSeJqoOrNkF_4
URL:https://dsacnj.org/event/craft-time-with-kendall/2023-02-01/
LOCATION:VIRTUAL OR ON SITE CLUB DREAMS\, 25 Scotch Rd\, Suite H\, Ewing\, NJ\, 08628\, United States
CATEGORIES:Adults 18+,Arts/music,Children,ENRICHMENT,In person events,Online virtual events,Siblings,Teens
ORGANIZER;CN="Club DREAMS team":MAILTO:Clubdreams@dsacnj.org
END:VEVENT
BEGIN:VEVENT
DTSTART;TZID=UTC:20230131T160000
DTEND;TZID=UTC:20230131T163000
DTSTAMP:20260419T075318
CREATED:20220309T052245Z
LAST-MODIFIED:20221117T232840Z
UID:10000440-1675180800-1675182600@dsacnj.org
SUMMARY:Craft Time with Kristi
DESCRIPTION:Join us for interactive VIRTUAL or In Person craft time. Register for the online class below and send address the week prior to receive your bag of complete craft supplies in the mail. Registrations must be in by Wednesday\, the week prior to ensure you craft supplies will be delivered on time. On the day of the class\, you will have all supplies needed to follow along:) EMAIL KRISTI at kschwartz@dsacnj.com with your mailing address to receive your supplies. \nREGISTER FOR THE VIRTUAL CLASS HERE: https://us06web.zoom.us/meeting/register/tZYoceutrDMuEtMumHtSbTZiru3GLktRon8C \n\n\n\n\n\n\n\n\n\n 
URL:https://dsacnj.org/event/craft-time-with-kristi/2023-01-31/
LOCATION:VIRTUAL OR ON SITE CLUB DREAMS\, 25 Scotch Rd\, Suite H\, Ewing\, NJ\, 08628\, United States
CATEGORIES:Arts/music,Children,ENRICHMENT,In person events,Online virtual events,Teens
ORGANIZER;CN="Club DREAMS team":MAILTO:Clubdreams@dsacnj.org
END:VEVENT
BEGIN:VEVENT
DTSTART;TZID=UTC:20230131T100000
DTEND;TZID=UTC:20230131T113000
DTSTAMP:20260419T075318
CREATED:20230118T001403Z
LAST-MODIFIED:20230612T202554Z
UID:10000772-1675159200-1675164600@dsacnj.org
SUMMARY:PreSchool Play Group
DESCRIPTION:Join us every Tuesday for Inclusive Preschool Play group! The first 30 Minutes we will make a craft\, do a project\, have some fun!  The last hour will be Open Play!  This Parent and me time is a great way to bond with your child in a fully inclusive environment! Space is limited and Registration is Required each week!\nCost $10 for/ Child\, $5 for additional Children.  Memberships Available.
URL:https://dsacnj.org/event/preschool-play-group/2023-01-31/
LOCATION:Club DREAMS\, 25 Scotch Rd.\, Suite H\, Ewing\, NJ\, 08628\, United States
CATEGORIES:ACADEMICS,Arts/music,Babies/Toddler,Children,In person events,SOCIAL
ORGANIZER;CN="Club DREAMS team":MAILTO:Clubdreams@dsacnj.org
END:VEVENT
BEGIN:VEVENT
DTSTART;TZID=UTC:20230130T190000
DTEND;TZID=UTC:20230130T193000
DTSTAMP:20260419T075318
CREATED:20221107T210859Z
LAST-MODIFIED:20221107T210859Z
UID:10000717-1675105200-1675107000@dsacnj.org
SUMMARY:Buddy to Buddy Virtual
DESCRIPTION:Join us for Buddy to Buddy virtual. The first and third Monday of each month from 7-7:30p.m. \nPlay games\, have fun\, tell jokes and socialize with friends! \nVirtual ONLY \nhttps://us06web.zoom.us/meeting/register/tZYpdO2hrjwrHtagc4mrkDus_R8bnlhYgn7n
URL:https://dsacnj.org/event/buddy-to-buddy-virtual/2023-01-30/
LOCATION:Virtual Zoom
CATEGORIES:Children,Online virtual events,SOCIAL,Teens
ORGANIZER;CN="Club DREAMS team":MAILTO:Clubdreams@dsacnj.org
END:VEVENT
BEGIN:VEVENT
DTSTART;TZID=UTC:20230128T100000
DTEND;TZID=UTC:20230128T133000
DTSTAMP:20260419T075318
CREATED:20221219T214808Z
LAST-MODIFIED:20230117T213039Z
UID:10000767-1674900000-1674912600@dsacnj.org
SUMMARY:Indoor Snow Ball Battle
DESCRIPTION:Join us on Saturday January 28th for an epic Indoor Snowball Battle! \nWe will have 2 times available. \n10 – 11:30AM is open to everyone\, 12 – 1:30 PM is for our older (13+) only please. \nPlease indicate which time when registering. \n 
URL:https://dsacnj.org/event/indoor-snow-ball-battle/
LOCATION:Club DREAMS\, 25 Scotch Rd.\, Suite H\, Ewing\, NJ\, 08628\, United States
CATEGORIES:Adults 18+,Babies/Toddler,Children,Fitness/dance/sports,In person events,SOCIAL,SPECIAL EVENT,Teens
ORGANIZER;CN="Club DREAMS team":MAILTO:Clubdreams@dsacnj.org
END:VEVENT
BEGIN:VEVENT
DTSTART;TZID=UTC:20230128T090000
DTEND;TZID=UTC:20230128T110000
DTSTAMP:20260419T075318
CREATED:20220829T230717Z
LAST-MODIFIED:20230629T211641Z
UID:10000631-1674896400-1674903600@dsacnj.org
SUMMARY:OPEN PLAY - Saturday
DESCRIPTION:Join us for Inclusive Open Play  Saturday Mornings from 9-11 AM. Our center offers a wide range of activities for all age groups.  Come check out our center\, mingle and relax while your kids play and have fun! \n \nCost for NON-DREAM TEAM MEMBERS. Payment will be taken at the center or can be \nVENMO – @DSACNJ-NJ or PAYPAL @ Down Syndrome Association of Central New Jersey \n$10 for 1st child and $5 for each additional child. (payment made at center via cash\, check\, venmo/paypal) \nInquire about our Open Play Pass Memberships! \nQuestions: email us at Clubdreams@dsacnj.org or 609-883-0321 or ask for a tour of our center \nRegister below.
URL:https://dsacnj.org/event/open-play-5/2023-01-28/
LOCATION:Club DREAMS\, 25 Scotch Rd.\, Suite H\, Ewing\, NJ\, 08628\, United States
CATEGORIES:Babies/Toddler,Children,In person events,Siblings,SOCIAL,Teens
ATTACH;FMTTYPE=image/png:https://dsacnj.org/wp-content/uploads/2022/08/Open-Play-3.png
ORGANIZER;CN="Club DREAMS team":MAILTO:Clubdreams@dsacnj.org
END:VEVENT
BEGIN:VEVENT
DTSTART;TZID=UTC:20230127T173000
DTEND;TZID=UTC:20230127T181500
DTSTAMP:20260419T075318
CREATED:20220901T234149Z
LAST-MODIFIED:20221122T015022Z
UID:10000682-1674840600-1674843300@dsacnj.org
SUMMARY:Club DREAMS Social Club
DESCRIPTION:Every Friday from 5:30-6:15 p.m. at Club DREAMS is Social Club. Ages 8 & Up Welcome! Come hang out\, play games\, meet new friends and have fun! \nRegister below
URL:https://dsacnj.org/event/club-dreams-social-club/2023-01-27/
LOCATION:NJ
CATEGORIES:Children,In person events,SOCIAL,Teens
ORGANIZER;CN="Club DREAMS team":MAILTO:Clubdreams@dsacnj.org
END:VEVENT
BEGIN:VEVENT
DTSTART;TZID=UTC:20230126T160000
DTEND;TZID=UTC:20230126T163000
DTSTAMP:20260419T075318
CREATED:20210823T004049Z
LAST-MODIFIED:20230622T233606Z
UID:10000061-1674748800-1674750600@dsacnj.org
SUMMARY:Virtual Yoga
DESCRIPTION:Learn several different poses that will keep your body healthy and active. REGISTER & CLICK HERE FOR VITURAL YOGA This link will register you for all the sessions of this season – no commitment required. Drop in and regular attendance welcome. After registering\, you will receive a confirmation email containing information about joining the meeting.     \n\n\n\n\n\n\n\n\n\n 
URL:https://dsacnj.org/event/yoga/2023-01-26/
LOCATION:Virtual Zoom
CATEGORIES:Adults 18+,Children,ENRICHMENT,Fitness/dance/sports,Online virtual events,Teens
END:VEVENT
BEGIN:VEVENT
DTSTART;TZID=UTC:20230125T163000
DTEND;TZID=UTC:20230125T170000
DTSTAMP:20260419T075318
CREATED:20221117T232156Z
LAST-MODIFIED:20230623T212709Z
UID:10000743-1674664200-1674666000@dsacnj.org
SUMMARY:Craft Time
DESCRIPTION:Join us for interactive VIRTUAL or In Person craft time. Register for the online class below and send address the week prior to receive your bag of complete craft supplies in the mail. Registrations must be in by Wednesday\, the week prior to ensure you craft supplies will be delivered on time. On the day of the class\, you will have all supplies needed to follow along:) EMAIL clubdreams@dsacnj.org with your mailing address to receive your supplies. \nREGISTER FOR THE VIRTUAL CLASS HERE: \nhttps://us06web.zoom.us/meeting/register/tZ0oc-irpzMtE9I7i_m9h2wlSeJqoOrNkF_4
URL:https://dsacnj.org/event/craft-time-with-kendall/2023-01-25/
LOCATION:VIRTUAL OR ON SITE CLUB DREAMS\, 25 Scotch Rd\, Suite H\, Ewing\, NJ\, 08628\, United States
CATEGORIES:Adults 18+,Arts/music,Children,ENRICHMENT,In person events,Online virtual events,Siblings,Teens
ORGANIZER;CN="Club DREAMS team":MAILTO:Clubdreams@dsacnj.org
END:VEVENT
BEGIN:VEVENT
DTSTART;TZID=UTC:20230124T160000
DTEND;TZID=UTC:20230124T163000
DTSTAMP:20260419T075318
CREATED:20220309T052245Z
LAST-MODIFIED:20221117T232840Z
UID:10000439-1674576000-1674577800@dsacnj.org
SUMMARY:Craft Time with Kristi
DESCRIPTION:Join us for interactive VIRTUAL or In Person craft time. Register for the online class below and send address the week prior to receive your bag of complete craft supplies in the mail. Registrations must be in by Wednesday\, the week prior to ensure you craft supplies will be delivered on time. On the day of the class\, you will have all supplies needed to follow along:) EMAIL KRISTI at kschwartz@dsacnj.com with your mailing address to receive your supplies. \nREGISTER FOR THE VIRTUAL CLASS HERE: https://us06web.zoom.us/meeting/register/tZYoceutrDMuEtMumHtSbTZiru3GLktRon8C \n\n\n\n\n\n\n\n\n\n 
URL:https://dsacnj.org/event/craft-time-with-kristi/2023-01-24/
LOCATION:VIRTUAL OR ON SITE CLUB DREAMS\, 25 Scotch Rd\, Suite H\, Ewing\, NJ\, 08628\, United States
CATEGORIES:Arts/music,Children,ENRICHMENT,In person events,Online virtual events,Teens
ORGANIZER;CN="Club DREAMS team":MAILTO:Clubdreams@dsacnj.org
END:VEVENT
BEGIN:VEVENT
DTSTART;TZID=UTC:20230121T090000
DTEND;TZID=UTC:20230121T110000
DTSTAMP:20260419T075318
CREATED:20220829T230717Z
LAST-MODIFIED:20230629T211641Z
UID:10000630-1674291600-1674298800@dsacnj.org
SUMMARY:OPEN PLAY - Saturday
DESCRIPTION:Join us for Inclusive Open Play  Saturday Mornings from 9-11 AM. Our center offers a wide range of activities for all age groups.  Come check out our center\, mingle and relax while your kids play and have fun! \n \nCost for NON-DREAM TEAM MEMBERS. Payment will be taken at the center or can be \nVENMO – @DSACNJ-NJ or PAYPAL @ Down Syndrome Association of Central New Jersey \n$10 for 1st child and $5 for each additional child. (payment made at center via cash\, check\, venmo/paypal) \nInquire about our Open Play Pass Memberships! \nQuestions: email us at Clubdreams@dsacnj.org or 609-883-0321 or ask for a tour of our center \nRegister below.
URL:https://dsacnj.org/event/open-play-5/2023-01-21/
LOCATION:Club DREAMS\, 25 Scotch Rd.\, Suite H\, Ewing\, NJ\, 08628\, United States
CATEGORIES:Babies/Toddler,Children,In person events,Siblings,SOCIAL,Teens
ATTACH;FMTTYPE=image/png:https://dsacnj.org/wp-content/uploads/2022/08/Open-Play-3.png
ORGANIZER;CN="Club DREAMS team":MAILTO:Clubdreams@dsacnj.org
END:VEVENT
BEGIN:VEVENT
DTSTART;TZID=UTC:20230120T173000
DTEND;TZID=UTC:20230120T181500
DTSTAMP:20260419T075318
CREATED:20220901T234149Z
LAST-MODIFIED:20221122T015022Z
UID:10000681-1674235800-1674238500@dsacnj.org
SUMMARY:Club DREAMS Social Club
DESCRIPTION:Every Friday from 5:30-6:15 p.m. at Club DREAMS is Social Club. Ages 8 & Up Welcome! Come hang out\, play games\, meet new friends and have fun! \nRegister below
URL:https://dsacnj.org/event/club-dreams-social-club/2023-01-20/
LOCATION:NJ
CATEGORIES:Children,In person events,SOCIAL,Teens
ORGANIZER;CN="Club DREAMS team":MAILTO:Clubdreams@dsacnj.org
END:VEVENT
BEGIN:VEVENT
DTSTART;TZID=UTC:20230119T160000
DTEND;TZID=UTC:20230119T163000
DTSTAMP:20260419T075318
CREATED:20210823T004049Z
LAST-MODIFIED:20230622T233606Z
UID:10000060-1674144000-1674145800@dsacnj.org
SUMMARY:Virtual Yoga
DESCRIPTION:Learn several different poses that will keep your body healthy and active. REGISTER & CLICK HERE FOR VITURAL YOGA This link will register you for all the sessions of this season – no commitment required. Drop in and regular attendance welcome. After registering\, you will receive a confirmation email containing information about joining the meeting.     \n\n\n\n\n\n\n\n\n\n 
URL:https://dsacnj.org/event/yoga/2023-01-19/
LOCATION:Virtual Zoom
CATEGORIES:Adults 18+,Children,ENRICHMENT,Fitness/dance/sports,Online virtual events,Teens
END:VEVENT
BEGIN:VEVENT
DTSTART;TZID=UTC:20230118T163000
DTEND;TZID=UTC:20230118T170000
DTSTAMP:20260419T075318
CREATED:20221117T232156Z
LAST-MODIFIED:20230623T212709Z
UID:10000742-1674059400-1674061200@dsacnj.org
SUMMARY:Craft Time
DESCRIPTION:Join us for interactive VIRTUAL or In Person craft time. Register for the online class below and send address the week prior to receive your bag of complete craft supplies in the mail. Registrations must be in by Wednesday\, the week prior to ensure you craft supplies will be delivered on time. On the day of the class\, you will have all supplies needed to follow along:) EMAIL clubdreams@dsacnj.org with your mailing address to receive your supplies. \nREGISTER FOR THE VIRTUAL CLASS HERE: \nhttps://us06web.zoom.us/meeting/register/tZ0oc-irpzMtE9I7i_m9h2wlSeJqoOrNkF_4
URL:https://dsacnj.org/event/craft-time-with-kendall/2023-01-18/
LOCATION:VIRTUAL OR ON SITE CLUB DREAMS\, 25 Scotch Rd\, Suite H\, Ewing\, NJ\, 08628\, United States
CATEGORIES:Adults 18+,Arts/music,Children,ENRICHMENT,In person events,Online virtual events,Siblings,Teens
ORGANIZER;CN="Club DREAMS team":MAILTO:Clubdreams@dsacnj.org
END:VEVENT
BEGIN:VEVENT
DTSTART;TZID=UTC:20230117T160000
DTEND;TZID=UTC:20230117T163000
DTSTAMP:20260419T075318
CREATED:20220309T052245Z
LAST-MODIFIED:20221117T232840Z
UID:10000438-1673971200-1673973000@dsacnj.org
SUMMARY:Craft Time with Kristi
DESCRIPTION:Join us for interactive VIRTUAL or In Person craft time. Register for the online class below and send address the week prior to receive your bag of complete craft supplies in the mail. Registrations must be in by Wednesday\, the week prior to ensure you craft supplies will be delivered on time. On the day of the class\, you will have all supplies needed to follow along:) EMAIL KRISTI at kschwartz@dsacnj.com with your mailing address to receive your supplies. \nREGISTER FOR THE VIRTUAL CLASS HERE: https://us06web.zoom.us/meeting/register/tZYoceutrDMuEtMumHtSbTZiru3GLktRon8C \n\n\n\n\n\n\n\n\n\n 
URL:https://dsacnj.org/event/craft-time-with-kristi/2023-01-17/
LOCATION:VIRTUAL OR ON SITE CLUB DREAMS\, 25 Scotch Rd\, Suite H\, Ewing\, NJ\, 08628\, United States
CATEGORIES:Arts/music,Children,ENRICHMENT,In person events,Online virtual events,Teens
ORGANIZER;CN="Club DREAMS team":MAILTO:Clubdreams@dsacnj.org
END:VEVENT
BEGIN:VEVENT
DTSTART;TZID=UTC:20230116T190000
DTEND;TZID=UTC:20230116T193000
DTSTAMP:20260419T075318
CREATED:20221107T210859Z
LAST-MODIFIED:20221107T210859Z
UID:10000716-1673895600-1673897400@dsacnj.org
SUMMARY:Buddy to Buddy Virtual
DESCRIPTION:Join us for Buddy to Buddy virtual. The first and third Monday of each month from 7-7:30p.m. \nPlay games\, have fun\, tell jokes and socialize with friends! \nVirtual ONLY \nhttps://us06web.zoom.us/meeting/register/tZYpdO2hrjwrHtagc4mrkDus_R8bnlhYgn7n
URL:https://dsacnj.org/event/buddy-to-buddy-virtual/2023-01-16/
LOCATION:Virtual Zoom
CATEGORIES:Children,Online virtual events,SOCIAL,Teens
ORGANIZER;CN="Club DREAMS team":MAILTO:Clubdreams@dsacnj.org
END:VEVENT
BEGIN:VEVENT
DTSTART;TZID=UTC:20230116T160000
DTEND;TZID=UTC:20230116T180000
DTSTAMP:20260419T075318
CREATED:20221128T210517Z
LAST-MODIFIED:20230116T221158Z
UID:10000766-1673884800-1673892000@dsacnj.org
SUMMARY:OPEN PLAY
DESCRIPTION:Join us for open play every Monday\, Wednesday\, Thursday and Friday from 4-6p.m. Come enjoy our amazing center that boasts an interactive play area\, game area\, art room and much more. Open to all ages. While here work on social development\, fine and gross motor skills. Parents can socialize while your children are safe and having fun! Limited availability. \nCost – $10 per child \n$5 per sibling \nDiscounts for our Dream Team members. Call for more information.
URL:https://dsacnj.org/event/open-play-6-2023-01-16/
LOCATION:Club DREAMS\, 25 Scotch Rd.\, Suite H\, Ewing\, NJ\, 08628\, United States
CATEGORIES:Adults 18+,Babies/Toddler,Children,In person events,Siblings,SOCIAL,Teens
ORGANIZER;CN="Club DREAMS team":MAILTO:Clubdreams@dsacnj.org
END:VEVENT
BEGIN:VEVENT
DTSTART;TZID=UTC:20230116T110000
DTEND;TZID=UTC:20230116T130000
DTSTAMP:20260419T075318
CREATED:20230106T221850Z
LAST-MODIFIED:20230106T232851Z
UID:10000769-1673866800-1673874000@dsacnj.org
SUMMARY:MLK Midday Inclusive Play
DESCRIPTION:School is out and we are open for even MORE inclusive fun! \nJoin us for a midday open play at Club DREAMS from 11 AM – 1 PM. This is in addition to our evening open play 😃
URL:https://dsacnj.org/event/mlk-midday-inclusive-play/
LOCATION:Club DREAMS\, 25 Scotch Rd.\, Suite H\, Ewing\, NJ\, 08628\, United States
CATEGORIES:Babies/Toddler,Children,In person events,SOCIAL
ORGANIZER;CN="Club DREAMS team":MAILTO:Clubdreams@dsacnj.org
END:VEVENT
BEGIN:VEVENT
DTSTART;TZID=UTC:20230114T090000
DTEND;TZID=UTC:20230114T110000
DTSTAMP:20260419T075318
CREATED:20220829T230717Z
LAST-MODIFIED:20230629T211641Z
UID:10000629-1673686800-1673694000@dsacnj.org
SUMMARY:OPEN PLAY - Saturday
DESCRIPTION:Join us for Inclusive Open Play  Saturday Mornings from 9-11 AM. Our center offers a wide range of activities for all age groups.  Come check out our center\, mingle and relax while your kids play and have fun! \n \nCost for NON-DREAM TEAM MEMBERS. Payment will be taken at the center or can be \nVENMO – @DSACNJ-NJ or PAYPAL @ Down Syndrome Association of Central New Jersey \n$10 for 1st child and $5 for each additional child. (payment made at center via cash\, check\, venmo/paypal) \nInquire about our Open Play Pass Memberships! \nQuestions: email us at Clubdreams@dsacnj.org or 609-883-0321 or ask for a tour of our center \nRegister below.
URL:https://dsacnj.org/event/open-play-5/2023-01-14/
LOCATION:Club DREAMS\, 25 Scotch Rd.\, Suite H\, Ewing\, NJ\, 08628\, United States
CATEGORIES:Babies/Toddler,Children,In person events,Siblings,SOCIAL,Teens
ATTACH;FMTTYPE=image/png:https://dsacnj.org/wp-content/uploads/2022/08/Open-Play-3.png
ORGANIZER;CN="Club DREAMS team":MAILTO:Clubdreams@dsacnj.org
END:VEVENT
BEGIN:VEVENT
DTSTART;TZID=UTC:20230113T173000
DTEND;TZID=UTC:20230113T181500
DTSTAMP:20260419T075318
CREATED:20220901T234149Z
LAST-MODIFIED:20221122T015022Z
UID:10000680-1673631000-1673633700@dsacnj.org
SUMMARY:Club DREAMS Social Club
DESCRIPTION:Every Friday from 5:30-6:15 p.m. at Club DREAMS is Social Club. Ages 8 & Up Welcome! Come hang out\, play games\, meet new friends and have fun! \nRegister below
URL:https://dsacnj.org/event/club-dreams-social-club/2023-01-13/
LOCATION:NJ
CATEGORIES:Children,In person events,SOCIAL,Teens
ORGANIZER;CN="Club DREAMS team":MAILTO:Clubdreams@dsacnj.org
END:VEVENT
BEGIN:VEVENT
DTSTART;TZID=UTC:20230112T160000
DTEND;TZID=UTC:20230112T163000
DTSTAMP:20260419T075318
CREATED:20210823T004049Z
LAST-MODIFIED:20230622T233606Z
UID:10000059-1673539200-1673541000@dsacnj.org
SUMMARY:Virtual Yoga
DESCRIPTION:Learn several different poses that will keep your body healthy and active. REGISTER & CLICK HERE FOR VITURAL YOGA This link will register you for all the sessions of this season – no commitment required. Drop in and regular attendance welcome. After registering\, you will receive a confirmation email containing information about joining the meeting.     \n\n\n\n\n\n\n\n\n\n 
URL:https://dsacnj.org/event/yoga/2023-01-12/
LOCATION:Virtual Zoom
CATEGORIES:Adults 18+,Children,ENRICHMENT,Fitness/dance/sports,Online virtual events,Teens
END:VEVENT
BEGIN:VEVENT
DTSTART;TZID=UTC:20230111T163000
DTEND;TZID=UTC:20230111T170000
DTSTAMP:20260419T075318
CREATED:20221117T232156Z
LAST-MODIFIED:20230623T212709Z
UID:10000741-1673454600-1673456400@dsacnj.org
SUMMARY:Craft Time
DESCRIPTION:Join us for interactive VIRTUAL or In Person craft time. Register for the online class below and send address the week prior to receive your bag of complete craft supplies in the mail. Registrations must be in by Wednesday\, the week prior to ensure you craft supplies will be delivered on time. On the day of the class\, you will have all supplies needed to follow along:) EMAIL clubdreams@dsacnj.org with your mailing address to receive your supplies. \nREGISTER FOR THE VIRTUAL CLASS HERE: \nhttps://us06web.zoom.us/meeting/register/tZ0oc-irpzMtE9I7i_m9h2wlSeJqoOrNkF_4
URL:https://dsacnj.org/event/craft-time-with-kendall/2023-01-11/
LOCATION:VIRTUAL OR ON SITE CLUB DREAMS\, 25 Scotch Rd\, Suite H\, Ewing\, NJ\, 08628\, United States
CATEGORIES:Adults 18+,Arts/music,Children,ENRICHMENT,In person events,Online virtual events,Siblings,Teens
ORGANIZER;CN="Club DREAMS team":MAILTO:Clubdreams@dsacnj.org
END:VEVENT
BEGIN:VEVENT
DTSTART;TZID=UTC:20230110T160000
DTEND;TZID=UTC:20230110T163000
DTSTAMP:20260419T075318
CREATED:20220309T052245Z
LAST-MODIFIED:20221117T232840Z
UID:10000437-1673366400-1673368200@dsacnj.org
SUMMARY:Craft Time with Kristi
DESCRIPTION:Join us for interactive VIRTUAL or In Person craft time. Register for the online class below and send address the week prior to receive your bag of complete craft supplies in the mail. Registrations must be in by Wednesday\, the week prior to ensure you craft supplies will be delivered on time. On the day of the class\, you will have all supplies needed to follow along:) EMAIL KRISTI at kschwartz@dsacnj.com with your mailing address to receive your supplies. \nREGISTER FOR THE VIRTUAL CLASS HERE: https://us06web.zoom.us/meeting/register/tZYoceutrDMuEtMumHtSbTZiru3GLktRon8C \n\n\n\n\n\n\n\n\n\n 
URL:https://dsacnj.org/event/craft-time-with-kristi/2023-01-10/
LOCATION:VIRTUAL OR ON SITE CLUB DREAMS\, 25 Scotch Rd\, Suite H\, Ewing\, NJ\, 08628\, United States
CATEGORIES:Arts/music,Children,ENRICHMENT,In person events,Online virtual events,Teens
ORGANIZER;CN="Club DREAMS team":MAILTO:Clubdreams@dsacnj.org
END:VEVENT
BEGIN:VEVENT
DTSTART;TZID=UTC:20230107T090000
DTEND;TZID=UTC:20230107T110000
DTSTAMP:20260419T075318
CREATED:20220829T230717Z
LAST-MODIFIED:20230629T211641Z
UID:10000628-1673082000-1673089200@dsacnj.org
SUMMARY:OPEN PLAY - Saturday
DESCRIPTION:Join us for Inclusive Open Play  Saturday Mornings from 9-11 AM. Our center offers a wide range of activities for all age groups.  Come check out our center\, mingle and relax while your kids play and have fun! \n \nCost for NON-DREAM TEAM MEMBERS. Payment will be taken at the center or can be \nVENMO – @DSACNJ-NJ or PAYPAL @ Down Syndrome Association of Central New Jersey \n$10 for 1st child and $5 for each additional child. (payment made at center via cash\, check\, venmo/paypal) \nInquire about our Open Play Pass Memberships! \nQuestions: email us at Clubdreams@dsacnj.org or 609-883-0321 or ask for a tour of our center \nRegister below.
URL:https://dsacnj.org/event/open-play-5/2023-01-07/
LOCATION:Club DREAMS\, 25 Scotch Rd.\, Suite H\, Ewing\, NJ\, 08628\, United States
CATEGORIES:Babies/Toddler,Children,In person events,Siblings,SOCIAL,Teens
ATTACH;FMTTYPE=image/png:https://dsacnj.org/wp-content/uploads/2022/08/Open-Play-3.png
ORGANIZER;CN="Club DREAMS team":MAILTO:Clubdreams@dsacnj.org
END:VEVENT
BEGIN:VEVENT
DTSTART;TZID=UTC:20230106T173000
DTEND;TZID=UTC:20230106T181500
DTSTAMP:20260419T075318
CREATED:20220901T234149Z
LAST-MODIFIED:20221122T015022Z
UID:10000679-1673026200-1673028900@dsacnj.org
SUMMARY:Club DREAMS Social Club
DESCRIPTION:Every Friday from 5:30-6:15 p.m. at Club DREAMS is Social Club. Ages 8 & Up Welcome! Come hang out\, play games\, meet new friends and have fun! \nRegister below
URL:https://dsacnj.org/event/club-dreams-social-club/2023-01-06/
LOCATION:NJ
CATEGORIES:Children,In person events,SOCIAL,Teens
ORGANIZER;CN="Club DREAMS team":MAILTO:Clubdreams@dsacnj.org
END:VEVENT
BEGIN:VEVENT
DTSTART;TZID=UTC:20230106T163000
DTEND;TZID=UTC:20230106T170000
DTSTAMP:20260419T075318
CREATED:20211006T002820Z
LAST-MODIFIED:20231018T222203Z
UID:10000289-1673022600-1673024400@dsacnj.org
SUMMARY:Life Skills
DESCRIPTION:Life Skills is for teens to adults to work on skills that will assist with lifelong independence such as money management\, time telling\, weather reports\, tipping\, paying bills\, interviewing and more. \nREGISTER FOR VIRTUAL PARTICIPATION FROM HOME HERE. Registration will schedule you for all sessions – no commitment is required. Drop in and regular attendance welcome. After registering\, you will receive a confirmation email containing information about joining the meeting. \nTEMPORARILY VIRTUAL ONLY
URL:https://dsacnj.org/event/academics-4/2023-01-06/
LOCATION:Virtual Zoom
CATEGORIES:Adults 18+,LIFE SKILLS/JOB SKILLS,Online virtual events,SOCIAL,Teens
ORGANIZER;CN="Club DREAMS team":MAILTO:Clubdreams@dsacnj.org
END:VEVENT
BEGIN:VEVENT
DTSTART;TZID=UTC:20230105T160000
DTEND;TZID=UTC:20230105T163000
DTSTAMP:20260419T075318
CREATED:20210823T004049Z
LAST-MODIFIED:20230622T233606Z
UID:10000058-1672934400-1672936200@dsacnj.org
SUMMARY:Virtual Yoga
DESCRIPTION:Learn several different poses that will keep your body healthy and active. REGISTER & CLICK HERE FOR VITURAL YOGA This link will register you for all the sessions of this season – no commitment required. Drop in and regular attendance welcome. After registering\, you will receive a confirmation email containing information about joining the meeting.     \n\n\n\n\n\n\n\n\n\n 
URL:https://dsacnj.org/event/yoga/2023-01-05/
LOCATION:Virtual Zoom
CATEGORIES:Adults 18+,Children,ENRICHMENT,Fitness/dance/sports,Online virtual events,Teens
END:VEVENT
END:VCALENDAR