BEGIN:VCALENDAR
VERSION:2.0
PRODID:-//Down Syndrome Association of Central New Jersey - ECPv6.15.15//NONSGML v1.0//EN
CALSCALE:GREGORIAN
METHOD:PUBLISH
X-WR-CALNAME:Down Syndrome Association of Central New Jersey
X-ORIGINAL-URL:https://dsacnj.org
X-WR-CALDESC:Events for Down Syndrome Association of Central New Jersey
REFRESH-INTERVAL;VALUE=DURATION:PT1H
X-Robots-Tag:noindex
X-PUBLISHED-TTL:PT1H
BEGIN:VTIMEZONE
TZID:UTC
BEGIN:STANDARD
TZOFFSETFROM:+0000
TZOFFSETTO:+0000
TZNAME:UTC
DTSTART:20210101T000000
END:STANDARD
END:VTIMEZONE
BEGIN:VEVENT
DTSTART;TZID=UTC:20221117T160000
DTEND;TZID=UTC:20221117T163000
DTSTAMP:20260421T110159
CREATED:20210823T004049Z
LAST-MODIFIED:20230622T233606Z
UID:10000052-1668700800-1668702600@dsacnj.org
SUMMARY:Virtual Yoga
DESCRIPTION:Learn several different poses that will keep your body healthy and active. REGISTER & CLICK HERE FOR VITURAL YOGA This link will register you for all the sessions of this season – no commitment required. Drop in and regular attendance welcome. After registering\, you will receive a confirmation email containing information about joining the meeting.     \n\n\n\n\n\n\n\n\n\n 
URL:https://dsacnj.org/event/yoga/2022-11-17/
LOCATION:Virtual Zoom
CATEGORIES:Adults 18+,Children,ENRICHMENT,Fitness/dance/sports,Online virtual events,Teens
END:VEVENT
BEGIN:VEVENT
DTSTART;TZID=UTC:20221115T160000
DTEND;TZID=UTC:20221115T163000
DTSTAMP:20260421T110159
CREATED:20240206T145726Z
LAST-MODIFIED:20240206T145726Z
UID:10000523-1668528000-1668529800@dsacnj.org
SUMMARY:Craft Time with Kristi
DESCRIPTION:Join us for interactive VIRTUAL or In Person craft time. Register for the online class below and send address the week prior to receive your bag of complete craft supplies in the mail. Registrations must be in by Wednesday\, the week prior to ensure you craft supplies will be delivered on time. On the day of the class\, you will have all supplies needed to follow along:) EMAIL KRISTI at kschwartz@dsacnj.com with your mailing address to receive your supplies. \nREGISTER FOR THE VIRTUAL CLASS HERE: https://us06web.zoom.us/meeting/register/tZYoceutrDMuEtMumHtSbTZiru3GLktRon8C \n\n\n\n\n\n\n\n\n\n 
URL:https://dsacnj.org/event/craft-time-with-kristi/2022-11-15/
LOCATION:VIRTUAL OR ON SITE CLUB DREAMS\, 25 Scotch Rd\, Suite H\, Ewing\, NJ\, 08628\, United States
CATEGORIES:Arts/music,Children,ENRICHMENT,In person events,Online virtual events,Teens
ORGANIZER;CN="Club DREAMS team":MAILTO:Clubdreams@dsacnj.org
END:VEVENT
BEGIN:VEVENT
DTSTART;TZID=UTC:20221115T160000
DTEND;TZID=UTC:20221115T163000
DTSTAMP:20260421T110159
CREATED:20220309T052245Z
LAST-MODIFIED:20221117T232840Z
UID:10000429-1668528000-1668529800@dsacnj.org
SUMMARY:Craft Time with Kristi
DESCRIPTION:Join us for interactive VIRTUAL or In Person craft time. Register for the online class below and send address the week prior to receive your bag of complete craft supplies in the mail. Registrations must be in by Wednesday\, the week prior to ensure you craft supplies will be delivered on time. On the day of the class\, you will have all supplies needed to follow along:) EMAIL KRISTI at kschwartz@dsacnj.com with your mailing address to receive your supplies. \nREGISTER FOR THE VIRTUAL CLASS HERE: https://us06web.zoom.us/meeting/register/tZYoceutrDMuEtMumHtSbTZiru3GLktRon8C \n\n\n\n\n\n\n\n\n\n 
URL:https://dsacnj.org/event/craft-time-with-kristi/2022-11-15/
LOCATION:VIRTUAL OR ON SITE CLUB DREAMS\, 25 Scotch Rd\, Suite H\, Ewing\, NJ\, 08628\, United States
CATEGORIES:Arts/music,Children,ENRICHMENT,In person events,Online virtual events,Teens
ORGANIZER;CN="Club DREAMS team":MAILTO:Clubdreams@dsacnj.org
END:VEVENT
BEGIN:VEVENT
DTSTART;TZID=UTC:20221112T110000
DTEND;TZID=UTC:20221112T114500
DTSTAMP:20260421T110159
CREATED:20220609T212013Z
LAST-MODIFIED:20230925T224920Z
UID:10000553-1668250800-1668253500@dsacnj.org
SUMMARY:GROSS MOTOR PLAYGROUP AGES 5-8
DESCRIPTION:Gross Motor Skills Exercise Playgroup!\n\n\n\nJoin the Rutgers Doctor of Physical Therapy Students for a fun filled playgroup where play and music will guide movement and the development of gross motor skills in a supportive\, friendly environment.\n\nThis program will run the second Saturday of every month. There will be two groups.\nAges 2-4 from 10-10:45a.m.\nAges 5-8 from 11-11:45a.m.\nQuestions contact:\nKaren at clubdreams@dsacnj.org or\nAshley Conklin\, PT\, DPT\, PCS at Abc148@shp.rutgers.edu\n\nRegister at DSACNJ.org
URL:https://dsacnj.org/event/gross-motor-playgroup-ages-5-8/2022-11-12/
LOCATION:Club DREAMS\, 25 Scotch Rd.\, Suite H\, Ewing\, NJ\, 08628\, United States
CATEGORIES:Babies/Toddler,Children,FAMILY SUPPORT,Fitness/dance/sports,In person events
ORGANIZER;CN="Club DREAMS team":MAILTO:Clubdreams@dsacnj.org
END:VEVENT
BEGIN:VEVENT
DTSTART;TZID=UTC:20221112T100000
DTEND;TZID=UTC:20221112T104500
DTSTAMP:20260421T110159
CREATED:20220609T203800Z
LAST-MODIFIED:20241105T140208Z
UID:10000253-1668247200-1668249900@dsacnj.org
SUMMARY:GROSS MOTOR SKILLS PLAYGROUP AGES 2-4
DESCRIPTION:Gross Motor Skills Exercise Playgroup!\n\n\n\nJoin the Rutgers Doctor of Physical Therapy Students for a fun filled playgroup where play and music will guide movement and the development of gross motor skills in a supportive\, friendly environment.\n\nThis program will run the second Saturday of every month.\n\nThere will be two groups.\nAges 2-4 from 10-10:45a.m.\nAges 5-8 from 11-11:45a.m.\n\nQuestions contact:\nKaren at clubdreams@dsacnj.org or\nAshley Conklin\, PT\, DPT\, PCS at Abc148@shp.rutgers.edu
URL:https://dsacnj.org/event/gross-motor-skills-playgroup-ages-2-4/2022-11-12/
LOCATION:Club DREAMS\, 25 Scotch Rd.\, Suite H\, Ewing\, NJ\, 08628\, United States
CATEGORIES:Babies/Toddler,Children,FAMILY SUPPORT,Fitness/dance/sports,In person events
ATTACH;FMTTYPE=image/png:https://dsacnj.org/wp-content/uploads/2022/06/Gross-Motor-Skills.png
ORGANIZER;CN="Club DREAMS team":MAILTO:Clubdreams@dsacnj.org
END:VEVENT
BEGIN:VEVENT
DTSTART;TZID=UTC:20221112T090000
DTEND;TZID=UTC:20221112T110000
DTSTAMP:20260421T110159
CREATED:20220829T230717Z
LAST-MODIFIED:20230629T211641Z
UID:10000620-1668243600-1668250800@dsacnj.org
SUMMARY:OPEN PLAY - Saturday
DESCRIPTION:Join us for Inclusive Open Play  Saturday Mornings from 9-11 AM. Our center offers a wide range of activities for all age groups.  Come check out our center\, mingle and relax while your kids play and have fun! \n \nCost for NON-DREAM TEAM MEMBERS. Payment will be taken at the center or can be \nVENMO – @DSACNJ-NJ or PAYPAL @ Down Syndrome Association of Central New Jersey \n$10 for 1st child and $5 for each additional child. (payment made at center via cash\, check\, venmo/paypal) \nInquire about our Open Play Pass Memberships! \nQuestions: email us at Clubdreams@dsacnj.org or 609-883-0321 or ask for a tour of our center \nRegister below.
URL:https://dsacnj.org/event/open-play-5/2022-11-12/
LOCATION:Club DREAMS\, 25 Scotch Rd.\, Suite H\, Ewing\, NJ\, 08628\, United States
CATEGORIES:Babies/Toddler,Children,In person events,Siblings,SOCIAL,Teens
ATTACH;FMTTYPE=image/png:https://dsacnj.org/wp-content/uploads/2022/08/Open-Play-3.png
ORGANIZER;CN="Club DREAMS team":MAILTO:Clubdreams@dsacnj.org
END:VEVENT
BEGIN:VEVENT
DTSTART;TZID=UTC:20221111T173000
DTEND;TZID=UTC:20221111T181500
DTSTAMP:20260421T110159
CREATED:20220901T234149Z
LAST-MODIFIED:20221122T015022Z
UID:10000672-1668187800-1668190500@dsacnj.org
SUMMARY:Club DREAMS Social Club
DESCRIPTION:Every Friday from 5:30-6:15 p.m. at Club DREAMS is Social Club. Ages 8 & Up Welcome! Come hang out\, play games\, meet new friends and have fun! \nRegister below
URL:https://dsacnj.org/event/club-dreams-social-club/2022-11-11/
LOCATION:NJ
CATEGORIES:Children,In person events,SOCIAL,Teens
ORGANIZER;CN="Club DREAMS team":MAILTO:Clubdreams@dsacnj.org
END:VEVENT
BEGIN:VEVENT
DTSTART;TZID=UTC:20221110T160000
DTEND;TZID=UTC:20221110T163000
DTSTAMP:20260421T110159
CREATED:20210823T004049Z
LAST-MODIFIED:20230622T233606Z
UID:10000051-1668096000-1668097800@dsacnj.org
SUMMARY:Virtual Yoga
DESCRIPTION:Learn several different poses that will keep your body healthy and active. REGISTER & CLICK HERE FOR VITURAL YOGA This link will register you for all the sessions of this season – no commitment required. Drop in and regular attendance welcome. After registering\, you will receive a confirmation email containing information about joining the meeting.     \n\n\n\n\n\n\n\n\n\n 
URL:https://dsacnj.org/event/yoga/2022-11-10/
LOCATION:Virtual Zoom
CATEGORIES:Adults 18+,Children,ENRICHMENT,Fitness/dance/sports,Online virtual events,Teens
END:VEVENT
BEGIN:VEVENT
DTSTART;TZID=UTC:20221108T160000
DTEND;TZID=UTC:20221108T163000
DTSTAMP:20260421T110159
CREATED:20240206T145726Z
LAST-MODIFIED:20240206T145726Z
UID:10000522-1667923200-1667925000@dsacnj.org
SUMMARY:Craft Time with Kristi
DESCRIPTION:Join us for interactive VIRTUAL or In Person craft time. Register for the online class below and send address the week prior to receive your bag of complete craft supplies in the mail. Registrations must be in by Wednesday\, the week prior to ensure you craft supplies will be delivered on time. On the day of the class\, you will have all supplies needed to follow along:) EMAIL KRISTI at kschwartz@dsacnj.com with your mailing address to receive your supplies. \nREGISTER FOR THE VIRTUAL CLASS HERE: https://us06web.zoom.us/meeting/register/tZYoceutrDMuEtMumHtSbTZiru3GLktRon8C \n\n\n\n\n\n\n\n\n\n 
URL:https://dsacnj.org/event/craft-time-with-kristi/2022-11-08/
LOCATION:VIRTUAL OR ON SITE CLUB DREAMS\, 25 Scotch Rd\, Suite H\, Ewing\, NJ\, 08628\, United States
CATEGORIES:Arts/music,Children,ENRICHMENT,In person events,Online virtual events,Teens
ORGANIZER;CN="Club DREAMS team":MAILTO:Clubdreams@dsacnj.org
END:VEVENT
BEGIN:VEVENT
DTSTART;TZID=UTC:20221108T160000
DTEND;TZID=UTC:20221108T163000
DTSTAMP:20260421T110159
CREATED:20220309T052245Z
LAST-MODIFIED:20221117T232840Z
UID:10000428-1667923200-1667925000@dsacnj.org
SUMMARY:Craft Time with Kristi
DESCRIPTION:Join us for interactive VIRTUAL or In Person craft time. Register for the online class below and send address the week prior to receive your bag of complete craft supplies in the mail. Registrations must be in by Wednesday\, the week prior to ensure you craft supplies will be delivered on time. On the day of the class\, you will have all supplies needed to follow along:) EMAIL KRISTI at kschwartz@dsacnj.com with your mailing address to receive your supplies. \nREGISTER FOR THE VIRTUAL CLASS HERE: https://us06web.zoom.us/meeting/register/tZYoceutrDMuEtMumHtSbTZiru3GLktRon8C \n\n\n\n\n\n\n\n\n\n 
URL:https://dsacnj.org/event/craft-time-with-kristi/2022-11-08/
LOCATION:VIRTUAL OR ON SITE CLUB DREAMS\, 25 Scotch Rd\, Suite H\, Ewing\, NJ\, 08628\, United States
CATEGORIES:Arts/music,Children,ENRICHMENT,In person events,Online virtual events,Teens
ORGANIZER;CN="Club DREAMS team":MAILTO:Clubdreams@dsacnj.org
END:VEVENT
BEGIN:VEVENT
DTSTART;TZID=UTC:20221107T190000
DTEND;TZID=UTC:20221107T193000
DTSTAMP:20260421T110159
CREATED:20221107T210859Z
LAST-MODIFIED:20221107T210859Z
UID:10000711-1667847600-1667849400@dsacnj.org
SUMMARY:Buddy to Buddy Virtual
DESCRIPTION:Join us for Buddy to Buddy virtual. The first and third Monday of each month from 7-7:30p.m. \nPlay games\, have fun\, tell jokes and socialize with friends! \nVirtual ONLY \nhttps://us06web.zoom.us/meeting/register/tZYpdO2hrjwrHtagc4mrkDus_R8bnlhYgn7n
URL:https://dsacnj.org/event/buddy-to-buddy-virtual/2022-11-07/
LOCATION:Virtual Zoom
CATEGORIES:Children,Online virtual events,SOCIAL,Teens
ORGANIZER;CN="Club DREAMS team":MAILTO:Clubdreams@dsacnj.org
END:VEVENT
BEGIN:VEVENT
DTSTART;TZID=UTC:20221105T090000
DTEND;TZID=UTC:20221105T110000
DTSTAMP:20260421T110159
CREATED:20220829T230717Z
LAST-MODIFIED:20230629T211641Z
UID:10000619-1667638800-1667646000@dsacnj.org
SUMMARY:OPEN PLAY - Saturday
DESCRIPTION:Join us for Inclusive Open Play  Saturday Mornings from 9-11 AM. Our center offers a wide range of activities for all age groups.  Come check out our center\, mingle and relax while your kids play and have fun! \n \nCost for NON-DREAM TEAM MEMBERS. Payment will be taken at the center or can be \nVENMO – @DSACNJ-NJ or PAYPAL @ Down Syndrome Association of Central New Jersey \n$10 for 1st child and $5 for each additional child. (payment made at center via cash\, check\, venmo/paypal) \nInquire about our Open Play Pass Memberships! \nQuestions: email us at Clubdreams@dsacnj.org or 609-883-0321 or ask for a tour of our center \nRegister below.
URL:https://dsacnj.org/event/open-play-5/2022-11-05/
LOCATION:Club DREAMS\, 25 Scotch Rd.\, Suite H\, Ewing\, NJ\, 08628\, United States
CATEGORIES:Babies/Toddler,Children,In person events,Siblings,SOCIAL,Teens
ATTACH;FMTTYPE=image/png:https://dsacnj.org/wp-content/uploads/2022/08/Open-Play-3.png
ORGANIZER;CN="Club DREAMS team":MAILTO:Clubdreams@dsacnj.org
END:VEVENT
BEGIN:VEVENT
DTSTART;TZID=UTC:20221104T183000
DTEND;TZID=UTC:20221104T203000
DTSTAMP:20260421T110159
CREATED:20221022T212609Z
LAST-MODIFIED:20221024T201711Z
UID:10000709-1667586600-1667593800@dsacnj.org
SUMMARY:Toy Story Movie Night
DESCRIPTION:Toy Story 3 Movie and Popcorn and Pizza!\nAges 7 and up unless accompanied by an adult. \nPurchase a ticket below – $5 per child.
URL:https://dsacnj.org/event/toy-story-movie-night/
LOCATION:NJ
CATEGORIES:Children,SOCIAL,SPECIAL EVENT,Teens
END:VEVENT
BEGIN:VEVENT
DTSTART;TZID=UTC:20221104T173000
DTEND;TZID=UTC:20221104T181500
DTSTAMP:20260421T110159
CREATED:20220901T234149Z
LAST-MODIFIED:20221122T015022Z
UID:10000671-1667583000-1667585700@dsacnj.org
SUMMARY:Club DREAMS Social Club
DESCRIPTION:Every Friday from 5:30-6:15 p.m. at Club DREAMS is Social Club. Ages 8 & Up Welcome! Come hang out\, play games\, meet new friends and have fun! \nRegister below
URL:https://dsacnj.org/event/club-dreams-social-club/2022-11-04/
LOCATION:NJ
CATEGORIES:Children,In person events,SOCIAL,Teens
ORGANIZER;CN="Club DREAMS team":MAILTO:Clubdreams@dsacnj.org
END:VEVENT
BEGIN:VEVENT
DTSTART;TZID=UTC:20221103T160000
DTEND;TZID=UTC:20221103T163000
DTSTAMP:20260421T110159
CREATED:20210823T004049Z
LAST-MODIFIED:20230622T233606Z
UID:10000050-1667491200-1667493000@dsacnj.org
SUMMARY:Virtual Yoga
DESCRIPTION:Learn several different poses that will keep your body healthy and active. REGISTER & CLICK HERE FOR VITURAL YOGA This link will register you for all the sessions of this season – no commitment required. Drop in and regular attendance welcome. After registering\, you will receive a confirmation email containing information about joining the meeting.     \n\n\n\n\n\n\n\n\n\n 
URL:https://dsacnj.org/event/yoga/2022-11-03/
LOCATION:Virtual Zoom
CATEGORIES:Adults 18+,Children,ENRICHMENT,Fitness/dance/sports,Online virtual events,Teens
END:VEVENT
BEGIN:VEVENT
DTSTART;TZID=UTC:20221101T190000
DTEND;TZID=UTC:20221101T193000
DTSTAMP:20260421T110159
CREATED:20221107T205312Z
LAST-MODIFIED:20221107T211344Z
UID:10000710-1667329200-1667331000@dsacnj.org
SUMMARY:Buddy to Buddy
DESCRIPTION:Calling all older kids\, teens and young adults 7 and older for a social club! We will meet up on the first and third Monday of the month to hang out in and integrated group to play games and talk about current events\, upcoming plans\, holidays\, pop culture and life in general.  The group will be moderated to encourage conversation and friendship and positive socialization. Fun activities may include “Would You Rather?\,” Hang man\, Charades\, 21 Questions and others. \nOnline or in person registration options! \n 
URL:https://dsacnj.org/event/buddy-to-buddy-2/2022-11-01/
LOCATION:Virtual Zoom
CATEGORIES:Adults 18+,Children,ENRICHMENT,Online virtual events,Siblings,SOCIAL,Teens
ORGANIZER;CN="Club DREAMS team":MAILTO:Clubdreams@dsacnj.org
END:VEVENT
BEGIN:VEVENT
DTSTART;TZID=UTC:20221101T160000
DTEND;TZID=UTC:20221101T163000
DTSTAMP:20260421T110159
CREATED:20240206T145726Z
LAST-MODIFIED:20240206T145726Z
UID:10000521-1667318400-1667320200@dsacnj.org
SUMMARY:Craft Time with Kristi
DESCRIPTION:Join us for interactive VIRTUAL or In Person craft time. Register for the online class below and send address the week prior to receive your bag of complete craft supplies in the mail. Registrations must be in by Wednesday\, the week prior to ensure you craft supplies will be delivered on time. On the day of the class\, you will have all supplies needed to follow along:) EMAIL KRISTI at kschwartz@dsacnj.com with your mailing address to receive your supplies. \nREGISTER FOR THE VIRTUAL CLASS HERE: https://us06web.zoom.us/meeting/register/tZYoceutrDMuEtMumHtSbTZiru3GLktRon8C \n\n\n\n\n\n\n\n\n\n 
URL:https://dsacnj.org/event/craft-time-with-kristi/2022-11-01/
LOCATION:VIRTUAL OR ON SITE CLUB DREAMS\, 25 Scotch Rd\, Suite H\, Ewing\, NJ\, 08628\, United States
CATEGORIES:Arts/music,Children,ENRICHMENT,In person events,Online virtual events,Teens
ORGANIZER;CN="Club DREAMS team":MAILTO:Clubdreams@dsacnj.org
END:VEVENT
BEGIN:VEVENT
DTSTART;TZID=UTC:20221101T160000
DTEND;TZID=UTC:20221101T163000
DTSTAMP:20260421T110159
CREATED:20220309T052245Z
LAST-MODIFIED:20221117T232840Z
UID:10000427-1667318400-1667320200@dsacnj.org
SUMMARY:Craft Time with Kristi
DESCRIPTION:Join us for interactive VIRTUAL or In Person craft time. Register for the online class below and send address the week prior to receive your bag of complete craft supplies in the mail. Registrations must be in by Wednesday\, the week prior to ensure you craft supplies will be delivered on time. On the day of the class\, you will have all supplies needed to follow along:) EMAIL KRISTI at kschwartz@dsacnj.com with your mailing address to receive your supplies. \nREGISTER FOR THE VIRTUAL CLASS HERE: https://us06web.zoom.us/meeting/register/tZYoceutrDMuEtMumHtSbTZiru3GLktRon8C \n\n\n\n\n\n\n\n\n\n 
URL:https://dsacnj.org/event/craft-time-with-kristi/2022-11-01/
LOCATION:VIRTUAL OR ON SITE CLUB DREAMS\, 25 Scotch Rd\, Suite H\, Ewing\, NJ\, 08628\, United States
CATEGORIES:Arts/music,Children,ENRICHMENT,In person events,Online virtual events,Teens
ORGANIZER;CN="Club DREAMS team":MAILTO:Clubdreams@dsacnj.org
END:VEVENT
BEGIN:VEVENT
DTSTART;TZID=UTC:20221031T080000
DTEND;TZID=UTC:20221031T170000
DTSTAMP:20260421T110159
CREATED:20221020T213302Z
LAST-MODIFIED:20221020T213732Z
UID:10000702-1667203200-1667235600@dsacnj.org
SUMMARY:Halloween
DESCRIPTION:Center closed
URL:https://dsacnj.org/event/halloween/
LOCATION:NJ
CATEGORIES:SPECIAL EVENT
END:VEVENT
BEGIN:VEVENT
DTSTART;TZID=UTC:20221029T090000
DTEND;TZID=UTC:20221029T110000
DTSTAMP:20260421T110159
CREATED:20220829T230717Z
LAST-MODIFIED:20230629T211641Z
UID:10000618-1667034000-1667041200@dsacnj.org
SUMMARY:OPEN PLAY - Saturday
DESCRIPTION:Join us for Inclusive Open Play  Saturday Mornings from 9-11 AM. Our center offers a wide range of activities for all age groups.  Come check out our center\, mingle and relax while your kids play and have fun! \n \nCost for NON-DREAM TEAM MEMBERS. Payment will be taken at the center or can be \nVENMO – @DSACNJ-NJ or PAYPAL @ Down Syndrome Association of Central New Jersey \n$10 for 1st child and $5 for each additional child. (payment made at center via cash\, check\, venmo/paypal) \nInquire about our Open Play Pass Memberships! \nQuestions: email us at Clubdreams@dsacnj.org or 609-883-0321 or ask for a tour of our center \nRegister below.
URL:https://dsacnj.org/event/open-play-5/2022-10-29/
LOCATION:Club DREAMS\, 25 Scotch Rd.\, Suite H\, Ewing\, NJ\, 08628\, United States
CATEGORIES:Babies/Toddler,Children,In person events,Siblings,SOCIAL,Teens
ATTACH;FMTTYPE=image/png:https://dsacnj.org/wp-content/uploads/2022/08/Open-Play-3.png
ORGANIZER;CN="Club DREAMS team":MAILTO:Clubdreams@dsacnj.org
END:VEVENT
BEGIN:VEVENT
DTSTART;TZID=UTC:20221028T190000
DTEND;TZID=UTC:20221028T210000
DTSTAMP:20260421T110159
CREATED:20220912T224511Z
LAST-MODIFIED:20220912T224511Z
UID:10000683-1666983600-1666990800@dsacnj.org
SUMMARY:Halloween Spooktacular Party
DESCRIPTION:Come dressed in your costume and enjoy a night of “not so scary” Halloween Fun! Dancing\, games\, snacks and crafts are on the agenda! 7-9 p.m. at Club DREAMS 25 Scotch Rd\, Ewing NJ \nAll ages welcome! Come and enjoy!
URL:https://dsacnj.org/event/halloween-spooktacular-party/
LOCATION:Club DREAMS\, 25 Scotch Rd.\, Suite H\, Ewing\, NJ\, 08628\, United States
CATEGORIES:Adults 18+,Babies/Toddler,Children,In person events,Parent/family socials (TBD),SOCIAL,SPECIAL EVENT,Teens
ORGANIZER;CN="Club DREAMS team":MAILTO:Clubdreams@dsacnj.org
END:VEVENT
BEGIN:VEVENT
DTSTART;TZID=UTC:20221028T173000
DTEND;TZID=UTC:20221028T181500
DTSTAMP:20260421T110159
CREATED:20220901T234149Z
LAST-MODIFIED:20221122T015022Z
UID:10000670-1666978200-1666980900@dsacnj.org
SUMMARY:Club DREAMS Social Club
DESCRIPTION:Every Friday from 5:30-6:15 p.m. at Club DREAMS is Social Club. Ages 8 & Up Welcome! Come hang out\, play games\, meet new friends and have fun! \nRegister below
URL:https://dsacnj.org/event/club-dreams-social-club/2022-10-28/
LOCATION:NJ
CATEGORIES:Children,In person events,SOCIAL,Teens
ORGANIZER;CN="Club DREAMS team":MAILTO:Clubdreams@dsacnj.org
END:VEVENT
BEGIN:VEVENT
DTSTART;TZID=UTC:20221027T160000
DTEND;TZID=UTC:20221027T163000
DTSTAMP:20260421T110159
CREATED:20210823T004049Z
LAST-MODIFIED:20230622T233606Z
UID:10000049-1666886400-1666888200@dsacnj.org
SUMMARY:Virtual Yoga
DESCRIPTION:Learn several different poses that will keep your body healthy and active. REGISTER & CLICK HERE FOR VITURAL YOGA This link will register you for all the sessions of this season – no commitment required. Drop in and regular attendance welcome. After registering\, you will receive a confirmation email containing information about joining the meeting.     \n\n\n\n\n\n\n\n\n\n 
URL:https://dsacnj.org/event/yoga/2022-10-27/
LOCATION:Virtual Zoom
CATEGORIES:Adults 18+,Children,ENRICHMENT,Fitness/dance/sports,Online virtual events,Teens
END:VEVENT
BEGIN:VEVENT
DTSTART;TZID=UTC:20221025T160000
DTEND;TZID=UTC:20221025T163000
DTSTAMP:20260421T110159
CREATED:20240206T145726Z
LAST-MODIFIED:20240206T145726Z
UID:10000520-1666713600-1666715400@dsacnj.org
SUMMARY:Craft Time with Kristi
DESCRIPTION:Join us for interactive VIRTUAL or In Person craft time. Register for the online class below and send address the week prior to receive your bag of complete craft supplies in the mail. Registrations must be in by Wednesday\, the week prior to ensure you craft supplies will be delivered on time. On the day of the class\, you will have all supplies needed to follow along:) EMAIL KRISTI at kschwartz@dsacnj.com with your mailing address to receive your supplies. \nREGISTER FOR THE VIRTUAL CLASS HERE: https://us06web.zoom.us/meeting/register/tZYoceutrDMuEtMumHtSbTZiru3GLktRon8C \n\n\n\n\n\n\n\n\n\n 
URL:https://dsacnj.org/event/craft-time-with-kristi/2022-10-25/
LOCATION:VIRTUAL OR ON SITE CLUB DREAMS\, 25 Scotch Rd\, Suite H\, Ewing\, NJ\, 08628\, United States
CATEGORIES:Arts/music,Children,ENRICHMENT,In person events,Online virtual events,Teens
ORGANIZER;CN="Club DREAMS team":MAILTO:Clubdreams@dsacnj.org
END:VEVENT
BEGIN:VEVENT
DTSTART;TZID=UTC:20221025T160000
DTEND;TZID=UTC:20221025T163000
DTSTAMP:20260421T110159
CREATED:20220309T052245Z
LAST-MODIFIED:20221117T232840Z
UID:10000426-1666713600-1666715400@dsacnj.org
SUMMARY:Craft Time with Kristi
DESCRIPTION:Join us for interactive VIRTUAL or In Person craft time. Register for the online class below and send address the week prior to receive your bag of complete craft supplies in the mail. Registrations must be in by Wednesday\, the week prior to ensure you craft supplies will be delivered on time. On the day of the class\, you will have all supplies needed to follow along:) EMAIL KRISTI at kschwartz@dsacnj.com with your mailing address to receive your supplies. \nREGISTER FOR THE VIRTUAL CLASS HERE: https://us06web.zoom.us/meeting/register/tZYoceutrDMuEtMumHtSbTZiru3GLktRon8C \n\n\n\n\n\n\n\n\n\n 
URL:https://dsacnj.org/event/craft-time-with-kristi/2022-10-25/
LOCATION:VIRTUAL OR ON SITE CLUB DREAMS\, 25 Scotch Rd\, Suite H\, Ewing\, NJ\, 08628\, United States
CATEGORIES:Arts/music,Children,ENRICHMENT,In person events,Online virtual events,Teens
ORGANIZER;CN="Club DREAMS team":MAILTO:Clubdreams@dsacnj.org
END:VEVENT
BEGIN:VEVENT
DTSTART;TZID=UTC:20221022T090000
DTEND;TZID=UTC:20221022T110000
DTSTAMP:20260421T110159
CREATED:20220829T230717Z
LAST-MODIFIED:20230629T211641Z
UID:10000617-1666429200-1666436400@dsacnj.org
SUMMARY:OPEN PLAY - Saturday
DESCRIPTION:Join us for Inclusive Open Play  Saturday Mornings from 9-11 AM. Our center offers a wide range of activities for all age groups.  Come check out our center\, mingle and relax while your kids play and have fun! \n \nCost for NON-DREAM TEAM MEMBERS. Payment will be taken at the center or can be \nVENMO – @DSACNJ-NJ or PAYPAL @ Down Syndrome Association of Central New Jersey \n$10 for 1st child and $5 for each additional child. (payment made at center via cash\, check\, venmo/paypal) \nInquire about our Open Play Pass Memberships! \nQuestions: email us at Clubdreams@dsacnj.org or 609-883-0321 or ask for a tour of our center \nRegister below.
URL:https://dsacnj.org/event/open-play-5/2022-10-22/
LOCATION:Club DREAMS\, 25 Scotch Rd.\, Suite H\, Ewing\, NJ\, 08628\, United States
CATEGORIES:Babies/Toddler,Children,In person events,Siblings,SOCIAL,Teens
ATTACH;FMTTYPE=image/png:https://dsacnj.org/wp-content/uploads/2022/08/Open-Play-3.png
ORGANIZER;CN="Club DREAMS team":MAILTO:Clubdreams@dsacnj.org
END:VEVENT
BEGIN:VEVENT
DTSTART;TZID=UTC:20221021T173000
DTEND;TZID=UTC:20221021T181500
DTSTAMP:20260421T110159
CREATED:20220901T234149Z
LAST-MODIFIED:20221122T015022Z
UID:10000669-1666373400-1666376100@dsacnj.org
SUMMARY:Club DREAMS Social Club
DESCRIPTION:Every Friday from 5:30-6:15 p.m. at Club DREAMS is Social Club. Ages 8 & Up Welcome! Come hang out\, play games\, meet new friends and have fun! \nRegister below
URL:https://dsacnj.org/event/club-dreams-social-club/2022-10-21/
LOCATION:NJ
CATEGORIES:Children,In person events,SOCIAL,Teens
ORGANIZER;CN="Club DREAMS team":MAILTO:Clubdreams@dsacnj.org
END:VEVENT
BEGIN:VEVENT
DTSTART;TZID=UTC:20221020T160000
DTEND;TZID=UTC:20221020T163000
DTSTAMP:20260421T110159
CREATED:20210823T004049Z
LAST-MODIFIED:20230622T233606Z
UID:10000048-1666281600-1666283400@dsacnj.org
SUMMARY:Virtual Yoga
DESCRIPTION:Learn several different poses that will keep your body healthy and active. REGISTER & CLICK HERE FOR VITURAL YOGA This link will register you for all the sessions of this season – no commitment required. Drop in and regular attendance welcome. After registering\, you will receive a confirmation email containing information about joining the meeting.     \n\n\n\n\n\n\n\n\n\n 
URL:https://dsacnj.org/event/yoga/2022-10-20/
LOCATION:Virtual Zoom
CATEGORIES:Adults 18+,Children,ENRICHMENT,Fitness/dance/sports,Online virtual events,Teens
END:VEVENT
BEGIN:VEVENT
DTSTART;TZID=UTC:20221018T160000
DTEND;TZID=UTC:20221018T163000
DTSTAMP:20260421T110159
CREATED:20240206T145726Z
LAST-MODIFIED:20240206T145726Z
UID:10000519-1666108800-1666110600@dsacnj.org
SUMMARY:Craft Time with Kristi
DESCRIPTION:Join us for interactive VIRTUAL or In Person craft time. Register for the online class below and send address the week prior to receive your bag of complete craft supplies in the mail. Registrations must be in by Wednesday\, the week prior to ensure you craft supplies will be delivered on time. On the day of the class\, you will have all supplies needed to follow along:) EMAIL KRISTI at kschwartz@dsacnj.com with your mailing address to receive your supplies. \nREGISTER FOR THE VIRTUAL CLASS HERE: https://us06web.zoom.us/meeting/register/tZYoceutrDMuEtMumHtSbTZiru3GLktRon8C \n\n\n\n\n\n\n\n\n\n 
URL:https://dsacnj.org/event/craft-time-with-kristi/2022-10-18/
LOCATION:VIRTUAL OR ON SITE CLUB DREAMS\, 25 Scotch Rd\, Suite H\, Ewing\, NJ\, 08628\, United States
CATEGORIES:Arts/music,Children,ENRICHMENT,In person events,Online virtual events,Teens
ORGANIZER;CN="Club DREAMS team":MAILTO:Clubdreams@dsacnj.org
END:VEVENT
BEGIN:VEVENT
DTSTART;TZID=UTC:20221018T160000
DTEND;TZID=UTC:20221018T163000
DTSTAMP:20260421T110159
CREATED:20220309T052245Z
LAST-MODIFIED:20221117T232840Z
UID:10000425-1666108800-1666110600@dsacnj.org
SUMMARY:Craft Time with Kristi
DESCRIPTION:Join us for interactive VIRTUAL or In Person craft time. Register for the online class below and send address the week prior to receive your bag of complete craft supplies in the mail. Registrations must be in by Wednesday\, the week prior to ensure you craft supplies will be delivered on time. On the day of the class\, you will have all supplies needed to follow along:) EMAIL KRISTI at kschwartz@dsacnj.com with your mailing address to receive your supplies. \nREGISTER FOR THE VIRTUAL CLASS HERE: https://us06web.zoom.us/meeting/register/tZYoceutrDMuEtMumHtSbTZiru3GLktRon8C \n\n\n\n\n\n\n\n\n\n 
URL:https://dsacnj.org/event/craft-time-with-kristi/2022-10-18/
LOCATION:VIRTUAL OR ON SITE CLUB DREAMS\, 25 Scotch Rd\, Suite H\, Ewing\, NJ\, 08628\, United States
CATEGORIES:Arts/music,Children,ENRICHMENT,In person events,Online virtual events,Teens
ORGANIZER;CN="Club DREAMS team":MAILTO:Clubdreams@dsacnj.org
END:VEVENT
END:VCALENDAR