BEGIN:VCALENDAR
VERSION:2.0
PRODID:-//Down Syndrome Association of Central New Jersey - ECPv6.15.15//NONSGML v1.0//EN
CALSCALE:GREGORIAN
METHOD:PUBLISH
X-WR-CALNAME:Down Syndrome Association of Central New Jersey
X-ORIGINAL-URL:https://dsacnj.org
X-WR-CALDESC:Events for Down Syndrome Association of Central New Jersey
REFRESH-INTERVAL;VALUE=DURATION:PT1H
X-Robots-Tag:noindex
X-PUBLISHED-TTL:PT1H
BEGIN:VTIMEZONE
TZID:UTC
BEGIN:STANDARD
TZOFFSETFROM:+0000
TZOFFSETTO:+0000
TZNAME:UTC
DTSTART:20200101T000000
END:STANDARD
END:VTIMEZONE
BEGIN:VTIMEZONE
TZID:America/New_York
BEGIN:DAYLIGHT
TZOFFSETFROM:-0500
TZOFFSETTO:-0400
TZNAME:EDT
DTSTART:20200308T070000
END:DAYLIGHT
BEGIN:STANDARD
TZOFFSETFROM:-0400
TZOFFSETTO:-0500
TZNAME:EST
DTSTART:20201101T060000
END:STANDARD
BEGIN:DAYLIGHT
TZOFFSETFROM:-0500
TZOFFSETTO:-0400
TZNAME:EDT
DTSTART:20210314T070000
END:DAYLIGHT
BEGIN:STANDARD
TZOFFSETFROM:-0400
TZOFFSETTO:-0500
TZNAME:EST
DTSTART:20211107T060000
END:STANDARD
BEGIN:DAYLIGHT
TZOFFSETFROM:-0500
TZOFFSETTO:-0400
TZNAME:EDT
DTSTART:20220313T070000
END:DAYLIGHT
BEGIN:STANDARD
TZOFFSETFROM:-0400
TZOFFSETTO:-0500
TZNAME:EST
DTSTART:20221106T060000
END:STANDARD
END:VTIMEZONE
BEGIN:VEVENT
DTSTART;TZID=UTC:20210907T170000
DTEND;TZID=UTC:20210907T183000
DTSTAMP:20260424T182530
CREATED:20210825T101633Z
LAST-MODIFIED:20210906T193223Z
UID:10000102-1631034000-1631039400@dsacnj.org
SUMMARY:Homework Helpers (Tuesday)
DESCRIPTION:This in person session is led by a certified teacher with special education background.  Come in with your homework questions\, work on assignments\, work on academic goals.  We will request you to provide learning goals when participating in this session so that we can best meet your needs.  Capacity is limited.
URL:https://dsacnj.org/event/homework-helpers/2021-09-07/
LOCATION:Club DREAMS\, 25 Scotch Rd.\, Suite H\, Ewing\, NJ\, 08628\, United States
CATEGORIES:ACADEMICS,Adults 18+,Children,HOMEWORK HELPERS,In person events,Teens
ORGANIZER;CN="Club DREAMS team":MAILTO:Clubdreams@dsacnj.org
END:VEVENT
BEGIN:VEVENT
DTSTART;TZID=UTC:20210907T161500
DTEND;TZID=UTC:20210907T170000
DTSTAMP:20260424T182530
CREATED:20210825T095926Z
LAST-MODIFIED:20211006T000349Z
UID:10000094-1631031300-1631034000@dsacnj.org
SUMMARY:Academic Level 4 (Tuesday)
DESCRIPTION:Academic Level 4 is for teens to adults to work on academics that will assist with life long independence such as measuring\, multiplication\, division word problems\, money management\, time telling\, weather reports\, tipping\, paying bills. \nThis event will have a virtual teacher that can be observed on site from Club DREAMS for our in person participants or you can register to participate from home. Be sure to choose the correct registration option below. If you register as a virtual participant but decide to come to Club DREAMS on certain days\, please register again for in person option using link below on the dates you choose to come in person. \nREGISTER FOR VIRTUAL PARTICIPATION FROM HOME HERE.Registration will schedule you for all sessions in our fall season – no commitment is required. Drop in and regular attendance welcome. After registering\, you will receive a confirmation email containing information about joining the meeting. \nUse the register button below if you will be coming to Club DREAMS to participate in this session. 
URL:https://dsacnj.org/event/academic-level-4/2021-09-07/
LOCATION:VIRTUAL OR ON SITE CLUB DREAMS\, 25 Scotch Rd\, Suite H\, Ewing\, NJ\, 08628\, United States
CATEGORIES:ACADEMICS,Adults 18+,In person events,Online virtual events
END:VEVENT
BEGIN:VEVENT
DTSTART;TZID=UTC:20210826T000000
DTEND;TZID=UTC:20210826T000000
DTSTAMP:20260424T182530
CREATED:20210826T083005Z
LAST-MODIFIED:20210906T193658Z
UID:10000232-1629936000-1629936000@dsacnj.org
SUMMARY:DANCE NIGHT
DESCRIPTION:Dance activities and games\, line dances and party music. Get together with friends to practice social dances\, tiktok dances or play dance games.\nAges 13+ \nSlice of pizza and drinks will be provided. \nLive on site at Club DREAMS – limited capacity. \nIf you would like to join virtually 30 minutes of the event will be live streamed. \nREGISTER HERE FOR VIRTUAL  \nREGISTER FOR LIVE ATTENDANCE \n  \n  \n 
URL:https://dsacnj.org/event/dance-night-2/
LOCATION:NJ
CATEGORIES:Adults 18+,Children,ENRICHMENT,In person events,Online virtual events,Siblings,SOCIAL,SPECIAL EVENT,Teens
END:VEVENT
BEGIN:VEVENT
DTSTART;TZID=UTC:20210825T150000
DTEND;TZID=UTC:20210825T153000
DTSTAMP:20260424T182530
CREATED:20210823T003809Z
LAST-MODIFIED:20210825T210426Z
UID:10000022-1629903600-1629905400@dsacnj.org
SUMMARY:Academic Session - Level 3 (Topic TBD)
DESCRIPTION:Academic sessions allow an opportunity to work on academic skills in a small group setting led by a Club DREAMS team member.  Sessions are fun and interactive yet review key academic skills in fields of math\, reading\, science\, geography\, time and money. All learners working on the skills for the content planned for the session are welcome to join.  Approximate age range for content is as follows: Level 1: under 7 learners; Level 2:  7-10 years;  Level 3:  11-13 years; Level 4:  14+ Years \nRegister Below. This link will register you for all the sessions of the spring season – no commitment required.  Drop in and regular attendance welcome. After registering\, you will receive a confirmation email containing information about joining the meeting. \nIf interested in a one-on-one session\, email: Clubdreams@dsacnj.org
URL:https://dsacnj.org/event/academic-session-level-3-topic-tbd/2021-08-25/
LOCATION:NJ
CATEGORIES:Teens
END:VEVENT
BEGIN:VEVENT
DTSTART;TZID=America/New_York:20210823T170000
DTEND;TZID=America/New_York:20210823T173000
DTSTAMP:20260424T182530
CREATED:20210823T003220Z
LAST-MODIFIED:20210825T210517Z
UID:10000020-1629738000-1629739800@dsacnj.org
SUMMARY:Spanish 101 (Topic TBD)
DESCRIPTION:Spanish for beginners. We will work on introduction to Spanish words and phrases to build vocabulary and confidence. \nRegister Below. This link will register you for all the sessions of the spring season – no commitment required. Drop in and regular attendance welcome. After registering\, you will receive a confirmation email containing information about joining the meeting.
URL:https://dsacnj.org/event/spanish-101-topic-tbd/2021-08-23/
LOCATION:NJ
END:VEVENT
BEGIN:VEVENT
DTSTART;TZID=UTC:20210823T154500
DTEND;TZID=UTC:20210823T161500
DTSTAMP:20260424T182530
CREATED:20210822T224000Z
LAST-MODIFIED:20220912T193426Z
UID:10000018-1629733500-1629735300@dsacnj.org
SUMMARY:Buddy 2 Buddy (Monday-virtual only)
DESCRIPTION:Join us for a Buddy to Buddy Zoom session and tell us about your day\, week\, or month! This is a social meet up group for teens and adults. Play games\, laugh\, tell jokes and get to make some friends. \nREGISTER HERE FOR VIRTUAL BUDDY TO BUDDY
URL:https://dsacnj.org/event/buddy-2-buddy-topic-tbd/2021-08-23/
LOCATION:Virtual Zoom
CATEGORIES:Adults 18+,Online virtual events,SOCIAL,Teens
END:VEVENT
BEGIN:VEVENT
DTSTART;TZID=UTC:20210821T140000
DTEND;TZID=UTC:20210821T180000
DTSTAMP:20260424T182530
CREATED:20210812T233441Z
LAST-MODIFIED:20210812T233651Z
UID:10000017-1629554400-1629568800@dsacnj.org
SUMMARY:Club DREAMS Grand Opening
DESCRIPTION:Club DREAMS is opening!  Join us to celebrate.
URL:https://dsacnj.org/event/club-dreams-grand-opening/
LOCATION:NJ
ORGANIZER;CN="Melissa b":MAILTO:mb@gmail.com
END:VEVENT
BEGIN:VEVENT
DTSTART;TZID=UTC:20210310T180000
DTEND;TZID=UTC:20220310T193000
DTSTAMP:20260424T182530
CREATED:20220223T225848Z
LAST-MODIFIED:20220310T211721Z
UID:10000359-1615399200-1646940600@dsacnj.org
SUMMARY:Leprechaun Trap Building Craft
DESCRIPTION:Want to try to catch a leprechaun?  Join us for a leprechaun trap building craft. All materials included. Thursday\, March 10th from 6-7:30pm. Space is limited. Register Below. \n\n\n\n\n\n\n\n\n\n 
URL:https://dsacnj.org/event/leprechaun-trap-building-craft/
LOCATION:Club DREAMS\, 25 Scotch Rd.\, Suite H\, Ewing\, NJ\, 08628\, United States
CATEGORIES:Arts/music,Children,ENRICHMENT,In person events,SOCIAL,Teens
ORGANIZER;CN="Club DREAMS team":MAILTO:Clubdreams@dsacnj.org
END:VEVENT
END:VCALENDAR