BEGIN:VCALENDAR
VERSION:2.0
PRODID:-//Down Syndrome Association of Central New Jersey - ECPv6.15.15//NONSGML v1.0//EN
CALSCALE:GREGORIAN
METHOD:PUBLISH
X-WR-CALNAME:Down Syndrome Association of Central New Jersey
X-ORIGINAL-URL:https://dsacnj.org
X-WR-CALDESC:Events for Down Syndrome Association of Central New Jersey
REFRESH-INTERVAL;VALUE=DURATION:PT1H
X-Robots-Tag:noindex
X-PUBLISHED-TTL:PT1H
BEGIN:VTIMEZONE
TZID:UTC
BEGIN:STANDARD
TZOFFSETFROM:+0000
TZOFFSETTO:+0000
TZNAME:UTC
DTSTART:20200101T000000
END:STANDARD
END:VTIMEZONE
BEGIN:VEVENT
DTSTART;TZID=UTC:20220212T190000
DTEND;TZID=UTC:20220212T210000
DTSTAMP:20260422T052346
CREATED:20220115T092555Z
LAST-MODIFIED:20220208T195916Z
UID:10000340-1644692400-1644699600@dsacnj.org
SUMMARY:Trivia Night: 321 Game On - POSTPONED
DESCRIPTION:This event has been POSTPONED!  Stay tuned for the new date. \nThe Down Syndrome Association of Central New Jersey is hosting our second annual community trivia night fundraiser. The money raised from the event will go towards DSACNJ and Club DREAMS\, so we can further support our families and members in our community and spread awareness of Down syndrome. Club DREAMS has offered over 1600 virtual and live programs for free in the past 20 months and we are thrilled to have Club DREAMS space being enjoyed by many! \nJoin as a team (up to 8 players per a team)\, family\, individual\, or couple for an opportunity to win cash prizes for top 3 teams (1st place: $400\, 2nd place: $200\, 3rd place: $100). Also make more than one team in your household (kids versus adults/girls versus boys) for some friendly competition and more chances to bring home a prize! Also 3 random door prizes will be drawn throughout the evening and a prize for best team name! Join now and help us spread the word to get others to join or sponsor. Considering sponsoring? Don’t forget employee match programs (we are a 501c3 nonprofit). \nAttend in person for a fun social gathering (while kids can enjoy open play) or play virtually from the comfort of your home!  Either way a fun filled family friendly night is guaranteed!  If you participate at Club DREAMS feel free to bring young children to play and enjoy the space while you test your knowledge at Trivia Night. \nRegister at trivianight321.givesmart.com
URL:https://dsacnj.org/event/trivia-night-321-game-on/
LOCATION:VIRTUAL OR ON SITE CLUB DREAMS\, 25 Scotch Rd\, Suite H\, Ewing\, NJ\, 08628\, United States
CATEGORIES:Adults 18+,Children,ENRICHMENT,FAMILY SUPPORT,In person events,Online virtual events,Parent/family socials (TBD),Siblings,SOCIAL,SPECIAL EVENT,Teens
ORGANIZER;CN="Club DREAMS team":MAILTO:Clubdreams@dsacnj.org
END:VEVENT
BEGIN:VEVENT
DTSTART;TZID=UTC:20220211T190000
DTEND;TZID=UTC:20220211T210000
DTSTAMP:20260422T052346
CREATED:20220131T030553Z
LAST-MODIFIED:20220211T013622Z
UID:10000342-1644606000-1644613200@dsacnj.org
SUMMARY:Valentine's Dance
DESCRIPTION:Join us for a fun Valentine’s Dance!  Feel free to come dressed in your “fancy” attire or whatever you feel comfortable in. Enjoy a night of dancing\, games\, Valentine’s themed crafts and snacks.  Love is in the air at Club Dreams!  We hope to see you there!!
URL:https://dsacnj.org/event/valentines-dance/
LOCATION:Club DREAMS\, 25 Scotch Rd.\, Suite H\, Ewing\, NJ\, 08628\, United States
CATEGORIES:In person events,SOCIAL,SPECIAL EVENT
ORGANIZER;CN="Club DREAMS team":MAILTO:Clubdreams@dsacnj.org
END:VEVENT
BEGIN:VEVENT
DTSTART;TZID=UTC:20220202T130000
DTEND;TZID=UTC:20220202T180000
DTSTAMP:20260422T052346
CREATED:20210906T045617Z
LAST-MODIFIED:20220216T201402Z
UID:10000003-1643806800-1643824800@dsacnj.org
SUMMARY:Open Play (ON HOLD)
DESCRIPTION:Open play allow participants to enjoy our space in the age appropriate area of the center.  Climb\, read\, write\, explore\, pretend\, get gaming! \nPlan to meet up with friends and other families to enjoy Club DREAMS. \nCapacity is limited.   Open play is opened to community for integrative play if space permits. \nIN PERSON ONLY \nIndividuals with Down syndrome and siblings free.  We love inclusive play and we invite community peers at $10 per session.    If your registration is confirmed please pay under donation page $10 to PayPal link and type Open play in comments.
URL:https://dsacnj.org/event/open-play-friday/2022-02-02/
LOCATION:Club DREAMS\, 25 Scotch Rd.\, Suite H\, Ewing\, NJ\, 08628\, United States
CATEGORIES:Adults 18+,Babies/Toddler,Children,FAMILY SUPPORT,In person events,Parent/family socials (TBD),Siblings,SOCIAL,Teens
ORGANIZER;CN="Club DREAMS team":MAILTO:Clubdreams@dsacnj.org
END:VEVENT
BEGIN:VEVENT
DTSTART;TZID=UTC:20220127T093000
DTEND;TZID=UTC:20220127T101500
DTSTAMP:20260422T052346
CREATED:20220204T214800Z
LAST-MODIFIED:20220216T050424Z
UID:10000092-1643275800-1643278500@dsacnj.org
SUMMARY:Mommy & Me Baby Class Thursdays
DESCRIPTION:Come join us for Mommy & Me Baby Play Group on Thursdays from 9:30-10:15am.  This is inclusive play group that is open to members\, non-members and the entire community. Activities will include open play\, music time\, story time and arts and crafts. A great opportunity to meet new people and socialize with other moms while also spending quality time with your little ones.
URL:https://dsacnj.org/event/mommy-me-baby-class-thursdays/2022-01-27/
LOCATION:Club DREAMS\, 25 Scotch Rd.\, Suite H\, Ewing\, NJ\, 08628\, United States
CATEGORIES:Arts/music,Babies/Toddler,ENRICHMENT,Fitness/dance/sports,In person events,Parent/family socials (TBD)
ORGANIZER;CN="Club DREAMS team":MAILTO:Clubdreams@dsacnj.org
END:VEVENT
BEGIN:VEVENT
DTSTART;TZID=UTC:20220127T093000
DTEND;TZID=UTC:20220127T101500
DTSTAMP:20260422T052346
CREATED:20220204T214800Z
LAST-MODIFIED:20220216T051005Z
UID:10000101-1643275800-1643278500@dsacnj.org
SUMMARY:Mommy & Me Baby Class Thursdays
DESCRIPTION:Come join us for Mommy & Me Baby Play Group on Thursdays from 9:30-10:15am.  This is inclusive play group that is open to members\, non-members and the entire community. Activities will include open play\, music time\, story time and arts and crafts. A great opportunity to meet new people and socialize with other moms while also spending quality time with your little ones.
URL:https://dsacnj.org/event/mommy-me-baby-class-thursdays-2022-02-24/2022-01-27/
LOCATION:Club DREAMS\, 25 Scotch Rd.\, Suite H\, Ewing\, NJ\, 08628\, United States
CATEGORIES:Arts/music,Babies/Toddler,ENRICHMENT,Fitness/dance/sports,In person events,Parent/family socials (TBD)
ORGANIZER;CN="Club DREAMS team":MAILTO:Clubdreams@dsacnj.org
END:VEVENT
BEGIN:VEVENT
DTSTART;TZID=UTC:20220125T093000
DTEND;TZID=UTC:20220125T101500
DTSTAMP:20260422T052346
CREATED:20220204T214800Z
LAST-MODIFIED:20220216T050424Z
UID:10000091-1643103000-1643105700@dsacnj.org
SUMMARY:Mommy & Me Baby Class Thursdays
DESCRIPTION:Come join us for Mommy & Me Baby Play Group on Thursdays from 9:30-10:15am.  This is inclusive play group that is open to members\, non-members and the entire community. Activities will include open play\, music time\, story time and arts and crafts. A great opportunity to meet new people and socialize with other moms while also spending quality time with your little ones.
URL:https://dsacnj.org/event/mommy-me-baby-class-thursdays/2022-01-25/
LOCATION:Club DREAMS\, 25 Scotch Rd.\, Suite H\, Ewing\, NJ\, 08628\, United States
CATEGORIES:Arts/music,Babies/Toddler,ENRICHMENT,Fitness/dance/sports,In person events,Parent/family socials (TBD)
ORGANIZER;CN="Club DREAMS team":MAILTO:Clubdreams@dsacnj.org
END:VEVENT
BEGIN:VEVENT
DTSTART;TZID=UTC:20220122T193000
DTEND;TZID=UTC:20220122T203000
DTSTAMP:20260422T052346
CREATED:20220127T011902Z
LAST-MODIFIED:20220127T012027Z
UID:10000341-1642879800-1642883400@dsacnj.org
SUMMARY:DANCE NIGHT (Hybrid)
DESCRIPTION:Join us for Dance Night in person or online from 7:30-8:30 PM. \nRegister Below for limited in-person capacity\, or click on the zoom link to register for online Dance Night. \nREGISTER HERE FOR ONLINE
URL:https://dsacnj.org/event/dance-night-hybrid/
LOCATION:NJ
CATEGORIES:In person events,Online virtual events,SOCIAL,SPECIAL EVENT,Teens
ORGANIZER;CN="Club DREAMS team":MAILTO:Clubdreams@dsacnj.org
END:VEVENT
BEGIN:VEVENT
DTSTART;TZID=UTC:20220120T104500
DTEND;TZID=UTC:20220120T113000
DTSTAMP:20260422T052346
CREATED:20220204T215423Z
LAST-MODIFIED:20220216T050606Z
UID:10000108-1642675500-1642678200@dsacnj.org
SUMMARY:Mommy & Me Toddler Class Thursdays
DESCRIPTION:Come join us for Mommy & Me Toddler Play Group on Thursdays from 10:45-11:30am. This is inclusive play group that is open to members\, non-members and the entire community. Activities will include open play\, music time\, story time and arts and crafts. A great opportunity to meet new people and socialize with other moms while also spending quality time with your little ones.
URL:https://dsacnj.org/event/mommy-me-toddler-class-thursdays/2022-01-20/
LOCATION:Club DREAMS\, 25 Scotch Rd.\, Suite H\, Ewing\, NJ\, 08628\, United States
CATEGORIES:Arts/music,Babies/Toddler,ENRICHMENT,Fitness/dance/sports,In person events
ORGANIZER;CN="Club DREAMS team":MAILTO:Clubdreams@dsacnj.org
END:VEVENT
BEGIN:VEVENT
DTSTART;TZID=UTC:20220120T093000
DTEND;TZID=UTC:20220120T101500
DTSTAMP:20260422T052346
CREATED:20220204T214800Z
LAST-MODIFIED:20220216T050424Z
UID:10000090-1642671000-1642673700@dsacnj.org
SUMMARY:Mommy & Me Baby Class Thursdays
DESCRIPTION:Come join us for Mommy & Me Baby Play Group on Thursdays from 9:30-10:15am.  This is inclusive play group that is open to members\, non-members and the entire community. Activities will include open play\, music time\, story time and arts and crafts. A great opportunity to meet new people and socialize with other moms while also spending quality time with your little ones.
URL:https://dsacnj.org/event/mommy-me-baby-class-thursdays/2022-01-20/
LOCATION:Club DREAMS\, 25 Scotch Rd.\, Suite H\, Ewing\, NJ\, 08628\, United States
CATEGORIES:Arts/music,Babies/Toddler,ENRICHMENT,Fitness/dance/sports,In person events,Parent/family socials (TBD)
ORGANIZER;CN="Club DREAMS team":MAILTO:Clubdreams@dsacnj.org
END:VEVENT
BEGIN:VEVENT
DTSTART;TZID=UTC:20220120T093000
DTEND;TZID=UTC:20220120T101500
DTSTAMP:20260422T052346
CREATED:20220204T214800Z
LAST-MODIFIED:20220216T051005Z
UID:10000100-1642671000-1642673700@dsacnj.org
SUMMARY:Mommy & Me Baby Class Thursdays
DESCRIPTION:Come join us for Mommy & Me Baby Play Group on Thursdays from 9:30-10:15am.  This is inclusive play group that is open to members\, non-members and the entire community. Activities will include open play\, music time\, story time and arts and crafts. A great opportunity to meet new people and socialize with other moms while also spending quality time with your little ones.
URL:https://dsacnj.org/event/mommy-me-baby-class-thursdays-2022-02-24/2022-01-20/
LOCATION:Club DREAMS\, 25 Scotch Rd.\, Suite H\, Ewing\, NJ\, 08628\, United States
CATEGORIES:Arts/music,Babies/Toddler,ENRICHMENT,Fitness/dance/sports,In person events,Parent/family socials (TBD)
ORGANIZER;CN="Club DREAMS team":MAILTO:Clubdreams@dsacnj.org
END:VEVENT
BEGIN:VEVENT
DTSTART;TZID=UTC:20220118T093000
DTEND;TZID=UTC:20220118T101500
DTSTAMP:20260422T052346
CREATED:20220204T214800Z
LAST-MODIFIED:20220216T050424Z
UID:10000089-1642498200-1642500900@dsacnj.org
SUMMARY:Mommy & Me Baby Class Thursdays
DESCRIPTION:Come join us for Mommy & Me Baby Play Group on Thursdays from 9:30-10:15am.  This is inclusive play group that is open to members\, non-members and the entire community. Activities will include open play\, music time\, story time and arts and crafts. A great opportunity to meet new people and socialize with other moms while also spending quality time with your little ones.
URL:https://dsacnj.org/event/mommy-me-baby-class-thursdays/2022-01-18/
LOCATION:Club DREAMS\, 25 Scotch Rd.\, Suite H\, Ewing\, NJ\, 08628\, United States
CATEGORIES:Arts/music,Babies/Toddler,ENRICHMENT,Fitness/dance/sports,In person events,Parent/family socials (TBD)
ORGANIZER;CN="Club DREAMS team":MAILTO:Clubdreams@dsacnj.org
END:VEVENT
BEGIN:VEVENT
DTSTART;TZID=UTC:20220113T104500
DTEND;TZID=UTC:20220113T113000
DTSTAMP:20260422T052346
CREATED:20220204T215423Z
LAST-MODIFIED:20220216T050606Z
UID:10000107-1642070700-1642073400@dsacnj.org
SUMMARY:Mommy & Me Toddler Class Thursdays
DESCRIPTION:Come join us for Mommy & Me Toddler Play Group on Thursdays from 10:45-11:30am. This is inclusive play group that is open to members\, non-members and the entire community. Activities will include open play\, music time\, story time and arts and crafts. A great opportunity to meet new people and socialize with other moms while also spending quality time with your little ones.
URL:https://dsacnj.org/event/mommy-me-toddler-class-thursdays/2022-01-13/
LOCATION:Club DREAMS\, 25 Scotch Rd.\, Suite H\, Ewing\, NJ\, 08628\, United States
CATEGORIES:Arts/music,Babies/Toddler,ENRICHMENT,Fitness/dance/sports,In person events
ORGANIZER;CN="Club DREAMS team":MAILTO:Clubdreams@dsacnj.org
END:VEVENT
BEGIN:VEVENT
DTSTART;TZID=UTC:20220113T093000
DTEND;TZID=UTC:20220113T101500
DTSTAMP:20260422T052346
CREATED:20220204T214800Z
LAST-MODIFIED:20220216T050424Z
UID:10000088-1642066200-1642068900@dsacnj.org
SUMMARY:Mommy & Me Baby Class Thursdays
DESCRIPTION:Come join us for Mommy & Me Baby Play Group on Thursdays from 9:30-10:15am.  This is inclusive play group that is open to members\, non-members and the entire community. Activities will include open play\, music time\, story time and arts and crafts. A great opportunity to meet new people and socialize with other moms while also spending quality time with your little ones.
URL:https://dsacnj.org/event/mommy-me-baby-class-thursdays/2022-01-13/
LOCATION:Club DREAMS\, 25 Scotch Rd.\, Suite H\, Ewing\, NJ\, 08628\, United States
CATEGORIES:Arts/music,Babies/Toddler,ENRICHMENT,Fitness/dance/sports,In person events,Parent/family socials (TBD)
ORGANIZER;CN="Club DREAMS team":MAILTO:Clubdreams@dsacnj.org
END:VEVENT
BEGIN:VEVENT
DTSTART;TZID=UTC:20220113T093000
DTEND;TZID=UTC:20220113T101500
DTSTAMP:20260422T052346
CREATED:20220204T214800Z
LAST-MODIFIED:20220216T051005Z
UID:10000099-1642066200-1642068900@dsacnj.org
SUMMARY:Mommy & Me Baby Class Thursdays
DESCRIPTION:Come join us for Mommy & Me Baby Play Group on Thursdays from 9:30-10:15am.  This is inclusive play group that is open to members\, non-members and the entire community. Activities will include open play\, music time\, story time and arts and crafts. A great opportunity to meet new people and socialize with other moms while also spending quality time with your little ones.
URL:https://dsacnj.org/event/mommy-me-baby-class-thursdays-2022-02-24/2022-01-13/
LOCATION:Club DREAMS\, 25 Scotch Rd.\, Suite H\, Ewing\, NJ\, 08628\, United States
CATEGORIES:Arts/music,Babies/Toddler,ENRICHMENT,Fitness/dance/sports,In person events,Parent/family socials (TBD)
ORGANIZER;CN="Club DREAMS team":MAILTO:Clubdreams@dsacnj.org
END:VEVENT
BEGIN:VEVENT
DTSTART;TZID=UTC:20220111T093000
DTEND;TZID=UTC:20220111T101500
DTSTAMP:20260422T052346
CREATED:20220204T214800Z
LAST-MODIFIED:20220216T050424Z
UID:10000087-1641893400-1641896100@dsacnj.org
SUMMARY:Mommy & Me Baby Class Thursdays
DESCRIPTION:Come join us for Mommy & Me Baby Play Group on Thursdays from 9:30-10:15am.  This is inclusive play group that is open to members\, non-members and the entire community. Activities will include open play\, music time\, story time and arts and crafts. A great opportunity to meet new people and socialize with other moms while also spending quality time with your little ones.
URL:https://dsacnj.org/event/mommy-me-baby-class-thursdays/2022-01-11/
LOCATION:Club DREAMS\, 25 Scotch Rd.\, Suite H\, Ewing\, NJ\, 08628\, United States
CATEGORIES:Arts/music,Babies/Toddler,ENRICHMENT,Fitness/dance/sports,In person events,Parent/family socials (TBD)
ORGANIZER;CN="Club DREAMS team":MAILTO:Clubdreams@dsacnj.org
END:VEVENT
BEGIN:VEVENT
DTSTART;TZID=UTC:20220106T104500
DTEND;TZID=UTC:20220106T113000
DTSTAMP:20260422T052346
CREATED:20220204T215423Z
LAST-MODIFIED:20220216T050606Z
UID:10000106-1641465900-1641468600@dsacnj.org
SUMMARY:Mommy & Me Toddler Class Thursdays
DESCRIPTION:Come join us for Mommy & Me Toddler Play Group on Thursdays from 10:45-11:30am. This is inclusive play group that is open to members\, non-members and the entire community. Activities will include open play\, music time\, story time and arts and crafts. A great opportunity to meet new people and socialize with other moms while also spending quality time with your little ones.
URL:https://dsacnj.org/event/mommy-me-toddler-class-thursdays/2022-01-06/
LOCATION:Club DREAMS\, 25 Scotch Rd.\, Suite H\, Ewing\, NJ\, 08628\, United States
CATEGORIES:Arts/music,Babies/Toddler,ENRICHMENT,Fitness/dance/sports,In person events
ORGANIZER;CN="Club DREAMS team":MAILTO:Clubdreams@dsacnj.org
END:VEVENT
BEGIN:VEVENT
DTSTART;TZID=UTC:20220106T093000
DTEND;TZID=UTC:20220106T101500
DTSTAMP:20260422T052346
CREATED:20220204T214800Z
LAST-MODIFIED:20220216T051005Z
UID:10000098-1641461400-1641464100@dsacnj.org
SUMMARY:Mommy & Me Baby Class Thursdays
DESCRIPTION:Come join us for Mommy & Me Baby Play Group on Thursdays from 9:30-10:15am.  This is inclusive play group that is open to members\, non-members and the entire community. Activities will include open play\, music time\, story time and arts and crafts. A great opportunity to meet new people and socialize with other moms while also spending quality time with your little ones.
URL:https://dsacnj.org/event/mommy-me-baby-class-thursdays-2022-02-24/2022-01-06/
LOCATION:Club DREAMS\, 25 Scotch Rd.\, Suite H\, Ewing\, NJ\, 08628\, United States
CATEGORIES:Arts/music,Babies/Toddler,ENRICHMENT,Fitness/dance/sports,In person events,Parent/family socials (TBD)
ORGANIZER;CN="Club DREAMS team":MAILTO:Clubdreams@dsacnj.org
END:VEVENT
BEGIN:VEVENT
DTSTART;TZID=UTC:20220106T093000
DTEND;TZID=UTC:20220106T101500
DTSTAMP:20260422T052346
CREATED:20220204T214800Z
LAST-MODIFIED:20220216T050424Z
UID:10000086-1641461400-1641464100@dsacnj.org
SUMMARY:Mommy & Me Baby Class Thursdays
DESCRIPTION:Come join us for Mommy & Me Baby Play Group on Thursdays from 9:30-10:15am.  This is inclusive play group that is open to members\, non-members and the entire community. Activities will include open play\, music time\, story time and arts and crafts. A great opportunity to meet new people and socialize with other moms while also spending quality time with your little ones.
URL:https://dsacnj.org/event/mommy-me-baby-class-thursdays/2022-01-06/
LOCATION:Club DREAMS\, 25 Scotch Rd.\, Suite H\, Ewing\, NJ\, 08628\, United States
CATEGORIES:Arts/music,Babies/Toddler,ENRICHMENT,Fitness/dance/sports,In person events,Parent/family socials (TBD)
ORGANIZER;CN="Club DREAMS team":MAILTO:Clubdreams@dsacnj.org
END:VEVENT
BEGIN:VEVENT
DTSTART;TZID=UTC:20220105T170000
DTEND;TZID=UTC:20220105T173000
DTSTAMP:20260422T052346
CREATED:20210825T205652Z
LAST-MODIFIED:20220504T183437Z
UID:10000175-1641402000-1641403800@dsacnj.org
SUMMARY:Arts and Crafts (Wednesday)
DESCRIPTION:Each week we will work on fun\, exciting and simple guided drawing or arts and crafts projects\, painting\, crafting\, sand art\, drawing and others will be included.  Supplies will be provided onsite.  Each week we will match the theme with our art project. For those at home please have the following supplies available: white paper\, pencils\, crayons\, colored construction paper\, glue stick\, scissor\, tape REGISTER HERE TO PARTICIPATE VIRTUALLY FROM HOME ON ZOOM This link will register you for all the sessions of the season – no commitment required.  Drop in and regular attendance welcome. After registering\, you will receive a confirmation email containing information about joining the meeting. REGISTER BELOW TO ATTEND IN PERSON – CAPACITY IS LIMITED \n\n\n\n\n\n\n\n\n\n 
URL:https://dsacnj.org/event/arts-and-crafts/
LOCATION:VIRTUAL OR ON SITE CLUB DREAMS\, 25 Scotch Rd\, Suite H\, Ewing\, NJ\, 08628\, United States
CATEGORIES:ENRICHMENT,In person events,Online virtual events
ORGANIZER;CN="Club DREAMS team":MAILTO:Clubdreams@dsacnj.org
END:VEVENT
BEGIN:VEVENT
DTSTART;TZID=UTC:20220104T170000
DTEND;TZID=UTC:20220104T183000
DTSTAMP:20260422T052346
CREATED:20211013T214136Z
LAST-MODIFIED:20220127T012301Z
UID:10000306-1641315600-1641321000@dsacnj.org
SUMMARY:Homework Helpers TUESDAYS
DESCRIPTION:Does your child need help with their homework or other tutoring? Join us on Tuesdays from 5-6:30 at our center! \n  \nRegister below\, capacity is limited!
URL:https://dsacnj.org/event/homework-helpers-3/2022-01-04/
LOCATION:Club DREAMS\, 25 Scotch Rd.\, Suite H\, Ewing\, NJ\, 08628\, United States
CATEGORIES:HOMEWORK HELPERS
ORGANIZER;CN="Club DREAMS team":MAILTO:Clubdreams@dsacnj.org
END:VEVENT
BEGIN:VEVENT
DTSTART;TZID=UTC:20220104T093000
DTEND;TZID=UTC:20220104T101500
DTSTAMP:20260422T052346
CREATED:20220204T214800Z
LAST-MODIFIED:20220216T050424Z
UID:10000085-1641288600-1641291300@dsacnj.org
SUMMARY:Mommy & Me Baby Class Thursdays
DESCRIPTION:Come join us for Mommy & Me Baby Play Group on Thursdays from 9:30-10:15am.  This is inclusive play group that is open to members\, non-members and the entire community. Activities will include open play\, music time\, story time and arts and crafts. A great opportunity to meet new people and socialize with other moms while also spending quality time with your little ones.
URL:https://dsacnj.org/event/mommy-me-baby-class-thursdays/2022-01-04/
LOCATION:Club DREAMS\, 25 Scotch Rd.\, Suite H\, Ewing\, NJ\, 08628\, United States
CATEGORIES:Arts/music,Babies/Toddler,ENRICHMENT,Fitness/dance/sports,In person events,Parent/family socials (TBD)
ORGANIZER;CN="Club DREAMS team":MAILTO:Clubdreams@dsacnj.org
END:VEVENT
BEGIN:VEVENT
DTSTART;TZID=UTC:20220102T100000
DTEND;TZID=UTC:20220102T104500
DTSTAMP:20260422T052346
CREATED:20210826T020945Z
LAST-MODIFIED:20220108T025344Z
UID:10000192-1641117600-1641120300@dsacnj.org
SUMMARY:Yoga (Sunday)
DESCRIPTION:Come join us for a refreshing group morning yoga session. Practice easy poses and share some laughs with the group. Session will be run online only temporarily! \nREGISTER HERE TO JOIN VIRTUALLY FROM HOME  This link will register you for all the sessions of the season – no commitment required.  Drop in and regular attendance welcome. After registering\, you will receive a confirmation email containing information about joining the meeting. \n  \n 
URL:https://dsacnj.org/event/yoga-2/2022-01-02/
LOCATION:VIRTUAL OR ON SITE CLUB DREAMS\, 25 Scotch Rd\, Suite H\, Ewing\, NJ\, 08628\, United States
CATEGORIES:ENRICHMENT,Fitness/dance/sports,In person events,Online virtual events
END:VEVENT
BEGIN:VEVENT
DTSTART;TZID=UTC:20220101T110000
DTEND;TZID=UTC:20220101T120000
DTSTAMP:20260422T052346
CREATED:20210825T202422Z
LAST-MODIFIED:20220108T025137Z
UID:10000152-1641034800-1641038400@dsacnj.org
SUMMARY:Arts and Crafts/Guided Drawing Saturday
DESCRIPTION:Join us at our center for guided drawing and other teen crafts! \n  \nREGISTER HERE FOR ONLINE \nONLINE ONLY TEMPORARILY
URL:https://dsacnj.org/event/artsandcrafts-saturday/2022-01-01/
LOCATION:Club DREAMS\, 25 Scotch Rd.\, Suite H\, Ewing\, NJ\, 08628\, United States
CATEGORIES:Adults 18+,Babies/Toddler,Children,ENRICHMENT,In person events,Teens
ORGANIZER;CN="Club DREAMS team":MAILTO:Clubdreams@dsacnj.org
END:VEVENT
BEGIN:VEVENT
DTSTART;TZID=UTC:20211230T173000
DTEND;TZID=UTC:20211230T203000
DTSTAMP:20260422T052346
CREATED:20211202T231452Z
LAST-MODIFIED:20211214T220854Z
UID:10000338-1640885400-1640896200@dsacnj.org
SUMMARY:Teen/Young Adult Holiday Party
DESCRIPTION:Come join us at our center from 5:30-8:30 for a fun Teen Holiday Party where we will watch holiday movies\, play fun games\, listen to music\, dance\, and other fun holiday-themed things! \nDon’t forget to wear your holiday-themed clothing- “Ugly” holiday sweaters\, pajamas/onesies\, and accessories!! \n 
URL:https://dsacnj.org/event/teen-holiday-party/
LOCATION:NJ
CATEGORIES:In person events,SOCIAL,SPECIAL EVENT,Teens
ORGANIZER;CN="Club DREAMS team":MAILTO:Clubdreams@dsacnj.org
END:VEVENT
BEGIN:VEVENT
DTSTART;TZID=UTC:20211228T170000
DTEND;TZID=UTC:20211228T183000
DTSTAMP:20260422T052346
CREATED:20211013T214136Z
LAST-MODIFIED:20220127T012301Z
UID:10000305-1640710800-1640716200@dsacnj.org
SUMMARY:Homework Helpers TUESDAYS
DESCRIPTION:Does your child need help with their homework or other tutoring? Join us on Tuesdays from 5-6:30 at our center! \n  \nRegister below\, capacity is limited!
URL:https://dsacnj.org/event/homework-helpers-3/2021-12-28/
LOCATION:Club DREAMS\, 25 Scotch Rd.\, Suite H\, Ewing\, NJ\, 08628\, United States
CATEGORIES:HOMEWORK HELPERS
ORGANIZER;CN="Club DREAMS team":MAILTO:Clubdreams@dsacnj.org
END:VEVENT
BEGIN:VEVENT
DTSTART;TZID=UTC:20211227T161500
DTEND;TZID=UTC:20211227T164500
DTSTAMP:20260422T052346
CREATED:20210825T111112Z
LAST-MODIFIED:20220103T073647Z
UID:10000136-1640621700-1640623500@dsacnj.org
SUMMARY:Academic 1 (Monday)
DESCRIPTION:Academic sessions allow an opportunity to work on academic skills in a small group setting led by a Club DREAMS team member.  Sessions are fun and interactive yet review key academic skills in fields of math\, reading\, science\, geography\, time and money. All learners working on the skills for the content planned for the session are welcome to join.  Approximate age range for content is as follows: Level 1: under 7 learners; Level 2:  7-10 years;  Level 3:  11-13 years; Level 4:  14+ Years \nRegister Below. This link will register you all scheduled upcoming sessions – no commitment required.  Drop in and regular attendance welcome. After registering\, you will receive a confirmation email containing information about joining the meeting. \nREGISTER HERE FOR THIS VIRTUAL ONLY PROGRAM
URL:https://dsacnj.org/event/academic-1/2021-12-27/
LOCATION:
CATEGORIES:ACADEMICS,Children,Online virtual events
END:VEVENT
BEGIN:VEVENT
DTSTART;TZID=UTC:20211225T190000
DTEND;TZID=UTC:20211225T200000
DTSTAMP:20260422T052346
CREATED:20220106T235820Z
LAST-MODIFIED:20220107T194604Z
UID:10000339-1640458800-1640462400@dsacnj.org
SUMMARY:Virtual Dance Night
DESCRIPTION:Join us for online dance night from home from 7-8 PM! \n  \nREGISTER FOR ONLINE HERE 
URL:https://dsacnj.org/event/virtual-dance-night-2/
LOCATION:Virtual Zoom
CATEGORIES:Online virtual events,SOCIAL,SPECIAL EVENT
ORGANIZER;CN="Club DREAMS team":MAILTO:Clubdreams@dsacnj.org
END:VEVENT
BEGIN:VEVENT
DTSTART;TZID=UTC:20211225T113000
DTEND;TZID=UTC:20211225T143000
DTSTAMP:20260422T052346
CREATED:20210825T203900Z
LAST-MODIFIED:20211120T010600Z
UID:10000174-1640431800-1640442600@dsacnj.org
SUMMARY:Open Play (Saturday)
DESCRIPTION:Open play allow participants to enjoy our space in the age appropriate area of the center.  Climb\, read\, write\, explore\, pretend\, get gaming! Plan to meet up with friends and other families to enjoy Club DREAMS. Capacity is limited.   Open play is opened to community for integrative play if space permits. IN PERSON ONLY \nEvery open play Saturday will include a craft (crafts start at 12:00) and a science experiment (starting at 1:00)! \n  \nIndividuals with Down syndrome and siblings free\, Community Members registration $5 if space available.
URL:https://dsacnj.org/event/open-play-2/2021-12-25/
LOCATION:Club DREAMS\, 25 Scotch Rd.\, Suite H\, Ewing\, NJ\, 08628\, United States
CATEGORIES:Adults 18+,Babies/Toddler,Children,FAMILY SUPPORT,In person events,SOCIAL,Teens
ORGANIZER;CN="Club DREAMS team":MAILTO:Clubdreams@dsacnj.org
END:VEVENT
BEGIN:VEVENT
DTSTART;TZID=UTC:20211223T153000
DTEND;TZID=UTC:20211223T163000
DTSTAMP:20260422T052346
CREATED:20211013T215005Z
LAST-MODIFIED:20220103T070926Z
UID:10000322-1640273400-1640277000@dsacnj.org
SUMMARY:Homework Helpers
DESCRIPTION:Does your child need academic help with homework or tutoring? Join us on Thursdays from 3:30-4:30 at our center with our tutor\, Miram! \n  \nRegister below\, capacity is limited!
URL:https://dsacnj.org/event/homework-helpers-thursdays/2021-12-23/
LOCATION:Club DREAMS\, 25 Scotch Rd.\, Suite H\, Ewing\, NJ\, 08628\, United States
CATEGORIES:HOMEWORK HELPERS
ORGANIZER;CN="Club DREAMS team":MAILTO:Clubdreams@dsacnj.org
END:VEVENT
BEGIN:VEVENT
DTSTART;TZID=UTC:20211221T170000
DTEND;TZID=UTC:20211221T183000
DTSTAMP:20260422T052346
CREATED:20211013T214136Z
LAST-MODIFIED:20220127T012301Z
UID:10000304-1640106000-1640111400@dsacnj.org
SUMMARY:Homework Helpers TUESDAYS
DESCRIPTION:Does your child need help with their homework or other tutoring? Join us on Tuesdays from 5-6:30 at our center! \n  \nRegister below\, capacity is limited!
URL:https://dsacnj.org/event/homework-helpers-3/2021-12-21/
LOCATION:Club DREAMS\, 25 Scotch Rd.\, Suite H\, Ewing\, NJ\, 08628\, United States
CATEGORIES:HOMEWORK HELPERS
ORGANIZER;CN="Club DREAMS team":MAILTO:Clubdreams@dsacnj.org
END:VEVENT
END:VCALENDAR