BEGIN:VCALENDAR
VERSION:2.0
PRODID:-//Down Syndrome Association of Central New Jersey - ECPv6.15.15//NONSGML v1.0//EN
CALSCALE:GREGORIAN
METHOD:PUBLISH
X-WR-CALNAME:Down Syndrome Association of Central New Jersey
X-ORIGINAL-URL:https://dsacnj.org
X-WR-CALDESC:Events for Down Syndrome Association of Central New Jersey
REFRESH-INTERVAL;VALUE=DURATION:PT1H
X-Robots-Tag:noindex
X-PUBLISHED-TTL:PT1H
BEGIN:VTIMEZONE
TZID:UTC
BEGIN:STANDARD
TZOFFSETFROM:+0000
TZOFFSETTO:+0000
TZNAME:UTC
DTSTART:20200101T000000
END:STANDARD
END:VTIMEZONE
BEGIN:VEVENT
DTSTART;TZID=UTC:20220106T104500
DTEND;TZID=UTC:20220106T113000
DTSTAMP:20260422T070235
CREATED:20220204T215423Z
LAST-MODIFIED:20220216T050606Z
UID:10000106-1641465900-1641468600@dsacnj.org
SUMMARY:Mommy & Me Toddler Class Thursdays
DESCRIPTION:Come join us for Mommy & Me Toddler Play Group on Thursdays from 10:45-11:30am. This is inclusive play group that is open to members\, non-members and the entire community. Activities will include open play\, music time\, story time and arts and crafts. A great opportunity to meet new people and socialize with other moms while also spending quality time with your little ones.
URL:https://dsacnj.org/event/mommy-me-toddler-class-thursdays/2022-01-06/
LOCATION:Club DREAMS\, 25 Scotch Rd.\, Suite H\, Ewing\, NJ\, 08628\, United States
CATEGORIES:Arts/music,Babies/Toddler,ENRICHMENT,Fitness/dance/sports,In person events
ORGANIZER;CN="Club DREAMS team":MAILTO:Clubdreams@dsacnj.org
END:VEVENT
BEGIN:VEVENT
DTSTART;TZID=UTC:20220106T093000
DTEND;TZID=UTC:20220106T101500
DTSTAMP:20260422T070235
CREATED:20220204T214800Z
LAST-MODIFIED:20220216T051005Z
UID:10000098-1641461400-1641464100@dsacnj.org
SUMMARY:Mommy & Me Baby Class Thursdays
DESCRIPTION:Come join us for Mommy & Me Baby Play Group on Thursdays from 9:30-10:15am.  This is inclusive play group that is open to members\, non-members and the entire community. Activities will include open play\, music time\, story time and arts and crafts. A great opportunity to meet new people and socialize with other moms while also spending quality time with your little ones.
URL:https://dsacnj.org/event/mommy-me-baby-class-thursdays-2022-02-24/2022-01-06/
LOCATION:Club DREAMS\, 25 Scotch Rd.\, Suite H\, Ewing\, NJ\, 08628\, United States
CATEGORIES:Arts/music,Babies/Toddler,ENRICHMENT,Fitness/dance/sports,In person events,Parent/family socials (TBD)
ORGANIZER;CN="Club DREAMS team":MAILTO:Clubdreams@dsacnj.org
END:VEVENT
BEGIN:VEVENT
DTSTART;TZID=UTC:20220106T093000
DTEND;TZID=UTC:20220106T101500
DTSTAMP:20260422T070235
CREATED:20220204T214800Z
LAST-MODIFIED:20220216T050424Z
UID:10000086-1641461400-1641464100@dsacnj.org
SUMMARY:Mommy & Me Baby Class Thursdays
DESCRIPTION:Come join us for Mommy & Me Baby Play Group on Thursdays from 9:30-10:15am.  This is inclusive play group that is open to members\, non-members and the entire community. Activities will include open play\, music time\, story time and arts and crafts. A great opportunity to meet new people and socialize with other moms while also spending quality time with your little ones.
URL:https://dsacnj.org/event/mommy-me-baby-class-thursdays/2022-01-06/
LOCATION:Club DREAMS\, 25 Scotch Rd.\, Suite H\, Ewing\, NJ\, 08628\, United States
CATEGORIES:Arts/music,Babies/Toddler,ENRICHMENT,Fitness/dance/sports,In person events,Parent/family socials (TBD)
ORGANIZER;CN="Club DREAMS team":MAILTO:Clubdreams@dsacnj.org
END:VEVENT
BEGIN:VEVENT
DTSTART;TZID=UTC:20220105T170000
DTEND;TZID=UTC:20220105T173000
DTSTAMP:20260422T070235
CREATED:20210825T205652Z
LAST-MODIFIED:20220504T183437Z
UID:10000175-1641402000-1641403800@dsacnj.org
SUMMARY:Arts and Crafts (Wednesday)
DESCRIPTION:Each week we will work on fun\, exciting and simple guided drawing or arts and crafts projects\, painting\, crafting\, sand art\, drawing and others will be included.  Supplies will be provided onsite.  Each week we will match the theme with our art project. For those at home please have the following supplies available: white paper\, pencils\, crayons\, colored construction paper\, glue stick\, scissor\, tape REGISTER HERE TO PARTICIPATE VIRTUALLY FROM HOME ON ZOOM This link will register you for all the sessions of the season – no commitment required.  Drop in and regular attendance welcome. After registering\, you will receive a confirmation email containing information about joining the meeting. REGISTER BELOW TO ATTEND IN PERSON – CAPACITY IS LIMITED \n\n\n\n\n\n\n\n\n\n 
URL:https://dsacnj.org/event/arts-and-crafts/
LOCATION:VIRTUAL OR ON SITE CLUB DREAMS\, 25 Scotch Rd\, Suite H\, Ewing\, NJ\, 08628\, United States
CATEGORIES:ENRICHMENT,In person events,Online virtual events
ORGANIZER;CN="Club DREAMS team":MAILTO:Clubdreams@dsacnj.org
END:VEVENT
BEGIN:VEVENT
DTSTART;TZID=UTC:20220104T170000
DTEND;TZID=UTC:20220104T183000
DTSTAMP:20260422T070235
CREATED:20211013T214136Z
LAST-MODIFIED:20220127T012301Z
UID:10000306-1641315600-1641321000@dsacnj.org
SUMMARY:Homework Helpers TUESDAYS
DESCRIPTION:Does your child need help with their homework or other tutoring? Join us on Tuesdays from 5-6:30 at our center! \n  \nRegister below\, capacity is limited!
URL:https://dsacnj.org/event/homework-helpers-3/2022-01-04/
LOCATION:Club DREAMS\, 25 Scotch Rd.\, Suite H\, Ewing\, NJ\, 08628\, United States
CATEGORIES:HOMEWORK HELPERS
ORGANIZER;CN="Club DREAMS team":MAILTO:Clubdreams@dsacnj.org
END:VEVENT
BEGIN:VEVENT
DTSTART;TZID=UTC:20220104T093000
DTEND;TZID=UTC:20220104T101500
DTSTAMP:20260422T070235
CREATED:20220204T214800Z
LAST-MODIFIED:20220216T050424Z
UID:10000085-1641288600-1641291300@dsacnj.org
SUMMARY:Mommy & Me Baby Class Thursdays
DESCRIPTION:Come join us for Mommy & Me Baby Play Group on Thursdays from 9:30-10:15am.  This is inclusive play group that is open to members\, non-members and the entire community. Activities will include open play\, music time\, story time and arts and crafts. A great opportunity to meet new people and socialize with other moms while also spending quality time with your little ones.
URL:https://dsacnj.org/event/mommy-me-baby-class-thursdays/2022-01-04/
LOCATION:Club DREAMS\, 25 Scotch Rd.\, Suite H\, Ewing\, NJ\, 08628\, United States
CATEGORIES:Arts/music,Babies/Toddler,ENRICHMENT,Fitness/dance/sports,In person events,Parent/family socials (TBD)
ORGANIZER;CN="Club DREAMS team":MAILTO:Clubdreams@dsacnj.org
END:VEVENT
BEGIN:VEVENT
DTSTART;TZID=UTC:20220102T100000
DTEND;TZID=UTC:20220102T104500
DTSTAMP:20260422T070235
CREATED:20210826T020945Z
LAST-MODIFIED:20220108T025344Z
UID:10000192-1641117600-1641120300@dsacnj.org
SUMMARY:Yoga (Sunday)
DESCRIPTION:Come join us for a refreshing group morning yoga session. Practice easy poses and share some laughs with the group. Session will be run online only temporarily! \nREGISTER HERE TO JOIN VIRTUALLY FROM HOME  This link will register you for all the sessions of the season – no commitment required.  Drop in and regular attendance welcome. After registering\, you will receive a confirmation email containing information about joining the meeting. \n  \n 
URL:https://dsacnj.org/event/yoga-2/2022-01-02/
LOCATION:VIRTUAL OR ON SITE CLUB DREAMS\, 25 Scotch Rd\, Suite H\, Ewing\, NJ\, 08628\, United States
CATEGORIES:ENRICHMENT,Fitness/dance/sports,In person events,Online virtual events
END:VEVENT
BEGIN:VEVENT
DTSTART;TZID=UTC:20220101T110000
DTEND;TZID=UTC:20220101T120000
DTSTAMP:20260422T070235
CREATED:20210825T202422Z
LAST-MODIFIED:20220108T025137Z
UID:10000152-1641034800-1641038400@dsacnj.org
SUMMARY:Arts and Crafts/Guided Drawing Saturday
DESCRIPTION:Join us at our center for guided drawing and other teen crafts! \n  \nREGISTER HERE FOR ONLINE \nONLINE ONLY TEMPORARILY
URL:https://dsacnj.org/event/artsandcrafts-saturday/2022-01-01/
LOCATION:Club DREAMS\, 25 Scotch Rd.\, Suite H\, Ewing\, NJ\, 08628\, United States
CATEGORIES:Adults 18+,Babies/Toddler,Children,ENRICHMENT,In person events,Teens
ORGANIZER;CN="Club DREAMS team":MAILTO:Clubdreams@dsacnj.org
END:VEVENT
BEGIN:VEVENT
DTSTART;TZID=UTC:20211230T173000
DTEND;TZID=UTC:20211230T203000
DTSTAMP:20260422T070235
CREATED:20211202T231452Z
LAST-MODIFIED:20211214T220854Z
UID:10000338-1640885400-1640896200@dsacnj.org
SUMMARY:Teen/Young Adult Holiday Party
DESCRIPTION:Come join us at our center from 5:30-8:30 for a fun Teen Holiday Party where we will watch holiday movies\, play fun games\, listen to music\, dance\, and other fun holiday-themed things! \nDon’t forget to wear your holiday-themed clothing- “Ugly” holiday sweaters\, pajamas/onesies\, and accessories!! \n 
URL:https://dsacnj.org/event/teen-holiday-party/
LOCATION:NJ
CATEGORIES:In person events,SOCIAL,SPECIAL EVENT,Teens
ORGANIZER;CN="Club DREAMS team":MAILTO:Clubdreams@dsacnj.org
END:VEVENT
BEGIN:VEVENT
DTSTART;TZID=UTC:20211228T170000
DTEND;TZID=UTC:20211228T183000
DTSTAMP:20260422T070235
CREATED:20211013T214136Z
LAST-MODIFIED:20220127T012301Z
UID:10000305-1640710800-1640716200@dsacnj.org
SUMMARY:Homework Helpers TUESDAYS
DESCRIPTION:Does your child need help with their homework or other tutoring? Join us on Tuesdays from 5-6:30 at our center! \n  \nRegister below\, capacity is limited!
URL:https://dsacnj.org/event/homework-helpers-3/2021-12-28/
LOCATION:Club DREAMS\, 25 Scotch Rd.\, Suite H\, Ewing\, NJ\, 08628\, United States
CATEGORIES:HOMEWORK HELPERS
ORGANIZER;CN="Club DREAMS team":MAILTO:Clubdreams@dsacnj.org
END:VEVENT
BEGIN:VEVENT
DTSTART;TZID=UTC:20211227T161500
DTEND;TZID=UTC:20211227T164500
DTSTAMP:20260422T070235
CREATED:20210825T111112Z
LAST-MODIFIED:20220103T073647Z
UID:10000136-1640621700-1640623500@dsacnj.org
SUMMARY:Academic 1 (Monday)
DESCRIPTION:Academic sessions allow an opportunity to work on academic skills in a small group setting led by a Club DREAMS team member.  Sessions are fun and interactive yet review key academic skills in fields of math\, reading\, science\, geography\, time and money. All learners working on the skills for the content planned for the session are welcome to join.  Approximate age range for content is as follows: Level 1: under 7 learners; Level 2:  7-10 years;  Level 3:  11-13 years; Level 4:  14+ Years \nRegister Below. This link will register you all scheduled upcoming sessions – no commitment required.  Drop in and regular attendance welcome. After registering\, you will receive a confirmation email containing information about joining the meeting. \nREGISTER HERE FOR THIS VIRTUAL ONLY PROGRAM
URL:https://dsacnj.org/event/academic-1/2021-12-27/
LOCATION:
CATEGORIES:ACADEMICS,Children,Online virtual events
END:VEVENT
BEGIN:VEVENT
DTSTART;TZID=UTC:20211225T190000
DTEND;TZID=UTC:20211225T200000
DTSTAMP:20260422T070235
CREATED:20220106T235820Z
LAST-MODIFIED:20220107T194604Z
UID:10000339-1640458800-1640462400@dsacnj.org
SUMMARY:Virtual Dance Night
DESCRIPTION:Join us for online dance night from home from 7-8 PM! \n  \nREGISTER FOR ONLINE HERE 
URL:https://dsacnj.org/event/virtual-dance-night-2/
LOCATION:Virtual Zoom
CATEGORIES:Online virtual events,SOCIAL,SPECIAL EVENT
ORGANIZER;CN="Club DREAMS team":MAILTO:Clubdreams@dsacnj.org
END:VEVENT
BEGIN:VEVENT
DTSTART;TZID=UTC:20211225T113000
DTEND;TZID=UTC:20211225T143000
DTSTAMP:20260422T070235
CREATED:20210825T203900Z
LAST-MODIFIED:20211120T010600Z
UID:10000174-1640431800-1640442600@dsacnj.org
SUMMARY:Open Play (Saturday)
DESCRIPTION:Open play allow participants to enjoy our space in the age appropriate area of the center.  Climb\, read\, write\, explore\, pretend\, get gaming! Plan to meet up with friends and other families to enjoy Club DREAMS. Capacity is limited.   Open play is opened to community for integrative play if space permits. IN PERSON ONLY \nEvery open play Saturday will include a craft (crafts start at 12:00) and a science experiment (starting at 1:00)! \n  \nIndividuals with Down syndrome and siblings free\, Community Members registration $5 if space available.
URL:https://dsacnj.org/event/open-play-2/2021-12-25/
LOCATION:Club DREAMS\, 25 Scotch Rd.\, Suite H\, Ewing\, NJ\, 08628\, United States
CATEGORIES:Adults 18+,Babies/Toddler,Children,FAMILY SUPPORT,In person events,SOCIAL,Teens
ORGANIZER;CN="Club DREAMS team":MAILTO:Clubdreams@dsacnj.org
END:VEVENT
BEGIN:VEVENT
DTSTART;TZID=UTC:20211223T153000
DTEND;TZID=UTC:20211223T163000
DTSTAMP:20260422T070235
CREATED:20211013T215005Z
LAST-MODIFIED:20220103T070926Z
UID:10000322-1640273400-1640277000@dsacnj.org
SUMMARY:Homework Helpers
DESCRIPTION:Does your child need academic help with homework or tutoring? Join us on Thursdays from 3:30-4:30 at our center with our tutor\, Miram! \n  \nRegister below\, capacity is limited!
URL:https://dsacnj.org/event/homework-helpers-thursdays/2021-12-23/
LOCATION:Club DREAMS\, 25 Scotch Rd.\, Suite H\, Ewing\, NJ\, 08628\, United States
CATEGORIES:HOMEWORK HELPERS
ORGANIZER;CN="Club DREAMS team":MAILTO:Clubdreams@dsacnj.org
END:VEVENT
BEGIN:VEVENT
DTSTART;TZID=UTC:20211221T170000
DTEND;TZID=UTC:20211221T183000
DTSTAMP:20260422T070235
CREATED:20211013T214136Z
LAST-MODIFIED:20220127T012301Z
UID:10000304-1640106000-1640111400@dsacnj.org
SUMMARY:Homework Helpers TUESDAYS
DESCRIPTION:Does your child need help with their homework or other tutoring? Join us on Tuesdays from 5-6:30 at our center! \n  \nRegister below\, capacity is limited!
URL:https://dsacnj.org/event/homework-helpers-3/2021-12-21/
LOCATION:Club DREAMS\, 25 Scotch Rd.\, Suite H\, Ewing\, NJ\, 08628\, United States
CATEGORIES:HOMEWORK HELPERS
ORGANIZER;CN="Club DREAMS team":MAILTO:Clubdreams@dsacnj.org
END:VEVENT
BEGIN:VEVENT
DTSTART;TZID=UTC:20211220T161500
DTEND;TZID=UTC:20211220T164500
DTSTAMP:20260422T070235
CREATED:20210825T111112Z
LAST-MODIFIED:20220103T073647Z
UID:10000135-1640016900-1640018700@dsacnj.org
SUMMARY:Academic 1 (Monday)
DESCRIPTION:Academic sessions allow an opportunity to work on academic skills in a small group setting led by a Club DREAMS team member.  Sessions are fun and interactive yet review key academic skills in fields of math\, reading\, science\, geography\, time and money. All learners working on the skills for the content planned for the session are welcome to join.  Approximate age range for content is as follows: Level 1: under 7 learners; Level 2:  7-10 years;  Level 3:  11-13 years; Level 4:  14+ Years \nRegister Below. This link will register you all scheduled upcoming sessions – no commitment required.  Drop in and regular attendance welcome. After registering\, you will receive a confirmation email containing information about joining the meeting. \nREGISTER HERE FOR THIS VIRTUAL ONLY PROGRAM
URL:https://dsacnj.org/event/academic-1/2021-12-20/
LOCATION:
CATEGORIES:ACADEMICS,Children,Online virtual events
END:VEVENT
BEGIN:VEVENT
DTSTART;TZID=UTC:20211219T110000
DTEND;TZID=UTC:20211219T114500
DTSTAMP:20260422T070235
CREATED:20210826T021439Z
LAST-MODIFIED:20210908T044805Z
UID:10000205-1639911600-1639914300@dsacnj.org
SUMMARY:Parent and Me Movement and Music (Sunday)
DESCRIPTION:This program is designed for our youngest members to work on gross and fine motor skills while enjoying bonding with a parent and meeting new friends.   Run by a physical therapy assistant and one of our interns. Most appropriate for ages 5 and under. \nMusic will be integrated and rhythm.  This will be live in person at Club DREAMS and virtually streamed for those wishing to participate from home. \nREGISTER HERE FOR VIRTUAL PARTICIPATION FROM HOME \nREGISTER BELOW TO PARTICIPATE IN PERSON – Limited capacity for the safety of our members.
URL:https://dsacnj.org/event/mommy-and-me-movement-and-music/2021-12-19/
LOCATION:VIRTUAL OR ON SITE CLUB DREAMS\, 25 Scotch Rd\, Suite H\, Ewing\, NJ\, 08628\, United States
CATEGORIES:Arts/music,Babies/Toddler,Children,ENRICHMENT,Fitness/dance/sports,In person events,Online virtual events
ORGANIZER;CN="Club DREAMS team":MAILTO:Clubdreams@dsacnj.org
END:VEVENT
BEGIN:VEVENT
DTSTART;TZID=UTC:20211219T100000
DTEND;TZID=UTC:20211219T104500
DTSTAMP:20260422T070235
CREATED:20210826T020945Z
LAST-MODIFIED:20220108T025344Z
UID:10000191-1639908000-1639910700@dsacnj.org
SUMMARY:Yoga (Sunday)
DESCRIPTION:Come join us for a refreshing group morning yoga session. Practice easy poses and share some laughs with the group. Session will be run online only temporarily! \nREGISTER HERE TO JOIN VIRTUALLY FROM HOME  This link will register you for all the sessions of the season – no commitment required.  Drop in and regular attendance welcome. After registering\, you will receive a confirmation email containing information about joining the meeting. \n  \n 
URL:https://dsacnj.org/event/yoga-2/2021-12-19/
LOCATION:VIRTUAL OR ON SITE CLUB DREAMS\, 25 Scotch Rd\, Suite H\, Ewing\, NJ\, 08628\, United States
CATEGORIES:ENRICHMENT,Fitness/dance/sports,In person events,Online virtual events
END:VEVENT
BEGIN:VEVENT
DTSTART;TZID=UTC:20211218T130000
DTEND;TZID=UTC:20211218T140000
DTSTAMP:20260422T070235
CREATED:20210825T203409Z
LAST-MODIFIED:20211117T021507Z
UID:10000162-1639832400-1639836000@dsacnj.org
SUMMARY:Mad Science Saturday
DESCRIPTION:Come join us at our club for fun science experiments that will be offered every Saturday! Each week will be different and something super fun right after arts and crafts! \nREGISTER BELOW FOR IN PERSON ATTENDANCE AT CLUB DREAMS – capacity limited \nREGISTER HERE FOR VIRTUAL SCIENCE
URL:https://dsacnj.org/event/mss/2021-12-18/
LOCATION:Club DREAMS\, 25 Scotch Rd.\, Suite H\, Ewing\, NJ\, 08628\, United States
CATEGORIES:Adults 18+,Children,ENRICHMENT,Fitness/dance/sports,In person events,Online virtual events,Teens
END:VEVENT
BEGIN:VEVENT
DTSTART;TZID=UTC:20211218T113000
DTEND;TZID=UTC:20211218T143000
DTSTAMP:20260422T070235
CREATED:20210825T203900Z
LAST-MODIFIED:20211120T010600Z
UID:10000173-1639827000-1639837800@dsacnj.org
SUMMARY:Open Play (Saturday)
DESCRIPTION:Open play allow participants to enjoy our space in the age appropriate area of the center.  Climb\, read\, write\, explore\, pretend\, get gaming! Plan to meet up with friends and other families to enjoy Club DREAMS. Capacity is limited.   Open play is opened to community for integrative play if space permits. IN PERSON ONLY \nEvery open play Saturday will include a craft (crafts start at 12:00) and a science experiment (starting at 1:00)! \n  \nIndividuals with Down syndrome and siblings free\, Community Members registration $5 if space available.
URL:https://dsacnj.org/event/open-play-2/2021-12-18/
LOCATION:Club DREAMS\, 25 Scotch Rd.\, Suite H\, Ewing\, NJ\, 08628\, United States
CATEGORIES:Adults 18+,Babies/Toddler,Children,FAMILY SUPPORT,In person events,SOCIAL,Teens
ORGANIZER;CN="Club DREAMS team":MAILTO:Clubdreams@dsacnj.org
END:VEVENT
BEGIN:VEVENT
DTSTART;TZID=UTC:20211218T110000
DTEND;TZID=UTC:20211218T120000
DTSTAMP:20260422T070235
CREATED:20210825T202422Z
LAST-MODIFIED:20220108T025137Z
UID:10000151-1639825200-1639828800@dsacnj.org
SUMMARY:Arts and Crafts/Guided Drawing Saturday
DESCRIPTION:Join us at our center for guided drawing and other teen crafts! \n  \nREGISTER HERE FOR ONLINE \nONLINE ONLY TEMPORARILY
URL:https://dsacnj.org/event/artsandcrafts-saturday/2021-12-18/
LOCATION:Club DREAMS\, 25 Scotch Rd.\, Suite H\, Ewing\, NJ\, 08628\, United States
CATEGORIES:Adults 18+,Babies/Toddler,Children,ENRICHMENT,In person events,Teens
ORGANIZER;CN="Club DREAMS team":MAILTO:Clubdreams@dsacnj.org
END:VEVENT
BEGIN:VEVENT
DTSTART;TZID=UTC:20211218T100000
DTEND;TZID=UTC:20211218T143000
DTSTAMP:20260422T070235
CREATED:20211119T005040Z
LAST-MODIFIED:20211207T202336Z
UID:10000337-1639821600-1639837800@dsacnj.org
SUMMARY:KIDS DAY OUT
DESCRIPTION:Need to get some last-minute holiday shopping done? Come to our center for another fun Kids Day Out!! Kids will get to enjoy our indoor playground\, Disney movies\, and arts and crafts that are available! \n**DREAM TEAM MEMBERS FREE**- can register without purchase of tickets! \nFood will also be provided! \nPlease register\, and purchase tickets below!
URL:https://dsacnj.org/event/kids-day-out/
LOCATION:NJ
CATEGORIES:Children,In person events,SOCIAL,SPECIAL EVENT
ORGANIZER;CN="Club DREAMS team":MAILTO:Clubdreams@dsacnj.org
END:VEVENT
BEGIN:VEVENT
DTSTART;TZID=UTC:20211216T153000
DTEND;TZID=UTC:20211216T163000
DTSTAMP:20260422T070235
CREATED:20211013T215005Z
LAST-MODIFIED:20220103T070926Z
UID:10000321-1639668600-1639672200@dsacnj.org
SUMMARY:Homework Helpers
DESCRIPTION:Does your child need academic help with homework or tutoring? Join us on Thursdays from 3:30-4:30 at our center with our tutor\, Miram! \n  \nRegister below\, capacity is limited!
URL:https://dsacnj.org/event/homework-helpers-thursdays/2021-12-16/
LOCATION:Club DREAMS\, 25 Scotch Rd.\, Suite H\, Ewing\, NJ\, 08628\, United States
CATEGORIES:HOMEWORK HELPERS
ORGANIZER;CN="Club DREAMS team":MAILTO:Clubdreams@dsacnj.org
END:VEVENT
BEGIN:VEVENT
DTSTART;TZID=UTC:20211214T170000
DTEND;TZID=UTC:20211214T183000
DTSTAMP:20260422T070235
CREATED:20211013T214136Z
LAST-MODIFIED:20220127T012301Z
UID:10000303-1639501200-1639506600@dsacnj.org
SUMMARY:Homework Helpers TUESDAYS
DESCRIPTION:Does your child need help with their homework or other tutoring? Join us on Tuesdays from 5-6:30 at our center! \n  \nRegister below\, capacity is limited!
URL:https://dsacnj.org/event/homework-helpers-3/2021-12-14/
LOCATION:Club DREAMS\, 25 Scotch Rd.\, Suite H\, Ewing\, NJ\, 08628\, United States
CATEGORIES:HOMEWORK HELPERS
ORGANIZER;CN="Club DREAMS team":MAILTO:Clubdreams@dsacnj.org
END:VEVENT
BEGIN:VEVENT
DTSTART;TZID=UTC:20211213T161500
DTEND;TZID=UTC:20211213T164500
DTSTAMP:20260422T070235
CREATED:20210825T111112Z
LAST-MODIFIED:20220103T073647Z
UID:10000134-1639412100-1639413900@dsacnj.org
SUMMARY:Academic 1 (Monday)
DESCRIPTION:Academic sessions allow an opportunity to work on academic skills in a small group setting led by a Club DREAMS team member.  Sessions are fun and interactive yet review key academic skills in fields of math\, reading\, science\, geography\, time and money. All learners working on the skills for the content planned for the session are welcome to join.  Approximate age range for content is as follows: Level 1: under 7 learners; Level 2:  7-10 years;  Level 3:  11-13 years; Level 4:  14+ Years \nRegister Below. This link will register you all scheduled upcoming sessions – no commitment required.  Drop in and regular attendance welcome. After registering\, you will receive a confirmation email containing information about joining the meeting. \nREGISTER HERE FOR THIS VIRTUAL ONLY PROGRAM
URL:https://dsacnj.org/event/academic-1/2021-12-13/
LOCATION:
CATEGORIES:ACADEMICS,Children,Online virtual events
END:VEVENT
BEGIN:VEVENT
DTSTART;TZID=UTC:20211212T110000
DTEND;TZID=UTC:20211212T114500
DTSTAMP:20260422T070235
CREATED:20210826T021439Z
LAST-MODIFIED:20210908T044805Z
UID:10000204-1639306800-1639309500@dsacnj.org
SUMMARY:Parent and Me Movement and Music (Sunday)
DESCRIPTION:This program is designed for our youngest members to work on gross and fine motor skills while enjoying bonding with a parent and meeting new friends.   Run by a physical therapy assistant and one of our interns. Most appropriate for ages 5 and under. \nMusic will be integrated and rhythm.  This will be live in person at Club DREAMS and virtually streamed for those wishing to participate from home. \nREGISTER HERE FOR VIRTUAL PARTICIPATION FROM HOME \nREGISTER BELOW TO PARTICIPATE IN PERSON – Limited capacity for the safety of our members.
URL:https://dsacnj.org/event/mommy-and-me-movement-and-music/2021-12-12/
LOCATION:VIRTUAL OR ON SITE CLUB DREAMS\, 25 Scotch Rd\, Suite H\, Ewing\, NJ\, 08628\, United States
CATEGORIES:Arts/music,Babies/Toddler,Children,ENRICHMENT,Fitness/dance/sports,In person events,Online virtual events
ORGANIZER;CN="Club DREAMS team":MAILTO:Clubdreams@dsacnj.org
END:VEVENT
BEGIN:VEVENT
DTSTART;TZID=UTC:20211212T100000
DTEND;TZID=UTC:20211212T104500
DTSTAMP:20260422T070235
CREATED:20210826T020945Z
LAST-MODIFIED:20220108T025344Z
UID:10000190-1639303200-1639305900@dsacnj.org
SUMMARY:Yoga (Sunday)
DESCRIPTION:Come join us for a refreshing group morning yoga session. Practice easy poses and share some laughs with the group. Session will be run online only temporarily! \nREGISTER HERE TO JOIN VIRTUALLY FROM HOME  This link will register you for all the sessions of the season – no commitment required.  Drop in and regular attendance welcome. After registering\, you will receive a confirmation email containing information about joining the meeting. \n  \n 
URL:https://dsacnj.org/event/yoga-2/2021-12-12/
LOCATION:VIRTUAL OR ON SITE CLUB DREAMS\, 25 Scotch Rd\, Suite H\, Ewing\, NJ\, 08628\, United States
CATEGORIES:ENRICHMENT,Fitness/dance/sports,In person events,Online virtual events
END:VEVENT
BEGIN:VEVENT
DTSTART;TZID=UTC:20211211T140000
DTEND;TZID=UTC:20211211T160000
DTSTAMP:20260422T070235
CREATED:20211116T194213Z
LAST-MODIFIED:20211205T065207Z
UID:10000335-1639231200-1639238400@dsacnj.org
SUMMARY:Gingerbread House Making
DESCRIPTION:Join us for a fun Saturday right before the holidays and make some gingerbread houses! \nThe cost will be $15 per gingerbread house (you can have more than one person working on each one\, or do them separately!) \n**DREAM TEAM MEMBERS FREE** \nPlease register for this events\, then use the ticket links below to get your gingerbread houses!
URL:https://dsacnj.org/event/gingerbread-house-making/
LOCATION:Club DREAMS\, 25 Scotch Rd.\, Suite H\, Ewing\, NJ\, 08628\, United States
CATEGORIES:In person events,SOCIAL,SPECIAL EVENT
END:VEVENT
BEGIN:VEVENT
DTSTART;TZID=UTC:20211211T130000
DTEND;TZID=UTC:20211211T140000
DTSTAMP:20260422T070235
CREATED:20210825T203409Z
LAST-MODIFIED:20211117T021507Z
UID:10000161-1639227600-1639231200@dsacnj.org
SUMMARY:Mad Science Saturday
DESCRIPTION:Come join us at our club for fun science experiments that will be offered every Saturday! Each week will be different and something super fun right after arts and crafts! \nREGISTER BELOW FOR IN PERSON ATTENDANCE AT CLUB DREAMS – capacity limited \nREGISTER HERE FOR VIRTUAL SCIENCE
URL:https://dsacnj.org/event/mss/2021-12-11/
LOCATION:Club DREAMS\, 25 Scotch Rd.\, Suite H\, Ewing\, NJ\, 08628\, United States
CATEGORIES:Adults 18+,Children,ENRICHMENT,Fitness/dance/sports,In person events,Online virtual events,Teens
END:VEVENT
BEGIN:VEVENT
DTSTART;TZID=UTC:20211211T113000
DTEND;TZID=UTC:20211211T143000
DTSTAMP:20260422T070235
CREATED:20210825T203900Z
LAST-MODIFIED:20211120T010600Z
UID:10000172-1639222200-1639233000@dsacnj.org
SUMMARY:Open Play (Saturday)
DESCRIPTION:Open play allow participants to enjoy our space in the age appropriate area of the center.  Climb\, read\, write\, explore\, pretend\, get gaming! Plan to meet up with friends and other families to enjoy Club DREAMS. Capacity is limited.   Open play is opened to community for integrative play if space permits. IN PERSON ONLY \nEvery open play Saturday will include a craft (crafts start at 12:00) and a science experiment (starting at 1:00)! \n  \nIndividuals with Down syndrome and siblings free\, Community Members registration $5 if space available.
URL:https://dsacnj.org/event/open-play-2/2021-12-11/
LOCATION:Club DREAMS\, 25 Scotch Rd.\, Suite H\, Ewing\, NJ\, 08628\, United States
CATEGORIES:Adults 18+,Babies/Toddler,Children,FAMILY SUPPORT,In person events,SOCIAL,Teens
ORGANIZER;CN="Club DREAMS team":MAILTO:Clubdreams@dsacnj.org
END:VEVENT
END:VCALENDAR