BEGIN:VCALENDAR
VERSION:2.0
PRODID:-//Down Syndrome Association of Central New Jersey - ECPv6.15.15//NONSGML v1.0//EN
CALSCALE:GREGORIAN
METHOD:PUBLISH
X-WR-CALNAME:Down Syndrome Association of Central New Jersey
X-ORIGINAL-URL:https://dsacnj.org
X-WR-CALDESC:Events for Down Syndrome Association of Central New Jersey
REFRESH-INTERVAL;VALUE=DURATION:PT1H
X-Robots-Tag:noindex
X-PUBLISHED-TTL:PT1H
BEGIN:VTIMEZONE
TZID:UTC
BEGIN:STANDARD
TZOFFSETFROM:+0000
TZOFFSETTO:+0000
TZNAME:UTC
DTSTART:20200101T000000
END:STANDARD
END:VTIMEZONE
BEGIN:VEVENT
DTSTART;TZID=UTC:20211211T110000
DTEND;TZID=UTC:20211211T120000
DTSTAMP:20260422T101307
CREATED:20210825T202422Z
LAST-MODIFIED:20220108T025137Z
UID:10000150-1639220400-1639224000@dsacnj.org
SUMMARY:Arts and Crafts/Guided Drawing Saturday
DESCRIPTION:Join us at our center for guided drawing and other teen crafts! \n  \nREGISTER HERE FOR ONLINE \nONLINE ONLY TEMPORARILY
URL:https://dsacnj.org/event/artsandcrafts-saturday/2021-12-11/
LOCATION:Club DREAMS\, 25 Scotch Rd.\, Suite H\, Ewing\, NJ\, 08628\, United States
CATEGORIES:Adults 18+,Babies/Toddler,Children,ENRICHMENT,In person events,Teens
ORGANIZER;CN="Club DREAMS team":MAILTO:Clubdreams@dsacnj.org
END:VEVENT
BEGIN:VEVENT
DTSTART;TZID=UTC:20211210T170000
DTEND;TZID=UTC:20211210T183000
DTSTAMP:20260422T101307
CREATED:20211118T005602Z
LAST-MODIFIED:20211118T010229Z
UID:10000336-1639155600-1639161000@dsacnj.org
SUMMARY:New Parent Meetup
DESCRIPTION:Are you a new parent to a child with Down syndrome\, or someone interested in meeting other families of children with Down syndrome? This event will be the perfect opportunity to meet with other new parents\, and gain resources. \nRegister below!
URL:https://dsacnj.org/event/new-parent-meetup/
LOCATION:NJ
CATEGORIES:FAMILY SUPPORT,In person events,SOCIAL,SPECIAL EVENT
ORGANIZER;CN="Club DREAMS team":MAILTO:Clubdreams@dsacnj.org
END:VEVENT
BEGIN:VEVENT
DTSTART;TZID=UTC:20211209T153000
DTEND;TZID=UTC:20211209T163000
DTSTAMP:20260422T101307
CREATED:20211013T215005Z
LAST-MODIFIED:20220103T070926Z
UID:10000320-1639063800-1639067400@dsacnj.org
SUMMARY:Homework Helpers
DESCRIPTION:Does your child need academic help with homework or tutoring? Join us on Thursdays from 3:30-4:30 at our center with our tutor\, Miram! \n  \nRegister below\, capacity is limited!
URL:https://dsacnj.org/event/homework-helpers-thursdays/2021-12-09/
LOCATION:Club DREAMS\, 25 Scotch Rd.\, Suite H\, Ewing\, NJ\, 08628\, United States
CATEGORIES:HOMEWORK HELPERS
ORGANIZER;CN="Club DREAMS team":MAILTO:Clubdreams@dsacnj.org
END:VEVENT
BEGIN:VEVENT
DTSTART;TZID=UTC:20211207T170000
DTEND;TZID=UTC:20211207T183000
DTSTAMP:20260422T101307
CREATED:20211013T214136Z
LAST-MODIFIED:20220127T012301Z
UID:10000302-1638896400-1638901800@dsacnj.org
SUMMARY:Homework Helpers TUESDAYS
DESCRIPTION:Does your child need help with their homework or other tutoring? Join us on Tuesdays from 5-6:30 at our center! \n  \nRegister below\, capacity is limited!
URL:https://dsacnj.org/event/homework-helpers-3/2021-12-07/
LOCATION:Club DREAMS\, 25 Scotch Rd.\, Suite H\, Ewing\, NJ\, 08628\, United States
CATEGORIES:HOMEWORK HELPERS
ORGANIZER;CN="Club DREAMS team":MAILTO:Clubdreams@dsacnj.org
END:VEVENT
BEGIN:VEVENT
DTSTART;TZID=UTC:20211206T161500
DTEND;TZID=UTC:20211206T164500
DTSTAMP:20260422T101307
CREATED:20210825T111112Z
LAST-MODIFIED:20220103T073647Z
UID:10000133-1638807300-1638809100@dsacnj.org
SUMMARY:Academic 1 (Monday)
DESCRIPTION:Academic sessions allow an opportunity to work on academic skills in a small group setting led by a Club DREAMS team member.  Sessions are fun and interactive yet review key academic skills in fields of math\, reading\, science\, geography\, time and money. All learners working on the skills for the content planned for the session are welcome to join.  Approximate age range for content is as follows: Level 1: under 7 learners; Level 2:  7-10 years;  Level 3:  11-13 years; Level 4:  14+ Years \nRegister Below. This link will register you all scheduled upcoming sessions – no commitment required.  Drop in and regular attendance welcome. After registering\, you will receive a confirmation email containing information about joining the meeting. \nREGISTER HERE FOR THIS VIRTUAL ONLY PROGRAM
URL:https://dsacnj.org/event/academic-1/2021-12-06/
LOCATION:
CATEGORIES:ACADEMICS,Children,Online virtual events
END:VEVENT
BEGIN:VEVENT
DTSTART;TZID=UTC:20211205T110000
DTEND;TZID=UTC:20211205T114500
DTSTAMP:20260422T101307
CREATED:20210826T021439Z
LAST-MODIFIED:20210908T044805Z
UID:10000203-1638702000-1638704700@dsacnj.org
SUMMARY:Parent and Me Movement and Music (Sunday)
DESCRIPTION:This program is designed for our youngest members to work on gross and fine motor skills while enjoying bonding with a parent and meeting new friends.   Run by a physical therapy assistant and one of our interns. Most appropriate for ages 5 and under. \nMusic will be integrated and rhythm.  This will be live in person at Club DREAMS and virtually streamed for those wishing to participate from home. \nREGISTER HERE FOR VIRTUAL PARTICIPATION FROM HOME \nREGISTER BELOW TO PARTICIPATE IN PERSON – Limited capacity for the safety of our members.
URL:https://dsacnj.org/event/mommy-and-me-movement-and-music/2021-12-05/
LOCATION:VIRTUAL OR ON SITE CLUB DREAMS\, 25 Scotch Rd\, Suite H\, Ewing\, NJ\, 08628\, United States
CATEGORIES:Arts/music,Babies/Toddler,Children,ENRICHMENT,Fitness/dance/sports,In person events,Online virtual events
ORGANIZER;CN="Club DREAMS team":MAILTO:Clubdreams@dsacnj.org
END:VEVENT
BEGIN:VEVENT
DTSTART;TZID=UTC:20211205T100000
DTEND;TZID=UTC:20211205T104500
DTSTAMP:20260422T101307
CREATED:20210826T020945Z
LAST-MODIFIED:20220108T025344Z
UID:10000189-1638698400-1638701100@dsacnj.org
SUMMARY:Yoga (Sunday)
DESCRIPTION:Come join us for a refreshing group morning yoga session. Practice easy poses and share some laughs with the group. Session will be run online only temporarily! \nREGISTER HERE TO JOIN VIRTUALLY FROM HOME  This link will register you for all the sessions of the season – no commitment required.  Drop in and regular attendance welcome. After registering\, you will receive a confirmation email containing information about joining the meeting. \n  \n 
URL:https://dsacnj.org/event/yoga-2/2021-12-05/
LOCATION:VIRTUAL OR ON SITE CLUB DREAMS\, 25 Scotch Rd\, Suite H\, Ewing\, NJ\, 08628\, United States
CATEGORIES:ENRICHMENT,Fitness/dance/sports,In person events,Online virtual events
END:VEVENT
BEGIN:VEVENT
DTSTART;TZID=UTC:20211204T113000
DTEND;TZID=UTC:20211204T143000
DTSTAMP:20260422T101307
CREATED:20210825T203900Z
LAST-MODIFIED:20211120T010600Z
UID:10000171-1638617400-1638628200@dsacnj.org
SUMMARY:Open Play (Saturday)
DESCRIPTION:Open play allow participants to enjoy our space in the age appropriate area of the center.  Climb\, read\, write\, explore\, pretend\, get gaming! Plan to meet up with friends and other families to enjoy Club DREAMS. Capacity is limited.   Open play is opened to community for integrative play if space permits. IN PERSON ONLY \nEvery open play Saturday will include a craft (crafts start at 12:00) and a science experiment (starting at 1:00)! \n  \nIndividuals with Down syndrome and siblings free\, Community Members registration $5 if space available.
URL:https://dsacnj.org/event/open-play-2/2021-12-04/
LOCATION:Club DREAMS\, 25 Scotch Rd.\, Suite H\, Ewing\, NJ\, 08628\, United States
CATEGORIES:Adults 18+,Babies/Toddler,Children,FAMILY SUPPORT,In person events,SOCIAL,Teens
ORGANIZER;CN="Club DREAMS team":MAILTO:Clubdreams@dsacnj.org
END:VEVENT
BEGIN:VEVENT
DTSTART;TZID=UTC:20211204T100000
DTEND;TZID=UTC:20211204T130000
DTSTAMP:20260422T101307
CREATED:20211115T225353Z
LAST-MODIFIED:20211115T234419Z
UID:10000333-1638612000-1638622800@dsacnj.org
SUMMARY:Custom Gift Making Workshop
DESCRIPTION:Get your creativity cap on!! This event is perfect for all kids\, teens and even adults!\nWe will be providing all registered individuals  with the availability of a gift making assistant to walk through the process of choosing gifts for everyone and/or every pet on your list and then customizing personalization\, design or logo using Cricut design studio! \nWine glasses\, beer mugs\, onesies\, banks\, candles\, pot holders\, pillow cases\, pet food bowl\, planters\, ornaments\, vases and more! \nThese gifts will thrill all your recipients.\nGifts will range in price from $3-$15. \nWe will provide a gift planning worksheet prior to the event to brainstorm along with a parent if needed so that you can be ready to get your holiday shopping complete! \nPlus there will be a vendor sale at the same time for additional shopping pleasure (or for parents to  complete their shopping list)!  Including Tubberware\, One Hope\, Touchstone and more! \nAnd of course Santa photo shoot will be available\, as will snacks\, muffins\, hot cocoa and coffee! \nSiblings welcome\, community peers welcome! \n10% discount for DREAM TEAM Members! \n  \n  \n 
URL:https://dsacnj.org/event/3443/
LOCATION:Club DREAMS\, 25 Scotch Rd.\, Suite H\, Ewing\, NJ\, 08628\, United States
CATEGORIES:Adults 18+,Arts/music,Babies/Toddler,Children,ENRICHMENT,FAMILY SUPPORT,In person events,Parent/family socials (TBD),Siblings,SOCIAL,SPECIAL EVENT,Teens
ORGANIZER;CN="Club DREAMS team":MAILTO:Clubdreams@dsacnj.org
END:VEVENT
BEGIN:VEVENT
DTSTART;TZID=UTC:20211203T160000
DTEND;TZID=UTC:20211203T170000
DTSTAMP:20260422T101307
CREATED:20211116T193624Z
LAST-MODIFIED:20211203T030147Z
UID:10000334-1638547200-1638550800@dsacnj.org
SUMMARY:BARRE with Gina- CANCELLED DO NOT SIGN UP
DESCRIPTION:Come join us for another fun-filled barre class! \nParents are welcome to be involved for $10; if interested as a parent\, please use the tickets below!
URL:https://dsacnj.org/event/barre-with-gina/
LOCATION:Club DREAMS\, 25 Scotch Rd.\, Suite H\, Ewing\, NJ\, 08628\, United States
CATEGORIES:Fitness/dance/sports,In person events,SOCIAL,SPECIAL EVENT
ORGANIZER;CN="Club DREAMS team":MAILTO:Clubdreams@dsacnj.org
END:VEVENT
BEGIN:VEVENT
DTSTART;TZID=UTC:20211202T153000
DTEND;TZID=UTC:20211202T163000
DTSTAMP:20260422T101307
CREATED:20211013T215005Z
LAST-MODIFIED:20220103T070926Z
UID:10000319-1638459000-1638462600@dsacnj.org
SUMMARY:Homework Helpers
DESCRIPTION:Does your child need academic help with homework or tutoring? Join us on Thursdays from 3:30-4:30 at our center with our tutor\, Miram! \n  \nRegister below\, capacity is limited!
URL:https://dsacnj.org/event/homework-helpers-thursdays/2021-12-02/
LOCATION:Club DREAMS\, 25 Scotch Rd.\, Suite H\, Ewing\, NJ\, 08628\, United States
CATEGORIES:HOMEWORK HELPERS
ORGANIZER;CN="Club DREAMS team":MAILTO:Clubdreams@dsacnj.org
END:VEVENT
BEGIN:VEVENT
DTSTART;TZID=UTC:20211201T190000
DTEND;TZID=UTC:20211201T210000
DTSTAMP:20260422T101307
CREATED:20211014T181741Z
LAST-MODIFIED:20211119T010320Z
UID:10000329-1638385200-1638392400@dsacnj.org
SUMMARY:Mom and Daughter Spa and Makeover Night
DESCRIPTION:We are BACK with a spa night coordinated with Innovate Salon Academy. We are SO excited that we can have our FIRST spa night with someone across the hall from us that we have a great relationship with! This will take place on Wednesday December 1st from 7-9 PM at our center! \nAnd don’t worry\, we will have more spa days planned ahead in our future for weekends as well\, with salons around our area!! \nRegister below with EACH person attending (separate registrations). \n**REGISTRATIONS CLOSE NOVEMBER 27th** \nCan’t wait to see you there!!
URL:https://dsacnj.org/event/spa/
LOCATION:Club DREAMS\, 25 Scotch Rd.\, Suite H\, Ewing\, NJ\, 08628\, United States
CATEGORIES:SOCIAL,SPECIAL EVENT
ORGANIZER;CN="Club DREAMS team":MAILTO:Clubdreams@dsacnj.org
END:VEVENT
BEGIN:VEVENT
DTSTART;TZID=UTC:20211130T170000
DTEND;TZID=UTC:20211130T183000
DTSTAMP:20260422T101307
CREATED:20211013T214136Z
LAST-MODIFIED:20220127T012301Z
UID:10000301-1638291600-1638297000@dsacnj.org
SUMMARY:Homework Helpers TUESDAYS
DESCRIPTION:Does your child need help with their homework or other tutoring? Join us on Tuesdays from 5-6:30 at our center! \n  \nRegister below\, capacity is limited!
URL:https://dsacnj.org/event/homework-helpers-3/2021-11-30/
LOCATION:Club DREAMS\, 25 Scotch Rd.\, Suite H\, Ewing\, NJ\, 08628\, United States
CATEGORIES:HOMEWORK HELPERS
ORGANIZER;CN="Club DREAMS team":MAILTO:Clubdreams@dsacnj.org
END:VEVENT
BEGIN:VEVENT
DTSTART;TZID=UTC:20211129T161500
DTEND;TZID=UTC:20211129T164500
DTSTAMP:20260422T101307
CREATED:20210825T111112Z
LAST-MODIFIED:20220103T073647Z
UID:10000132-1638202500-1638204300@dsacnj.org
SUMMARY:Academic 1 (Monday)
DESCRIPTION:Academic sessions allow an opportunity to work on academic skills in a small group setting led by a Club DREAMS team member.  Sessions are fun and interactive yet review key academic skills in fields of math\, reading\, science\, geography\, time and money. All learners working on the skills for the content planned for the session are welcome to join.  Approximate age range for content is as follows: Level 1: under 7 learners; Level 2:  7-10 years;  Level 3:  11-13 years; Level 4:  14+ Years \nRegister Below. This link will register you all scheduled upcoming sessions – no commitment required.  Drop in and regular attendance welcome. After registering\, you will receive a confirmation email containing information about joining the meeting. \nREGISTER HERE FOR THIS VIRTUAL ONLY PROGRAM
URL:https://dsacnj.org/event/academic-1/2021-11-29/
LOCATION:
CATEGORIES:ACADEMICS,Children,Online virtual events
END:VEVENT
BEGIN:VEVENT
DTSTART;TZID=UTC:20211127T113000
DTEND;TZID=UTC:20211127T143000
DTSTAMP:20260422T101307
CREATED:20210825T203900Z
LAST-MODIFIED:20211120T010600Z
UID:10000170-1638012600-1638023400@dsacnj.org
SUMMARY:Open Play (Saturday)
DESCRIPTION:Open play allow participants to enjoy our space in the age appropriate area of the center.  Climb\, read\, write\, explore\, pretend\, get gaming! Plan to meet up with friends and other families to enjoy Club DREAMS. Capacity is limited.   Open play is opened to community for integrative play if space permits. IN PERSON ONLY \nEvery open play Saturday will include a craft (crafts start at 12:00) and a science experiment (starting at 1:00)! \n  \nIndividuals with Down syndrome and siblings free\, Community Members registration $5 if space available.
URL:https://dsacnj.org/event/open-play-2/2021-11-27/
LOCATION:Club DREAMS\, 25 Scotch Rd.\, Suite H\, Ewing\, NJ\, 08628\, United States
CATEGORIES:Adults 18+,Babies/Toddler,Children,FAMILY SUPPORT,In person events,SOCIAL,Teens
ORGANIZER;CN="Club DREAMS team":MAILTO:Clubdreams@dsacnj.org
END:VEVENT
BEGIN:VEVENT
DTSTART;TZID=UTC:20211125T153000
DTEND;TZID=UTC:20211125T163000
DTSTAMP:20260422T101307
CREATED:20211013T215005Z
LAST-MODIFIED:20220103T070926Z
UID:10000318-1637854200-1637857800@dsacnj.org
SUMMARY:Homework Helpers
DESCRIPTION:Does your child need academic help with homework or tutoring? Join us on Thursdays from 3:30-4:30 at our center with our tutor\, Miram! \n  \nRegister below\, capacity is limited!
URL:https://dsacnj.org/event/homework-helpers-thursdays/2021-11-25/
LOCATION:Club DREAMS\, 25 Scotch Rd.\, Suite H\, Ewing\, NJ\, 08628\, United States
CATEGORIES:HOMEWORK HELPERS
ORGANIZER;CN="Club DREAMS team":MAILTO:Clubdreams@dsacnj.org
END:VEVENT
BEGIN:VEVENT
DTSTART;TZID=UTC:20211123T170000
DTEND;TZID=UTC:20211123T183000
DTSTAMP:20260422T101307
CREATED:20211013T214136Z
LAST-MODIFIED:20220127T012301Z
UID:10000300-1637686800-1637692200@dsacnj.org
SUMMARY:Homework Helpers TUESDAYS
DESCRIPTION:Does your child need help with their homework or other tutoring? Join us on Tuesdays from 5-6:30 at our center! \n  \nRegister below\, capacity is limited!
URL:https://dsacnj.org/event/homework-helpers-3/2021-11-23/
LOCATION:Club DREAMS\, 25 Scotch Rd.\, Suite H\, Ewing\, NJ\, 08628\, United States
CATEGORIES:HOMEWORK HELPERS
ORGANIZER;CN="Club DREAMS team":MAILTO:Clubdreams@dsacnj.org
END:VEVENT
BEGIN:VEVENT
DTSTART;TZID=UTC:20211122T161500
DTEND;TZID=UTC:20211122T164500
DTSTAMP:20260422T101307
CREATED:20210825T111112Z
LAST-MODIFIED:20220103T073647Z
UID:10000131-1637597700-1637599500@dsacnj.org
SUMMARY:Academic 1 (Monday)
DESCRIPTION:Academic sessions allow an opportunity to work on academic skills in a small group setting led by a Club DREAMS team member.  Sessions are fun and interactive yet review key academic skills in fields of math\, reading\, science\, geography\, time and money. All learners working on the skills for the content planned for the session are welcome to join.  Approximate age range for content is as follows: Level 1: under 7 learners; Level 2:  7-10 years;  Level 3:  11-13 years; Level 4:  14+ Years \nRegister Below. This link will register you all scheduled upcoming sessions – no commitment required.  Drop in and regular attendance welcome. After registering\, you will receive a confirmation email containing information about joining the meeting. \nREGISTER HERE FOR THIS VIRTUAL ONLY PROGRAM
URL:https://dsacnj.org/event/academic-1/2021-11-22/
LOCATION:
CATEGORIES:ACADEMICS,Children,Online virtual events
END:VEVENT
BEGIN:VEVENT
DTSTART;TZID=UTC:20211121T150000
DTEND;TZID=UTC:20211121T154500
DTSTAMP:20260422T101307
CREATED:20210826T021959Z
LAST-MODIFIED:20211205T233815Z
UID:10000217-1637506800-1637509500@dsacnj.org
SUMMARY:ON PAUSE UNTIL FURTHER NOTICE- Dance - mixed styles ages 7-12 (Sunday)
DESCRIPTION:Dance instruction in varied styles rotating every 12 weeks followed by a showcase of the dance learned.   Work on techniques in ballet\, contemporary\, lyrical\, jazz\, hiphop and others.   This class is for ages 7-12. \nMeet new friends and have some fun. \nLed by an experienced dance teacher.
URL:https://dsacnj.org/event/dance-mixed-styles-ages-7-12/2021-11-21/
LOCATION:Club DREAMS\, 25 Scotch Rd.\, Suite H\, Ewing\, NJ\, 08628\, United States
CATEGORIES:ENRICHMENT,Fitness/dance/sports,In person events
END:VEVENT
BEGIN:VEVENT
DTSTART;TZID=UTC:20211121T110000
DTEND;TZID=UTC:20211121T114500
DTSTAMP:20260422T101307
CREATED:20210826T021439Z
LAST-MODIFIED:20210908T044805Z
UID:10000202-1637492400-1637495100@dsacnj.org
SUMMARY:Parent and Me Movement and Music (Sunday)
DESCRIPTION:This program is designed for our youngest members to work on gross and fine motor skills while enjoying bonding with a parent and meeting new friends.   Run by a physical therapy assistant and one of our interns. Most appropriate for ages 5 and under. \nMusic will be integrated and rhythm.  This will be live in person at Club DREAMS and virtually streamed for those wishing to participate from home. \nREGISTER HERE FOR VIRTUAL PARTICIPATION FROM HOME \nREGISTER BELOW TO PARTICIPATE IN PERSON – Limited capacity for the safety of our members.
URL:https://dsacnj.org/event/mommy-and-me-movement-and-music/2021-11-21/
LOCATION:VIRTUAL OR ON SITE CLUB DREAMS\, 25 Scotch Rd\, Suite H\, Ewing\, NJ\, 08628\, United States
CATEGORIES:Arts/music,Babies/Toddler,Children,ENRICHMENT,Fitness/dance/sports,In person events,Online virtual events
ORGANIZER;CN="Club DREAMS team":MAILTO:Clubdreams@dsacnj.org
END:VEVENT
BEGIN:VEVENT
DTSTART;TZID=UTC:20211121T100000
DTEND;TZID=UTC:20211121T104500
DTSTAMP:20260422T101307
CREATED:20210826T020945Z
LAST-MODIFIED:20220108T025344Z
UID:10000188-1637488800-1637491500@dsacnj.org
SUMMARY:Yoga (Sunday)
DESCRIPTION:Come join us for a refreshing group morning yoga session. Practice easy poses and share some laughs with the group. Session will be run online only temporarily! \nREGISTER HERE TO JOIN VIRTUALLY FROM HOME  This link will register you for all the sessions of the season – no commitment required.  Drop in and regular attendance welcome. After registering\, you will receive a confirmation email containing information about joining the meeting. \n  \n 
URL:https://dsacnj.org/event/yoga-2/2021-11-21/
LOCATION:VIRTUAL OR ON SITE CLUB DREAMS\, 25 Scotch Rd\, Suite H\, Ewing\, NJ\, 08628\, United States
CATEGORIES:ENRICHMENT,Fitness/dance/sports,In person events,Online virtual events
END:VEVENT
BEGIN:VEVENT
DTSTART;TZID=UTC:20211120T130000
DTEND;TZID=UTC:20211120T140000
DTSTAMP:20260422T101307
CREATED:20210825T203409Z
LAST-MODIFIED:20211117T021507Z
UID:10000160-1637413200-1637416800@dsacnj.org
SUMMARY:Mad Science Saturday
DESCRIPTION:Come join us at our club for fun science experiments that will be offered every Saturday! Each week will be different and something super fun right after arts and crafts! \nREGISTER BELOW FOR IN PERSON ATTENDANCE AT CLUB DREAMS – capacity limited \nREGISTER HERE FOR VIRTUAL SCIENCE
URL:https://dsacnj.org/event/mss/2021-11-20/
LOCATION:Club DREAMS\, 25 Scotch Rd.\, Suite H\, Ewing\, NJ\, 08628\, United States
CATEGORIES:Adults 18+,Children,ENRICHMENT,Fitness/dance/sports,In person events,Online virtual events,Teens
END:VEVENT
BEGIN:VEVENT
DTSTART;TZID=UTC:20211120T113000
DTEND;TZID=UTC:20211120T143000
DTSTAMP:20260422T101307
CREATED:20210825T203900Z
LAST-MODIFIED:20211120T010600Z
UID:10000169-1637407800-1637418600@dsacnj.org
SUMMARY:Open Play (Saturday)
DESCRIPTION:Open play allow participants to enjoy our space in the age appropriate area of the center.  Climb\, read\, write\, explore\, pretend\, get gaming! Plan to meet up with friends and other families to enjoy Club DREAMS. Capacity is limited.   Open play is opened to community for integrative play if space permits. IN PERSON ONLY \nEvery open play Saturday will include a craft (crafts start at 12:00) and a science experiment (starting at 1:00)! \n  \nIndividuals with Down syndrome and siblings free\, Community Members registration $5 if space available.
URL:https://dsacnj.org/event/open-play-2/2021-11-20/
LOCATION:Club DREAMS\, 25 Scotch Rd.\, Suite H\, Ewing\, NJ\, 08628\, United States
CATEGORIES:Adults 18+,Babies/Toddler,Children,FAMILY SUPPORT,In person events,SOCIAL,Teens
ORGANIZER;CN="Club DREAMS team":MAILTO:Clubdreams@dsacnj.org
END:VEVENT
BEGIN:VEVENT
DTSTART;TZID=UTC:20211120T110000
DTEND;TZID=UTC:20211120T120000
DTSTAMP:20260422T101307
CREATED:20210825T202422Z
LAST-MODIFIED:20220108T025137Z
UID:10000149-1637406000-1637409600@dsacnj.org
SUMMARY:Arts and Crafts/Guided Drawing Saturday
DESCRIPTION:Join us at our center for guided drawing and other teen crafts! \n  \nREGISTER HERE FOR ONLINE \nONLINE ONLY TEMPORARILY
URL:https://dsacnj.org/event/artsandcrafts-saturday/2021-11-20/
LOCATION:Club DREAMS\, 25 Scotch Rd.\, Suite H\, Ewing\, NJ\, 08628\, United States
CATEGORIES:Adults 18+,Babies/Toddler,Children,ENRICHMENT,In person events,Teens
ORGANIZER;CN="Club DREAMS team":MAILTO:Clubdreams@dsacnj.org
END:VEVENT
BEGIN:VEVENT
DTSTART;TZID=UTC:20211119T190000
DTEND;TZID=UTC:20211119T200000
DTSTAMP:20260422T101307
CREATED:20211030T205709Z
LAST-MODIFIED:20211116T234731Z
UID:10000331-1637348400-1637352000@dsacnj.org
SUMMARY:VIRTUAL DANCE NIGHT
DESCRIPTION:Hop on to Zoom from 7-8 PM to join us for a virtual Just Dance Night! \nCLICK HERE TO REGISTER FOR ZOOM
URL:https://dsacnj.org/event/virtual-dance-night/
LOCATION:Virtual Zoom
CATEGORIES:Online virtual events,SOCIAL,SPECIAL EVENT
ORGANIZER;CN="Club DREAMS team":MAILTO:Clubdreams@dsacnj.org
END:VEVENT
BEGIN:VEVENT
DTSTART;TZID=UTC:20211118T153000
DTEND;TZID=UTC:20211118T163000
DTSTAMP:20260422T101307
CREATED:20211013T215005Z
LAST-MODIFIED:20220103T070926Z
UID:10000317-1637249400-1637253000@dsacnj.org
SUMMARY:Homework Helpers
DESCRIPTION:Does your child need academic help with homework or tutoring? Join us on Thursdays from 3:30-4:30 at our center with our tutor\, Miram! \n  \nRegister below\, capacity is limited!
URL:https://dsacnj.org/event/homework-helpers-thursdays/2021-11-18/
LOCATION:Club DREAMS\, 25 Scotch Rd.\, Suite H\, Ewing\, NJ\, 08628\, United States
CATEGORIES:HOMEWORK HELPERS
ORGANIZER;CN="Club DREAMS team":MAILTO:Clubdreams@dsacnj.org
END:VEVENT
BEGIN:VEVENT
DTSTART;TZID=UTC:20211116T170000
DTEND;TZID=UTC:20211116T183000
DTSTAMP:20260422T101307
CREATED:20211013T214136Z
LAST-MODIFIED:20220127T012301Z
UID:10000299-1637082000-1637087400@dsacnj.org
SUMMARY:Homework Helpers TUESDAYS
DESCRIPTION:Does your child need help with their homework or other tutoring? Join us on Tuesdays from 5-6:30 at our center! \n  \nRegister below\, capacity is limited!
URL:https://dsacnj.org/event/homework-helpers-3/2021-11-16/
LOCATION:Club DREAMS\, 25 Scotch Rd.\, Suite H\, Ewing\, NJ\, 08628\, United States
CATEGORIES:HOMEWORK HELPERS
ORGANIZER;CN="Club DREAMS team":MAILTO:Clubdreams@dsacnj.org
END:VEVENT
BEGIN:VEVENT
DTSTART;TZID=UTC:20211115T161500
DTEND;TZID=UTC:20211115T164500
DTSTAMP:20260422T101307
CREATED:20210825T111112Z
LAST-MODIFIED:20220103T073647Z
UID:10000130-1636992900-1636994700@dsacnj.org
SUMMARY:Academic 1 (Monday)
DESCRIPTION:Academic sessions allow an opportunity to work on academic skills in a small group setting led by a Club DREAMS team member.  Sessions are fun and interactive yet review key academic skills in fields of math\, reading\, science\, geography\, time and money. All learners working on the skills for the content planned for the session are welcome to join.  Approximate age range for content is as follows: Level 1: under 7 learners; Level 2:  7-10 years;  Level 3:  11-13 years; Level 4:  14+ Years \nRegister Below. This link will register you all scheduled upcoming sessions – no commitment required.  Drop in and regular attendance welcome. After registering\, you will receive a confirmation email containing information about joining the meeting. \nREGISTER HERE FOR THIS VIRTUAL ONLY PROGRAM
URL:https://dsacnj.org/event/academic-1/2021-11-15/
LOCATION:
CATEGORIES:ACADEMICS,Children,Online virtual events
END:VEVENT
BEGIN:VEVENT
DTSTART;TZID=UTC:20211114T160000
DTEND;TZID=UTC:20211114T164500
DTSTAMP:20260422T101307
CREATED:20210826T022130Z
LAST-MODIFIED:20211205T233706Z
UID:10000221-1636905600-1636908300@dsacnj.org
SUMMARY:ON PAUSE UNTIL FURTHER NOTICE- Dance mixed styles- ages 13+
DESCRIPTION:Dance instruction in varied styles rotating every 12 weeks followed by a showcase of the dance learned.   Work on techniques in ballet\, contemporary\, lyrical\, jazz\, hiphop and others.   This class is for ages 13+ \nMeet new friends and have some fun. \nLed by an experienced dance teacher.
URL:https://dsacnj.org/event/dance-mixed-styles-ages-13/2021-11-14/
LOCATION:Club DREAMS\, 25 Scotch Rd.\, Suite H\, Ewing\, NJ\, 08628\, United States
CATEGORIES:ENRICHMENT,Fitness/dance/sports,In person events
ORGANIZER;CN="Club DREAMS team":MAILTO:Clubdreams@dsacnj.org
END:VEVENT
BEGIN:VEVENT
DTSTART;TZID=UTC:20211114T150000
DTEND;TZID=UTC:20211114T154500
DTSTAMP:20260422T101307
CREATED:20210826T021959Z
LAST-MODIFIED:20211205T233815Z
UID:10000216-1636902000-1636904700@dsacnj.org
SUMMARY:ON PAUSE UNTIL FURTHER NOTICE- Dance - mixed styles ages 7-12 (Sunday)
DESCRIPTION:Dance instruction in varied styles rotating every 12 weeks followed by a showcase of the dance learned.   Work on techniques in ballet\, contemporary\, lyrical\, jazz\, hiphop and others.   This class is for ages 7-12. \nMeet new friends and have some fun. \nLed by an experienced dance teacher.
URL:https://dsacnj.org/event/dance-mixed-styles-ages-7-12/2021-11-14/
LOCATION:Club DREAMS\, 25 Scotch Rd.\, Suite H\, Ewing\, NJ\, 08628\, United States
CATEGORIES:ENRICHMENT,Fitness/dance/sports,In person events
END:VEVENT
END:VCALENDAR