BEGIN:VCALENDAR
VERSION:2.0
PRODID:-//Down Syndrome Association of Central New Jersey - ECPv6.15.15//NONSGML v1.0//EN
CALSCALE:GREGORIAN
METHOD:PUBLISH
X-WR-CALNAME:Down Syndrome Association of Central New Jersey
X-ORIGINAL-URL:https://dsacnj.org
X-WR-CALDESC:Events for Down Syndrome Association of Central New Jersey
REFRESH-INTERVAL;VALUE=DURATION:PT1H
X-Robots-Tag:noindex
X-PUBLISHED-TTL:PT1H
BEGIN:VTIMEZONE
TZID:UTC
BEGIN:STANDARD
TZOFFSETFROM:+0000
TZOFFSETTO:+0000
TZNAME:UTC
DTSTART:20200101T000000
END:STANDARD
END:VTIMEZONE
BEGIN:VEVENT
DTSTART;TZID=UTC:20211114T110000
DTEND;TZID=UTC:20211114T114500
DTSTAMP:20260422T130820
CREATED:20210826T021439Z
LAST-MODIFIED:20210908T044805Z
UID:10000201-1636887600-1636890300@dsacnj.org
SUMMARY:Parent and Me Movement and Music (Sunday)
DESCRIPTION:This program is designed for our youngest members to work on gross and fine motor skills while enjoying bonding with a parent and meeting new friends.   Run by a physical therapy assistant and one of our interns. Most appropriate for ages 5 and under. \nMusic will be integrated and rhythm.  This will be live in person at Club DREAMS and virtually streamed for those wishing to participate from home. \nREGISTER HERE FOR VIRTUAL PARTICIPATION FROM HOME \nREGISTER BELOW TO PARTICIPATE IN PERSON – Limited capacity for the safety of our members.
URL:https://dsacnj.org/event/mommy-and-me-movement-and-music/2021-11-14/
LOCATION:VIRTUAL OR ON SITE CLUB DREAMS\, 25 Scotch Rd\, Suite H\, Ewing\, NJ\, 08628\, United States
CATEGORIES:Arts/music,Babies/Toddler,Children,ENRICHMENT,Fitness/dance/sports,In person events,Online virtual events
ORGANIZER;CN="Club DREAMS team":MAILTO:Clubdreams@dsacnj.org
END:VEVENT
BEGIN:VEVENT
DTSTART;TZID=UTC:20211114T100000
DTEND;TZID=UTC:20211114T104500
DTSTAMP:20260422T130820
CREATED:20210826T020945Z
LAST-MODIFIED:20220108T025344Z
UID:10000187-1636884000-1636886700@dsacnj.org
SUMMARY:Yoga (Sunday)
DESCRIPTION:Come join us for a refreshing group morning yoga session. Practice easy poses and share some laughs with the group. Session will be run online only temporarily! \nREGISTER HERE TO JOIN VIRTUALLY FROM HOME  This link will register you for all the sessions of the season – no commitment required.  Drop in and regular attendance welcome. After registering\, you will receive a confirmation email containing information about joining the meeting. \n  \n 
URL:https://dsacnj.org/event/yoga-2/2021-11-14/
LOCATION:VIRTUAL OR ON SITE CLUB DREAMS\, 25 Scotch Rd\, Suite H\, Ewing\, NJ\, 08628\, United States
CATEGORIES:ENRICHMENT,Fitness/dance/sports,In person events,Online virtual events
END:VEVENT
BEGIN:VEVENT
DTSTART;TZID=UTC:20211113T130000
DTEND;TZID=UTC:20211113T140000
DTSTAMP:20260422T130820
CREATED:20210825T203409Z
LAST-MODIFIED:20211117T021507Z
UID:10000159-1636808400-1636812000@dsacnj.org
SUMMARY:Mad Science Saturday
DESCRIPTION:Come join us at our club for fun science experiments that will be offered every Saturday! Each week will be different and something super fun right after arts and crafts! \nREGISTER BELOW FOR IN PERSON ATTENDANCE AT CLUB DREAMS – capacity limited \nREGISTER HERE FOR VIRTUAL SCIENCE
URL:https://dsacnj.org/event/mss/2021-11-13/
LOCATION:Club DREAMS\, 25 Scotch Rd.\, Suite H\, Ewing\, NJ\, 08628\, United States
CATEGORIES:Adults 18+,Children,ENRICHMENT,Fitness/dance/sports,In person events,Online virtual events,Teens
END:VEVENT
BEGIN:VEVENT
DTSTART;TZID=UTC:20211113T113000
DTEND;TZID=UTC:20211113T143000
DTSTAMP:20260422T130820
CREATED:20210825T203900Z
LAST-MODIFIED:20211120T010600Z
UID:10000168-1636803000-1636813800@dsacnj.org
SUMMARY:Open Play (Saturday)
DESCRIPTION:Open play allow participants to enjoy our space in the age appropriate area of the center.  Climb\, read\, write\, explore\, pretend\, get gaming! Plan to meet up with friends and other families to enjoy Club DREAMS. Capacity is limited.   Open play is opened to community for integrative play if space permits. IN PERSON ONLY \nEvery open play Saturday will include a craft (crafts start at 12:00) and a science experiment (starting at 1:00)! \n  \nIndividuals with Down syndrome and siblings free\, Community Members registration $5 if space available.
URL:https://dsacnj.org/event/open-play-2/2021-11-13/
LOCATION:Club DREAMS\, 25 Scotch Rd.\, Suite H\, Ewing\, NJ\, 08628\, United States
CATEGORIES:Adults 18+,Babies/Toddler,Children,FAMILY SUPPORT,In person events,SOCIAL,Teens
ORGANIZER;CN="Club DREAMS team":MAILTO:Clubdreams@dsacnj.org
END:VEVENT
BEGIN:VEVENT
DTSTART;TZID=UTC:20211113T110000
DTEND;TZID=UTC:20211113T120000
DTSTAMP:20260422T130820
CREATED:20210825T202422Z
LAST-MODIFIED:20220108T025137Z
UID:10000148-1636801200-1636804800@dsacnj.org
SUMMARY:Arts and Crafts/Guided Drawing Saturday
DESCRIPTION:Join us at our center for guided drawing and other teen crafts! \n  \nREGISTER HERE FOR ONLINE \nONLINE ONLY TEMPORARILY
URL:https://dsacnj.org/event/artsandcrafts-saturday/2021-11-13/
LOCATION:Club DREAMS\, 25 Scotch Rd.\, Suite H\, Ewing\, NJ\, 08628\, United States
CATEGORIES:Adults 18+,Babies/Toddler,Children,ENRICHMENT,In person events,Teens
ORGANIZER;CN="Club DREAMS team":MAILTO:Clubdreams@dsacnj.org
END:VEVENT
BEGIN:VEVENT
DTSTART;TZID=UTC:20211112T183000
DTEND;TZID=UTC:20211112T230000
DTSTAMP:20260422T130820
CREATED:20210924T015034Z
LAST-MODIFIED:20210924T021048Z
UID:10000010-1636741800-1636758000@dsacnj.org
SUMMARY:GREAT GATSBY GALA
DESCRIPTION:Come support DSACNJ Club DREAMS at our annual gala event!! Will there be food and drinks? YES! Will there be casino games? YES! Will you have so much fun you won’t want to go home? YES!! Can’t wait to see you there!! \nRegister at Roaring 2021: Twenty One for T21 Club DREAMS Gala and Casino Night Tickets\, Fri\, Nov 12\, 2021 at 7:00 PM | Eventbrite \nPlace: Mercer County Boathouse \nTime: 6:30-11:00 PM
URL:https://dsacnj.org/event/great-gatsby-gala/
LOCATION:NJ
CATEGORIES:SOCIAL,SPECIAL EVENT
ORGANIZER;CN="Club DREAMS team":MAILTO:Clubdreams@dsacnj.org
END:VEVENT
BEGIN:VEVENT
DTSTART;TZID=UTC:20211112T183000
DTEND;TZID=UTC:20211112T230000
DTSTAMP:20260422T130820
CREATED:20210906T192559Z
LAST-MODIFIED:20210906T192614Z
UID:10000004-1636741800-1636758000@dsacnj.org
SUMMARY:Twenty One for T21 -  Roaring 2021 Gala
DESCRIPTION:Take a bet on Club DREAMS.  Join us for gambling\, dinner\, and dancing at The Mercer County Parks Boathouse. \nNovember 12 from 7-11PM.  On site sign in begins at 6:30pm. \nDetails to follow – sign up here for a link to formal registration page – coming soon!
URL:https://dsacnj.org/event/twenty-one-for-t21-roaring-2021-gala/
LOCATION:NJ
ORGANIZER;CN="Club DREAMS team":MAILTO:Clubdreams@dsacnj.org
END:VEVENT
BEGIN:VEVENT
DTSTART;TZID=UTC:20211112T180000
DTEND;TZID=UTC:20211112T233000
DTSTAMP:20260422T130820
CREATED:20211014T003601Z
LAST-MODIFIED:20211015T223047Z
UID:10000323-1636740000-1636759800@dsacnj.org
SUMMARY:KIDS NIGHT OUT
DESCRIPTION:Join us at our center for Kids Night Out! \nThis will be Pajama Party themed\, so make sure your child wears their pjs! They can also bring pillows and blankets to be more comfy! Club DREAMS members AND their siblings are welcome to this event! \nThis event will take place from 6-11:30 PM\, so that you can enjoy time at our gala\, and your children can enjoy time playing and watching movies at our center! All of our volunteers have been trained and received proper background checks\, and cannot wait to help out for this event! \nCost is as follows: \nParents/Guardians attending gala: $10 first child\, $5 per sibling \nParent/Guardians NOT attending gala: $15 first child\, $5 per sibling \n**ALL DREAM TEAM MEMBERS FREE**
URL:https://dsacnj.org/event/kids-night-out/
LOCATION:Club DREAMS\, 25 Scotch Rd.\, Suite H\, Ewing\, NJ\, 08628\, United States
CATEGORIES:In person events,SOCIAL,SPECIAL EVENT
ORGANIZER;CN="Club DREAMS team":MAILTO:Clubdreams@dsacnj.org
END:VEVENT
BEGIN:VEVENT
DTSTART;TZID=UTC:20211111T153000
DTEND;TZID=UTC:20211111T163000
DTSTAMP:20260422T130820
CREATED:20211013T215005Z
LAST-MODIFIED:20220103T070926Z
UID:10000316-1636644600-1636648200@dsacnj.org
SUMMARY:Homework Helpers
DESCRIPTION:Does your child need academic help with homework or tutoring? Join us on Thursdays from 3:30-4:30 at our center with our tutor\, Miram! \n  \nRegister below\, capacity is limited!
URL:https://dsacnj.org/event/homework-helpers-thursdays/2021-11-11/
LOCATION:Club DREAMS\, 25 Scotch Rd.\, Suite H\, Ewing\, NJ\, 08628\, United States
CATEGORIES:HOMEWORK HELPERS
ORGANIZER;CN="Club DREAMS team":MAILTO:Clubdreams@dsacnj.org
END:VEVENT
BEGIN:VEVENT
DTSTART;TZID=UTC:20211109T170000
DTEND;TZID=UTC:20211109T183000
DTSTAMP:20260422T130820
CREATED:20211013T214136Z
LAST-MODIFIED:20220127T012301Z
UID:10000298-1636477200-1636482600@dsacnj.org
SUMMARY:Homework Helpers TUESDAYS
DESCRIPTION:Does your child need help with their homework or other tutoring? Join us on Tuesdays from 5-6:30 at our center! \n  \nRegister below\, capacity is limited!
URL:https://dsacnj.org/event/homework-helpers-3/2021-11-09/
LOCATION:Club DREAMS\, 25 Scotch Rd.\, Suite H\, Ewing\, NJ\, 08628\, United States
CATEGORIES:HOMEWORK HELPERS
ORGANIZER;CN="Club DREAMS team":MAILTO:Clubdreams@dsacnj.org
END:VEVENT
BEGIN:VEVENT
DTSTART;TZID=UTC:20211108T161500
DTEND;TZID=UTC:20211108T164500
DTSTAMP:20260422T130820
CREATED:20210825T111112Z
LAST-MODIFIED:20220103T073647Z
UID:10000129-1636388100-1636389900@dsacnj.org
SUMMARY:Academic 1 (Monday)
DESCRIPTION:Academic sessions allow an opportunity to work on academic skills in a small group setting led by a Club DREAMS team member.  Sessions are fun and interactive yet review key academic skills in fields of math\, reading\, science\, geography\, time and money. All learners working on the skills for the content planned for the session are welcome to join.  Approximate age range for content is as follows: Level 1: under 7 learners; Level 2:  7-10 years;  Level 3:  11-13 years; Level 4:  14+ Years \nRegister Below. This link will register you all scheduled upcoming sessions – no commitment required.  Drop in and regular attendance welcome. After registering\, you will receive a confirmation email containing information about joining the meeting. \nREGISTER HERE FOR THIS VIRTUAL ONLY PROGRAM
URL:https://dsacnj.org/event/academic-1/2021-11-08/
LOCATION:
CATEGORIES:ACADEMICS,Children,Online virtual events
END:VEVENT
BEGIN:VEVENT
DTSTART;TZID=UTC:20211107T150000
DTEND;TZID=UTC:20211107T154500
DTSTAMP:20260422T130820
CREATED:20210826T021959Z
LAST-MODIFIED:20211205T233815Z
UID:10000215-1636297200-1636299900@dsacnj.org
SUMMARY:ON PAUSE UNTIL FURTHER NOTICE- Dance - mixed styles ages 7-12 (Sunday)
DESCRIPTION:Dance instruction in varied styles rotating every 12 weeks followed by a showcase of the dance learned.   Work on techniques in ballet\, contemporary\, lyrical\, jazz\, hiphop and others.   This class is for ages 7-12. \nMeet new friends and have some fun. \nLed by an experienced dance teacher.
URL:https://dsacnj.org/event/dance-mixed-styles-ages-7-12/2021-11-07/
LOCATION:Club DREAMS\, 25 Scotch Rd.\, Suite H\, Ewing\, NJ\, 08628\, United States
CATEGORIES:ENRICHMENT,Fitness/dance/sports,In person events
END:VEVENT
BEGIN:VEVENT
DTSTART;TZID=UTC:20211107T110000
DTEND;TZID=UTC:20211107T114500
DTSTAMP:20260422T130820
CREATED:20210826T021439Z
LAST-MODIFIED:20210908T044805Z
UID:10000200-1636282800-1636285500@dsacnj.org
SUMMARY:Parent and Me Movement and Music (Sunday)
DESCRIPTION:This program is designed for our youngest members to work on gross and fine motor skills while enjoying bonding with a parent and meeting new friends.   Run by a physical therapy assistant and one of our interns. Most appropriate for ages 5 and under. \nMusic will be integrated and rhythm.  This will be live in person at Club DREAMS and virtually streamed for those wishing to participate from home. \nREGISTER HERE FOR VIRTUAL PARTICIPATION FROM HOME \nREGISTER BELOW TO PARTICIPATE IN PERSON – Limited capacity for the safety of our members.
URL:https://dsacnj.org/event/mommy-and-me-movement-and-music/2021-11-07/
LOCATION:VIRTUAL OR ON SITE CLUB DREAMS\, 25 Scotch Rd\, Suite H\, Ewing\, NJ\, 08628\, United States
CATEGORIES:Arts/music,Babies/Toddler,Children,ENRICHMENT,Fitness/dance/sports,In person events,Online virtual events
ORGANIZER;CN="Club DREAMS team":MAILTO:Clubdreams@dsacnj.org
END:VEVENT
BEGIN:VEVENT
DTSTART;TZID=UTC:20211107T100000
DTEND;TZID=UTC:20211107T104500
DTSTAMP:20260422T130820
CREATED:20210826T020945Z
LAST-MODIFIED:20220108T025344Z
UID:10000186-1636279200-1636281900@dsacnj.org
SUMMARY:Yoga (Sunday)
DESCRIPTION:Come join us for a refreshing group morning yoga session. Practice easy poses and share some laughs with the group. Session will be run online only temporarily! \nREGISTER HERE TO JOIN VIRTUALLY FROM HOME  This link will register you for all the sessions of the season – no commitment required.  Drop in and regular attendance welcome. After registering\, you will receive a confirmation email containing information about joining the meeting. \n  \n 
URL:https://dsacnj.org/event/yoga-2/2021-11-07/
LOCATION:VIRTUAL OR ON SITE CLUB DREAMS\, 25 Scotch Rd\, Suite H\, Ewing\, NJ\, 08628\, United States
CATEGORIES:ENRICHMENT,Fitness/dance/sports,In person events,Online virtual events
END:VEVENT
BEGIN:VEVENT
DTSTART;TZID=UTC:20211106T130000
DTEND;TZID=UTC:20211106T140000
DTSTAMP:20260422T130820
CREATED:20210825T203409Z
LAST-MODIFIED:20211117T021507Z
UID:10000158-1636203600-1636207200@dsacnj.org
SUMMARY:Mad Science Saturday
DESCRIPTION:Come join us at our club for fun science experiments that will be offered every Saturday! Each week will be different and something super fun right after arts and crafts! \nREGISTER BELOW FOR IN PERSON ATTENDANCE AT CLUB DREAMS – capacity limited \nREGISTER HERE FOR VIRTUAL SCIENCE
URL:https://dsacnj.org/event/mss/2021-11-06/
LOCATION:Club DREAMS\, 25 Scotch Rd.\, Suite H\, Ewing\, NJ\, 08628\, United States
CATEGORIES:Adults 18+,Children,ENRICHMENT,Fitness/dance/sports,In person events,Online virtual events,Teens
END:VEVENT
BEGIN:VEVENT
DTSTART;TZID=UTC:20211106T113000
DTEND;TZID=UTC:20211106T143000
DTSTAMP:20260422T130820
CREATED:20210825T203900Z
LAST-MODIFIED:20211120T010600Z
UID:10000167-1636198200-1636209000@dsacnj.org
SUMMARY:Open Play (Saturday)
DESCRIPTION:Open play allow participants to enjoy our space in the age appropriate area of the center.  Climb\, read\, write\, explore\, pretend\, get gaming! Plan to meet up with friends and other families to enjoy Club DREAMS. Capacity is limited.   Open play is opened to community for integrative play if space permits. IN PERSON ONLY \nEvery open play Saturday will include a craft (crafts start at 12:00) and a science experiment (starting at 1:00)! \n  \nIndividuals with Down syndrome and siblings free\, Community Members registration $5 if space available.
URL:https://dsacnj.org/event/open-play-2/2021-11-06/
LOCATION:Club DREAMS\, 25 Scotch Rd.\, Suite H\, Ewing\, NJ\, 08628\, United States
CATEGORIES:Adults 18+,Babies/Toddler,Children,FAMILY SUPPORT,In person events,SOCIAL,Teens
ORGANIZER;CN="Club DREAMS team":MAILTO:Clubdreams@dsacnj.org
END:VEVENT
BEGIN:VEVENT
DTSTART;TZID=UTC:20211106T110000
DTEND;TZID=UTC:20211106T120000
DTSTAMP:20260422T130820
CREATED:20210825T202422Z
LAST-MODIFIED:20220108T025137Z
UID:10000147-1636196400-1636200000@dsacnj.org
SUMMARY:Arts and Crafts/Guided Drawing Saturday
DESCRIPTION:Join us at our center for guided drawing and other teen crafts! \n  \nREGISTER HERE FOR ONLINE \nONLINE ONLY TEMPORARILY
URL:https://dsacnj.org/event/artsandcrafts-saturday/2021-11-06/
LOCATION:Club DREAMS\, 25 Scotch Rd.\, Suite H\, Ewing\, NJ\, 08628\, United States
CATEGORIES:Adults 18+,Babies/Toddler,Children,ENRICHMENT,In person events,Teens
ORGANIZER;CN="Club DREAMS team":MAILTO:Clubdreams@dsacnj.org
END:VEVENT
BEGIN:VEVENT
DTSTART;TZID=UTC:20211105T170000
DTEND;TZID=UTC:20211105T183000
DTSTAMP:20260422T130820
CREATED:20211001T040648Z
LAST-MODIFIED:20211014T204703Z
UID:10000247-1636131600-1636137000@dsacnj.org
SUMMARY:Game Night
DESCRIPTION:Get ready for our second game night!! We are so excited to play all sorts of board games\, charades\, heads up\, and other fun things!
URL:https://dsacnj.org/event/halloween-trunk-or-treat/
LOCATION:NJ
CATEGORIES:In person events,SOCIAL,SPECIAL EVENT
ORGANIZER;CN="Club DREAMS team":MAILTO:Clubdreams@dsacnj.org
END:VEVENT
BEGIN:VEVENT
DTSTART;TZID=UTC:20211104T153000
DTEND;TZID=UTC:20211104T163000
DTSTAMP:20260422T130820
CREATED:20211013T215005Z
LAST-MODIFIED:20220103T070926Z
UID:10000315-1636039800-1636043400@dsacnj.org
SUMMARY:Homework Helpers
DESCRIPTION:Does your child need academic help with homework or tutoring? Join us on Thursdays from 3:30-4:30 at our center with our tutor\, Miram! \n  \nRegister below\, capacity is limited!
URL:https://dsacnj.org/event/homework-helpers-thursdays/2021-11-04/
LOCATION:Club DREAMS\, 25 Scotch Rd.\, Suite H\, Ewing\, NJ\, 08628\, United States
CATEGORIES:HOMEWORK HELPERS
ORGANIZER;CN="Club DREAMS team":MAILTO:Clubdreams@dsacnj.org
END:VEVENT
BEGIN:VEVENT
DTSTART;TZID=UTC:20211102T170000
DTEND;TZID=UTC:20211102T183000
DTSTAMP:20260422T130820
CREATED:20211013T214136Z
LAST-MODIFIED:20220127T012301Z
UID:10000297-1635872400-1635877800@dsacnj.org
SUMMARY:Homework Helpers TUESDAYS
DESCRIPTION:Does your child need help with their homework or other tutoring? Join us on Tuesdays from 5-6:30 at our center! \n  \nRegister below\, capacity is limited!
URL:https://dsacnj.org/event/homework-helpers-3/2021-11-02/
LOCATION:Club DREAMS\, 25 Scotch Rd.\, Suite H\, Ewing\, NJ\, 08628\, United States
CATEGORIES:HOMEWORK HELPERS
ORGANIZER;CN="Club DREAMS team":MAILTO:Clubdreams@dsacnj.org
END:VEVENT
BEGIN:VEVENT
DTSTART;TZID=UTC:20211101T161500
DTEND;TZID=UTC:20211101T164500
DTSTAMP:20260422T130820
CREATED:20210825T111112Z
LAST-MODIFIED:20220103T073647Z
UID:10000128-1635783300-1635785100@dsacnj.org
SUMMARY:Academic 1 (Monday)
DESCRIPTION:Academic sessions allow an opportunity to work on academic skills in a small group setting led by a Club DREAMS team member.  Sessions are fun and interactive yet review key academic skills in fields of math\, reading\, science\, geography\, time and money. All learners working on the skills for the content planned for the session are welcome to join.  Approximate age range for content is as follows: Level 1: under 7 learners; Level 2:  7-10 years;  Level 3:  11-13 years; Level 4:  14+ Years \nRegister Below. This link will register you all scheduled upcoming sessions – no commitment required.  Drop in and regular attendance welcome. After registering\, you will receive a confirmation email containing information about joining the meeting. \nREGISTER HERE FOR THIS VIRTUAL ONLY PROGRAM
URL:https://dsacnj.org/event/academic-1/2021-11-01/
LOCATION:
CATEGORIES:ACADEMICS,Children,Online virtual events
END:VEVENT
BEGIN:VEVENT
DTSTART;TZID=UTC:20211031T150000
DTEND;TZID=UTC:20211031T154500
DTSTAMP:20260422T130820
CREATED:20210826T021959Z
LAST-MODIFIED:20211205T233815Z
UID:10000214-1635692400-1635695100@dsacnj.org
SUMMARY:ON PAUSE UNTIL FURTHER NOTICE- Dance - mixed styles ages 7-12 (Sunday)
DESCRIPTION:Dance instruction in varied styles rotating every 12 weeks followed by a showcase of the dance learned.   Work on techniques in ballet\, contemporary\, lyrical\, jazz\, hiphop and others.   This class is for ages 7-12. \nMeet new friends and have some fun. \nLed by an experienced dance teacher.
URL:https://dsacnj.org/event/dance-mixed-styles-ages-7-12/2021-10-31/
LOCATION:Club DREAMS\, 25 Scotch Rd.\, Suite H\, Ewing\, NJ\, 08628\, United States
CATEGORIES:ENRICHMENT,Fitness/dance/sports,In person events
END:VEVENT
BEGIN:VEVENT
DTSTART;TZID=UTC:20211031T110000
DTEND;TZID=UTC:20211031T114500
DTSTAMP:20260422T130820
CREATED:20210826T021439Z
LAST-MODIFIED:20210908T044805Z
UID:10000199-1635678000-1635680700@dsacnj.org
SUMMARY:Parent and Me Movement and Music (Sunday)
DESCRIPTION:This program is designed for our youngest members to work on gross and fine motor skills while enjoying bonding with a parent and meeting new friends.   Run by a physical therapy assistant and one of our interns. Most appropriate for ages 5 and under. \nMusic will be integrated and rhythm.  This will be live in person at Club DREAMS and virtually streamed for those wishing to participate from home. \nREGISTER HERE FOR VIRTUAL PARTICIPATION FROM HOME \nREGISTER BELOW TO PARTICIPATE IN PERSON – Limited capacity for the safety of our members.
URL:https://dsacnj.org/event/mommy-and-me-movement-and-music/2021-10-31/
LOCATION:VIRTUAL OR ON SITE CLUB DREAMS\, 25 Scotch Rd\, Suite H\, Ewing\, NJ\, 08628\, United States
CATEGORIES:Arts/music,Babies/Toddler,Children,ENRICHMENT,Fitness/dance/sports,In person events,Online virtual events
ORGANIZER;CN="Club DREAMS team":MAILTO:Clubdreams@dsacnj.org
END:VEVENT
BEGIN:VEVENT
DTSTART;TZID=UTC:20211031T100000
DTEND;TZID=UTC:20211031T104500
DTSTAMP:20260422T130820
CREATED:20210826T020945Z
LAST-MODIFIED:20220108T025344Z
UID:10000185-1635674400-1635677100@dsacnj.org
SUMMARY:Yoga (Sunday)
DESCRIPTION:Come join us for a refreshing group morning yoga session. Practice easy poses and share some laughs with the group. Session will be run online only temporarily! \nREGISTER HERE TO JOIN VIRTUALLY FROM HOME  This link will register you for all the sessions of the season – no commitment required.  Drop in and regular attendance welcome. After registering\, you will receive a confirmation email containing information about joining the meeting. \n  \n 
URL:https://dsacnj.org/event/yoga-2/2021-10-31/
LOCATION:VIRTUAL OR ON SITE CLUB DREAMS\, 25 Scotch Rd\, Suite H\, Ewing\, NJ\, 08628\, United States
CATEGORIES:ENRICHMENT,Fitness/dance/sports,In person events,Online virtual events
END:VEVENT
BEGIN:VEVENT
DTSTART;TZID=UTC:20211030T130000
DTEND;TZID=UTC:20211030T140000
DTSTAMP:20260422T130820
CREATED:20210825T203409Z
LAST-MODIFIED:20211117T021507Z
UID:10000157-1635598800-1635602400@dsacnj.org
SUMMARY:Mad Science Saturday
DESCRIPTION:Come join us at our club for fun science experiments that will be offered every Saturday! Each week will be different and something super fun right after arts and crafts! \nREGISTER BELOW FOR IN PERSON ATTENDANCE AT CLUB DREAMS – capacity limited \nREGISTER HERE FOR VIRTUAL SCIENCE
URL:https://dsacnj.org/event/mss/2021-10-30/
LOCATION:Club DREAMS\, 25 Scotch Rd.\, Suite H\, Ewing\, NJ\, 08628\, United States
CATEGORIES:Adults 18+,Children,ENRICHMENT,Fitness/dance/sports,In person events,Online virtual events,Teens
END:VEVENT
BEGIN:VEVENT
DTSTART;TZID=UTC:20211030T113000
DTEND;TZID=UTC:20211030T143000
DTSTAMP:20260422T130820
CREATED:20210825T203900Z
LAST-MODIFIED:20211120T010600Z
UID:10000166-1635593400-1635604200@dsacnj.org
SUMMARY:Open Play (Saturday)
DESCRIPTION:Open play allow participants to enjoy our space in the age appropriate area of the center.  Climb\, read\, write\, explore\, pretend\, get gaming! Plan to meet up with friends and other families to enjoy Club DREAMS. Capacity is limited.   Open play is opened to community for integrative play if space permits. IN PERSON ONLY \nEvery open play Saturday will include a craft (crafts start at 12:00) and a science experiment (starting at 1:00)! \n  \nIndividuals with Down syndrome and siblings free\, Community Members registration $5 if space available.
URL:https://dsacnj.org/event/open-play-2/2021-10-30/
LOCATION:Club DREAMS\, 25 Scotch Rd.\, Suite H\, Ewing\, NJ\, 08628\, United States
CATEGORIES:Adults 18+,Babies/Toddler,Children,FAMILY SUPPORT,In person events,SOCIAL,Teens
ORGANIZER;CN="Club DREAMS team":MAILTO:Clubdreams@dsacnj.org
END:VEVENT
BEGIN:VEVENT
DTSTART;TZID=UTC:20211030T110000
DTEND;TZID=UTC:20211030T120000
DTSTAMP:20260422T130820
CREATED:20210825T202422Z
LAST-MODIFIED:20220108T025137Z
UID:10000146-1635591600-1635595200@dsacnj.org
SUMMARY:Arts and Crafts/Guided Drawing Saturday
DESCRIPTION:Join us at our center for guided drawing and other teen crafts! \n  \nREGISTER HERE FOR ONLINE \nONLINE ONLY TEMPORARILY
URL:https://dsacnj.org/event/artsandcrafts-saturday/2021-10-30/
LOCATION:Club DREAMS\, 25 Scotch Rd.\, Suite H\, Ewing\, NJ\, 08628\, United States
CATEGORIES:Adults 18+,Babies/Toddler,Children,ENRICHMENT,In person events,Teens
ORGANIZER;CN="Club DREAMS team":MAILTO:Clubdreams@dsacnj.org
END:VEVENT
BEGIN:VEVENT
DTSTART;TZID=UTC:20211030T090000
DTEND;TZID=UTC:20211030T113000
DTSTAMP:20260422T130820
CREATED:20211020T222248Z
LAST-MODIFIED:20211022T203449Z
UID:10000330-1635584400-1635593400@dsacnj.org
SUMMARY:T21 Roaring 20s Outdoor Photoshoot
DESCRIPTION:Register your child for a roaring 20s themed photoshoot! Props and costumes will be available\, however\, feel free to have your child wear there own outfits! Photoshoots will be $15 for the first child and $5 each additional child! \n*** Photoshoot will take place outdoors *** \nOutfit ideas include: \nBoys- white shirt\, black or khaki pants or shorts with/without vest\, suspenders\, tie/bowtie \nGirls- Solid dress; solid top with black skirt
URL:https://dsacnj.org/event/t21-roaring-20s-photoshoot/
LOCATION:Club DREAMS\, 25 Scotch Rd.\, Suite H\, Ewing\, NJ\, 08628\, United States
CATEGORIES:In person events,SPECIAL EVENT
ORGANIZER;CN="Club DREAMS team":MAILTO:Clubdreams@dsacnj.org
END:VEVENT
BEGIN:VEVENT
DTSTART;TZID=UTC:20211029T183000
DTEND;TZID=UTC:20211029T210000
DTSTAMP:20260422T130820
CREATED:20210924T004023Z
LAST-MODIFIED:20211002T182046Z
UID:10000009-1635532200-1635541200@dsacnj.org
SUMMARY:HALLOWEEN PARTY (all ages welcome)
DESCRIPTION:Come to our center in Ewing on Friday\, October 29th at 6:30 pm to kick off the Halloween Weekend! We will be watching Halloween movies\, eating popcorn and pizza\, decorating cookies and playing Halloween games!! We will also have some Halloween crafts for everyone to do and bring home! Feel free to bring some friends too!! \nDon’t forget to wear your costumes! 🙂
URL:https://dsacnj.org/event/halloween-movie-night-games-and-cookie-decorating-all-ages-welcome/
LOCATION:NJ
CATEGORIES:In person events,SOCIAL,SPECIAL EVENT
ORGANIZER;CN="Club DREAMS team":MAILTO:Clubdreams@dsacnj.org
END:VEVENT
BEGIN:VEVENT
DTSTART;TZID=UTC:20211028T153000
DTEND;TZID=UTC:20211028T163000
DTSTAMP:20260422T130820
CREATED:20211013T215005Z
LAST-MODIFIED:20220103T070926Z
UID:10000314-1635435000-1635438600@dsacnj.org
SUMMARY:Homework Helpers
DESCRIPTION:Does your child need academic help with homework or tutoring? Join us on Thursdays from 3:30-4:30 at our center with our tutor\, Miram! \n  \nRegister below\, capacity is limited!
URL:https://dsacnj.org/event/homework-helpers-thursdays/2021-10-28/
LOCATION:Club DREAMS\, 25 Scotch Rd.\, Suite H\, Ewing\, NJ\, 08628\, United States
CATEGORIES:HOMEWORK HELPERS
ORGANIZER;CN="Club DREAMS team":MAILTO:Clubdreams@dsacnj.org
END:VEVENT
END:VCALENDAR