BEGIN:VCALENDAR
VERSION:2.0
PRODID:-//Down Syndrome Association of Central New Jersey - ECPv6.15.15//NONSGML v1.0//EN
CALSCALE:GREGORIAN
METHOD:PUBLISH
X-WR-CALNAME:Down Syndrome Association of Central New Jersey
X-ORIGINAL-URL:https://dsacnj.org
X-WR-CALDESC:Events for Down Syndrome Association of Central New Jersey
REFRESH-INTERVAL;VALUE=DURATION:PT1H
X-Robots-Tag:noindex
X-PUBLISHED-TTL:PT1H
BEGIN:VTIMEZONE
TZID:UTC
BEGIN:STANDARD
TZOFFSETFROM:+0000
TZOFFSETTO:+0000
TZNAME:UTC
DTSTART:20210101T000000
END:STANDARD
END:VTIMEZONE
BEGIN:VEVENT
DTSTART;TZID=UTC:20230629T160000
DTEND;TZID=UTC:20230629T163000
DTSTAMP:20260424T211507
CREATED:20210823T004049Z
LAST-MODIFIED:20230622T233606Z
UID:10000082-1688054400-1688056200@dsacnj.org
SUMMARY:Virtual Yoga
DESCRIPTION:Learn several different poses that will keep your body healthy and active. REGISTER & CLICK HERE FOR VITURAL YOGA This link will register you for all the sessions of this season – no commitment required. Drop in and regular attendance welcome. After registering\, you will receive a confirmation email containing information about joining the meeting.     \n\n\n\n\n\n\n\n\n\n 
URL:https://dsacnj.org/event/yoga/2023-06-29/
LOCATION:Virtual Zoom
CATEGORIES:Adults 18+,Children,ENRICHMENT,Fitness/dance/sports,Online virtual events,Teens
END:VEVENT
BEGIN:VEVENT
DTSTART;TZID=UTC:20230622T160000
DTEND;TZID=UTC:20230622T163000
DTSTAMP:20260424T211507
CREATED:20210823T004049Z
LAST-MODIFIED:20230622T233606Z
UID:10000081-1687449600-1687451400@dsacnj.org
SUMMARY:Virtual Yoga
DESCRIPTION:Learn several different poses that will keep your body healthy and active. REGISTER & CLICK HERE FOR VITURAL YOGA This link will register you for all the sessions of this season – no commitment required. Drop in and regular attendance welcome. After registering\, you will receive a confirmation email containing information about joining the meeting.     \n\n\n\n\n\n\n\n\n\n 
URL:https://dsacnj.org/event/yoga/2023-06-22/
LOCATION:Virtual Zoom
CATEGORIES:Adults 18+,Children,ENRICHMENT,Fitness/dance/sports,Online virtual events,Teens
END:VEVENT
BEGIN:VEVENT
DTSTART;TZID=UTC:20230615T160000
DTEND;TZID=UTC:20230615T163000
DTSTAMP:20260424T211507
CREATED:20210823T004049Z
LAST-MODIFIED:20230622T233606Z
UID:10000080-1686844800-1686846600@dsacnj.org
SUMMARY:Virtual Yoga
DESCRIPTION:Learn several different poses that will keep your body healthy and active. REGISTER & CLICK HERE FOR VITURAL YOGA This link will register you for all the sessions of this season – no commitment required. Drop in and regular attendance welcome. After registering\, you will receive a confirmation email containing information about joining the meeting.     \n\n\n\n\n\n\n\n\n\n 
URL:https://dsacnj.org/event/yoga/2023-06-15/
LOCATION:Virtual Zoom
CATEGORIES:Adults 18+,Children,ENRICHMENT,Fitness/dance/sports,Online virtual events,Teens
END:VEVENT
BEGIN:VEVENT
DTSTART;TZID=UTC:20230608T160000
DTEND;TZID=UTC:20230608T163000
DTSTAMP:20260424T211507
CREATED:20210823T004049Z
LAST-MODIFIED:20230622T233606Z
UID:10000079-1686240000-1686241800@dsacnj.org
SUMMARY:Virtual Yoga
DESCRIPTION:Learn several different poses that will keep your body healthy and active. REGISTER & CLICK HERE FOR VITURAL YOGA This link will register you for all the sessions of this season – no commitment required. Drop in and regular attendance welcome. After registering\, you will receive a confirmation email containing information about joining the meeting.     \n\n\n\n\n\n\n\n\n\n 
URL:https://dsacnj.org/event/yoga/2023-06-08/
LOCATION:Virtual Zoom
CATEGORIES:Adults 18+,Children,ENRICHMENT,Fitness/dance/sports,Online virtual events,Teens
END:VEVENT
BEGIN:VEVENT
DTSTART;TZID=UTC:20230601T160000
DTEND;TZID=UTC:20230601T163000
DTSTAMP:20260424T211507
CREATED:20210823T004049Z
LAST-MODIFIED:20230622T233606Z
UID:10000078-1685635200-1685637000@dsacnj.org
SUMMARY:Virtual Yoga
DESCRIPTION:Learn several different poses that will keep your body healthy and active. REGISTER & CLICK HERE FOR VITURAL YOGA This link will register you for all the sessions of this season – no commitment required. Drop in and regular attendance welcome. After registering\, you will receive a confirmation email containing information about joining the meeting.     \n\n\n\n\n\n\n\n\n\n 
URL:https://dsacnj.org/event/yoga/2023-06-01/
LOCATION:Virtual Zoom
CATEGORIES:Adults 18+,Children,ENRICHMENT,Fitness/dance/sports,Online virtual events,Teens
END:VEVENT
BEGIN:VEVENT
DTSTART;TZID=UTC:20230525T160000
DTEND;TZID=UTC:20230525T163000
DTSTAMP:20260424T211507
CREATED:20210823T004049Z
LAST-MODIFIED:20230622T233606Z
UID:10000077-1685030400-1685032200@dsacnj.org
SUMMARY:Virtual Yoga
DESCRIPTION:Learn several different poses that will keep your body healthy and active. REGISTER & CLICK HERE FOR VITURAL YOGA This link will register you for all the sessions of this season – no commitment required. Drop in and regular attendance welcome. After registering\, you will receive a confirmation email containing information about joining the meeting.     \n\n\n\n\n\n\n\n\n\n 
URL:https://dsacnj.org/event/yoga/2023-05-25/
LOCATION:Virtual Zoom
CATEGORIES:Adults 18+,Children,ENRICHMENT,Fitness/dance/sports,Online virtual events,Teens
END:VEVENT
BEGIN:VEVENT
DTSTART;TZID=UTC:20230518T160000
DTEND;TZID=UTC:20230518T163000
DTSTAMP:20260424T211507
CREATED:20210823T004049Z
LAST-MODIFIED:20230622T233606Z
UID:10000076-1684425600-1684427400@dsacnj.org
SUMMARY:Virtual Yoga
DESCRIPTION:Learn several different poses that will keep your body healthy and active. REGISTER & CLICK HERE FOR VITURAL YOGA This link will register you for all the sessions of this season – no commitment required. Drop in and regular attendance welcome. After registering\, you will receive a confirmation email containing information about joining the meeting.     \n\n\n\n\n\n\n\n\n\n 
URL:https://dsacnj.org/event/yoga/2023-05-18/
LOCATION:Virtual Zoom
CATEGORIES:Adults 18+,Children,ENRICHMENT,Fitness/dance/sports,Online virtual events,Teens
END:VEVENT
BEGIN:VEVENT
DTSTART;TZID=UTC:20230511T160000
DTEND;TZID=UTC:20230511T163000
DTSTAMP:20260424T211507
CREATED:20210823T004049Z
LAST-MODIFIED:20230622T233606Z
UID:10000075-1683820800-1683822600@dsacnj.org
SUMMARY:Virtual Yoga
DESCRIPTION:Learn several different poses that will keep your body healthy and active. REGISTER & CLICK HERE FOR VITURAL YOGA This link will register you for all the sessions of this season – no commitment required. Drop in and regular attendance welcome. After registering\, you will receive a confirmation email containing information about joining the meeting.     \n\n\n\n\n\n\n\n\n\n 
URL:https://dsacnj.org/event/yoga/2023-05-11/
LOCATION:Virtual Zoom
CATEGORIES:Adults 18+,Children,ENRICHMENT,Fitness/dance/sports,Online virtual events,Teens
END:VEVENT
BEGIN:VEVENT
DTSTART;TZID=UTC:20230504T160000
DTEND;TZID=UTC:20230504T163000
DTSTAMP:20260424T211507
CREATED:20210823T004049Z
LAST-MODIFIED:20230622T233606Z
UID:10000074-1683216000-1683217800@dsacnj.org
SUMMARY:Virtual Yoga
DESCRIPTION:Learn several different poses that will keep your body healthy and active. REGISTER & CLICK HERE FOR VITURAL YOGA This link will register you for all the sessions of this season – no commitment required. Drop in and regular attendance welcome. After registering\, you will receive a confirmation email containing information about joining the meeting.     \n\n\n\n\n\n\n\n\n\n 
URL:https://dsacnj.org/event/yoga/2023-05-04/
LOCATION:Virtual Zoom
CATEGORIES:Adults 18+,Children,ENRICHMENT,Fitness/dance/sports,Online virtual events,Teens
END:VEVENT
BEGIN:VEVENT
DTSTART;TZID=UTC:20230427T160000
DTEND;TZID=UTC:20230427T163000
DTSTAMP:20260424T211507
CREATED:20210823T004049Z
LAST-MODIFIED:20230622T233606Z
UID:10000073-1682611200-1682613000@dsacnj.org
SUMMARY:Virtual Yoga
DESCRIPTION:Learn several different poses that will keep your body healthy and active. REGISTER & CLICK HERE FOR VITURAL YOGA This link will register you for all the sessions of this season – no commitment required. Drop in and regular attendance welcome. After registering\, you will receive a confirmation email containing information about joining the meeting.     \n\n\n\n\n\n\n\n\n\n 
URL:https://dsacnj.org/event/yoga/2023-04-27/
LOCATION:Virtual Zoom
CATEGORIES:Adults 18+,Children,ENRICHMENT,Fitness/dance/sports,Online virtual events,Teens
END:VEVENT
BEGIN:VEVENT
DTSTART;TZID=UTC:20230420T160000
DTEND;TZID=UTC:20230420T163000
DTSTAMP:20260424T211507
CREATED:20210823T004049Z
LAST-MODIFIED:20230622T233606Z
UID:10000072-1682006400-1682008200@dsacnj.org
SUMMARY:Virtual Yoga
DESCRIPTION:Learn several different poses that will keep your body healthy and active. REGISTER & CLICK HERE FOR VITURAL YOGA This link will register you for all the sessions of this season – no commitment required. Drop in and regular attendance welcome. After registering\, you will receive a confirmation email containing information about joining the meeting.     \n\n\n\n\n\n\n\n\n\n 
URL:https://dsacnj.org/event/yoga/2023-04-20/
LOCATION:Virtual Zoom
CATEGORIES:Adults 18+,Children,ENRICHMENT,Fitness/dance/sports,Online virtual events,Teens
END:VEVENT
BEGIN:VEVENT
DTSTART;TZID=UTC:20230413T160000
DTEND;TZID=UTC:20230413T163000
DTSTAMP:20260424T211507
CREATED:20210823T004049Z
LAST-MODIFIED:20230622T233606Z
UID:10000071-1681401600-1681403400@dsacnj.org
SUMMARY:Virtual Yoga
DESCRIPTION:Learn several different poses that will keep your body healthy and active. REGISTER & CLICK HERE FOR VITURAL YOGA This link will register you for all the sessions of this season – no commitment required. Drop in and regular attendance welcome. After registering\, you will receive a confirmation email containing information about joining the meeting.     \n\n\n\n\n\n\n\n\n\n 
URL:https://dsacnj.org/event/yoga/2023-04-13/
LOCATION:Virtual Zoom
CATEGORIES:Adults 18+,Children,ENRICHMENT,Fitness/dance/sports,Online virtual events,Teens
END:VEVENT
BEGIN:VEVENT
DTSTART;TZID=UTC:20230406T160000
DTEND;TZID=UTC:20230406T163000
DTSTAMP:20260424T211507
CREATED:20210823T004049Z
LAST-MODIFIED:20230622T233606Z
UID:10000070-1680796800-1680798600@dsacnj.org
SUMMARY:Virtual Yoga
DESCRIPTION:Learn several different poses that will keep your body healthy and active. REGISTER & CLICK HERE FOR VITURAL YOGA This link will register you for all the sessions of this season – no commitment required. Drop in and regular attendance welcome. After registering\, you will receive a confirmation email containing information about joining the meeting.     \n\n\n\n\n\n\n\n\n\n 
URL:https://dsacnj.org/event/yoga/2023-04-06/
LOCATION:Virtual Zoom
CATEGORIES:Adults 18+,Children,ENRICHMENT,Fitness/dance/sports,Online virtual events,Teens
END:VEVENT
BEGIN:VEVENT
DTSTART;TZID=UTC:20230330T160000
DTEND;TZID=UTC:20230330T163000
DTSTAMP:20260424T211507
CREATED:20210823T004049Z
LAST-MODIFIED:20230622T233606Z
UID:10000069-1680192000-1680193800@dsacnj.org
SUMMARY:Virtual Yoga
DESCRIPTION:Learn several different poses that will keep your body healthy and active. REGISTER & CLICK HERE FOR VITURAL YOGA This link will register you for all the sessions of this season – no commitment required. Drop in and regular attendance welcome. After registering\, you will receive a confirmation email containing information about joining the meeting.     \n\n\n\n\n\n\n\n\n\n 
URL:https://dsacnj.org/event/yoga/2023-03-30/
LOCATION:Virtual Zoom
CATEGORIES:Adults 18+,Children,ENRICHMENT,Fitness/dance/sports,Online virtual events,Teens
END:VEVENT
BEGIN:VEVENT
DTSTART;TZID=UTC:20230323T160000
DTEND;TZID=UTC:20230323T163000
DTSTAMP:20260424T211507
CREATED:20210823T004049Z
LAST-MODIFIED:20230622T233606Z
UID:10000068-1679587200-1679589000@dsacnj.org
SUMMARY:Virtual Yoga
DESCRIPTION:Learn several different poses that will keep your body healthy and active. REGISTER & CLICK HERE FOR VITURAL YOGA This link will register you for all the sessions of this season – no commitment required. Drop in and regular attendance welcome. After registering\, you will receive a confirmation email containing information about joining the meeting.     \n\n\n\n\n\n\n\n\n\n 
URL:https://dsacnj.org/event/yoga/2023-03-23/
LOCATION:Virtual Zoom
CATEGORIES:Adults 18+,Children,ENRICHMENT,Fitness/dance/sports,Online virtual events,Teens
END:VEVENT
BEGIN:VEVENT
DTSTART;TZID=UTC:20230309T160000
DTEND;TZID=UTC:20230309T163000
DTSTAMP:20260424T211507
CREATED:20210823T004049Z
LAST-MODIFIED:20230622T233606Z
UID:10000067-1678377600-1678379400@dsacnj.org
SUMMARY:Virtual Yoga
DESCRIPTION:Learn several different poses that will keep your body healthy and active. REGISTER & CLICK HERE FOR VITURAL YOGA This link will register you for all the sessions of this season – no commitment required. Drop in and regular attendance welcome. After registering\, you will receive a confirmation email containing information about joining the meeting.     \n\n\n\n\n\n\n\n\n\n 
URL:https://dsacnj.org/event/yoga/2023-03-09/
LOCATION:Virtual Zoom
CATEGORIES:Adults 18+,Children,ENRICHMENT,Fitness/dance/sports,Online virtual events,Teens
END:VEVENT
BEGIN:VEVENT
DTSTART;TZID=UTC:20230302T160000
DTEND;TZID=UTC:20230302T163000
DTSTAMP:20260424T211507
CREATED:20210823T004049Z
LAST-MODIFIED:20230622T233606Z
UID:10000066-1677772800-1677774600@dsacnj.org
SUMMARY:Virtual Yoga
DESCRIPTION:Learn several different poses that will keep your body healthy and active. REGISTER & CLICK HERE FOR VITURAL YOGA This link will register you for all the sessions of this season – no commitment required. Drop in and regular attendance welcome. After registering\, you will receive a confirmation email containing information about joining the meeting.     \n\n\n\n\n\n\n\n\n\n 
URL:https://dsacnj.org/event/yoga/2023-03-02/
LOCATION:Virtual Zoom
CATEGORIES:Adults 18+,Children,ENRICHMENT,Fitness/dance/sports,Online virtual events,Teens
END:VEVENT
BEGIN:VEVENT
DTSTART;TZID=UTC:20230223T160000
DTEND;TZID=UTC:20230223T163000
DTSTAMP:20260424T211507
CREATED:20210823T004049Z
LAST-MODIFIED:20230622T233606Z
UID:10000065-1677168000-1677169800@dsacnj.org
SUMMARY:Virtual Yoga
DESCRIPTION:Learn several different poses that will keep your body healthy and active. REGISTER & CLICK HERE FOR VITURAL YOGA This link will register you for all the sessions of this season – no commitment required. Drop in and regular attendance welcome. After registering\, you will receive a confirmation email containing information about joining the meeting.     \n\n\n\n\n\n\n\n\n\n 
URL:https://dsacnj.org/event/yoga/2023-02-23/
LOCATION:Virtual Zoom
CATEGORIES:Adults 18+,Children,ENRICHMENT,Fitness/dance/sports,Online virtual events,Teens
END:VEVENT
BEGIN:VEVENT
DTSTART;TZID=UTC:20230216T160000
DTEND;TZID=UTC:20230216T163000
DTSTAMP:20260424T211507
CREATED:20210823T004049Z
LAST-MODIFIED:20230622T233606Z
UID:10000064-1676563200-1676565000@dsacnj.org
SUMMARY:Virtual Yoga
DESCRIPTION:Learn several different poses that will keep your body healthy and active. REGISTER & CLICK HERE FOR VITURAL YOGA This link will register you for all the sessions of this season – no commitment required. Drop in and regular attendance welcome. After registering\, you will receive a confirmation email containing information about joining the meeting.     \n\n\n\n\n\n\n\n\n\n 
URL:https://dsacnj.org/event/yoga/2023-02-16/
LOCATION:Virtual Zoom
CATEGORIES:Adults 18+,Children,ENRICHMENT,Fitness/dance/sports,Online virtual events,Teens
END:VEVENT
BEGIN:VEVENT
DTSTART;TZID=UTC:20230209T160000
DTEND;TZID=UTC:20230209T163000
DTSTAMP:20260424T211507
CREATED:20210823T004049Z
LAST-MODIFIED:20230622T233606Z
UID:10000063-1675958400-1675960200@dsacnj.org
SUMMARY:Virtual Yoga
DESCRIPTION:Learn several different poses that will keep your body healthy and active. REGISTER & CLICK HERE FOR VITURAL YOGA This link will register you for all the sessions of this season – no commitment required. Drop in and regular attendance welcome. After registering\, you will receive a confirmation email containing information about joining the meeting.     \n\n\n\n\n\n\n\n\n\n 
URL:https://dsacnj.org/event/yoga/2023-02-09/
LOCATION:Virtual Zoom
CATEGORIES:Adults 18+,Children,ENRICHMENT,Fitness/dance/sports,Online virtual events,Teens
END:VEVENT
BEGIN:VEVENT
DTSTART;TZID=UTC:20230202T160000
DTEND;TZID=UTC:20230202T163000
DTSTAMP:20260424T211507
CREATED:20210823T004049Z
LAST-MODIFIED:20230622T233606Z
UID:10000062-1675353600-1675355400@dsacnj.org
SUMMARY:Virtual Yoga
DESCRIPTION:Learn several different poses that will keep your body healthy and active. REGISTER & CLICK HERE FOR VITURAL YOGA This link will register you for all the sessions of this season – no commitment required. Drop in and regular attendance welcome. After registering\, you will receive a confirmation email containing information about joining the meeting.     \n\n\n\n\n\n\n\n\n\n 
URL:https://dsacnj.org/event/yoga/2023-02-02/
LOCATION:Virtual Zoom
CATEGORIES:Adults 18+,Children,ENRICHMENT,Fitness/dance/sports,Online virtual events,Teens
END:VEVENT
BEGIN:VEVENT
DTSTART;TZID=UTC:20230126T160000
DTEND;TZID=UTC:20230126T163000
DTSTAMP:20260424T211507
CREATED:20210823T004049Z
LAST-MODIFIED:20230622T233606Z
UID:10000061-1674748800-1674750600@dsacnj.org
SUMMARY:Virtual Yoga
DESCRIPTION:Learn several different poses that will keep your body healthy and active. REGISTER & CLICK HERE FOR VITURAL YOGA This link will register you for all the sessions of this season – no commitment required. Drop in and regular attendance welcome. After registering\, you will receive a confirmation email containing information about joining the meeting.     \n\n\n\n\n\n\n\n\n\n 
URL:https://dsacnj.org/event/yoga/2023-01-26/
LOCATION:Virtual Zoom
CATEGORIES:Adults 18+,Children,ENRICHMENT,Fitness/dance/sports,Online virtual events,Teens
END:VEVENT
BEGIN:VEVENT
DTSTART;TZID=UTC:20230119T160000
DTEND;TZID=UTC:20230119T163000
DTSTAMP:20260424T211507
CREATED:20210823T004049Z
LAST-MODIFIED:20230622T233606Z
UID:10000060-1674144000-1674145800@dsacnj.org
SUMMARY:Virtual Yoga
DESCRIPTION:Learn several different poses that will keep your body healthy and active. REGISTER & CLICK HERE FOR VITURAL YOGA This link will register you for all the sessions of this season – no commitment required. Drop in and regular attendance welcome. After registering\, you will receive a confirmation email containing information about joining the meeting.     \n\n\n\n\n\n\n\n\n\n 
URL:https://dsacnj.org/event/yoga/2023-01-19/
LOCATION:Virtual Zoom
CATEGORIES:Adults 18+,Children,ENRICHMENT,Fitness/dance/sports,Online virtual events,Teens
END:VEVENT
BEGIN:VEVENT
DTSTART;TZID=UTC:20230112T160000
DTEND;TZID=UTC:20230112T163000
DTSTAMP:20260424T211507
CREATED:20210823T004049Z
LAST-MODIFIED:20230622T233606Z
UID:10000059-1673539200-1673541000@dsacnj.org
SUMMARY:Virtual Yoga
DESCRIPTION:Learn several different poses that will keep your body healthy and active. REGISTER & CLICK HERE FOR VITURAL YOGA This link will register you for all the sessions of this season – no commitment required. Drop in and regular attendance welcome. After registering\, you will receive a confirmation email containing information about joining the meeting.     \n\n\n\n\n\n\n\n\n\n 
URL:https://dsacnj.org/event/yoga/2023-01-12/
LOCATION:Virtual Zoom
CATEGORIES:Adults 18+,Children,ENRICHMENT,Fitness/dance/sports,Online virtual events,Teens
END:VEVENT
BEGIN:VEVENT
DTSTART;TZID=UTC:20230105T160000
DTEND;TZID=UTC:20230105T163000
DTSTAMP:20260424T211507
CREATED:20210823T004049Z
LAST-MODIFIED:20230622T233606Z
UID:10000058-1672934400-1672936200@dsacnj.org
SUMMARY:Virtual Yoga
DESCRIPTION:Learn several different poses that will keep your body healthy and active. REGISTER & CLICK HERE FOR VITURAL YOGA This link will register you for all the sessions of this season – no commitment required. Drop in and regular attendance welcome. After registering\, you will receive a confirmation email containing information about joining the meeting.     \n\n\n\n\n\n\n\n\n\n 
URL:https://dsacnj.org/event/yoga/2023-01-05/
LOCATION:Virtual Zoom
CATEGORIES:Adults 18+,Children,ENRICHMENT,Fitness/dance/sports,Online virtual events,Teens
END:VEVENT
BEGIN:VEVENT
DTSTART;TZID=UTC:20221229T160000
DTEND;TZID=UTC:20221229T163000
DTSTAMP:20260424T211507
CREATED:20210823T004049Z
LAST-MODIFIED:20230622T233606Z
UID:10000057-1672329600-1672331400@dsacnj.org
SUMMARY:Virtual Yoga
DESCRIPTION:Learn several different poses that will keep your body healthy and active. REGISTER & CLICK HERE FOR VITURAL YOGA This link will register you for all the sessions of this season – no commitment required. Drop in and regular attendance welcome. After registering\, you will receive a confirmation email containing information about joining the meeting.     \n\n\n\n\n\n\n\n\n\n 
URL:https://dsacnj.org/event/yoga/2022-12-29/
LOCATION:Virtual Zoom
CATEGORIES:Adults 18+,Children,ENRICHMENT,Fitness/dance/sports,Online virtual events,Teens
END:VEVENT
BEGIN:VEVENT
DTSTART;TZID=UTC:20221222T160000
DTEND;TZID=UTC:20221222T163000
DTSTAMP:20260424T211507
CREATED:20210823T004049Z
LAST-MODIFIED:20230622T233606Z
UID:10000056-1671724800-1671726600@dsacnj.org
SUMMARY:Virtual Yoga
DESCRIPTION:Learn several different poses that will keep your body healthy and active. REGISTER & CLICK HERE FOR VITURAL YOGA This link will register you for all the sessions of this season – no commitment required. Drop in and regular attendance welcome. After registering\, you will receive a confirmation email containing information about joining the meeting.     \n\n\n\n\n\n\n\n\n\n 
URL:https://dsacnj.org/event/yoga/2022-12-22/
LOCATION:Virtual Zoom
CATEGORIES:Adults 18+,Children,ENRICHMENT,Fitness/dance/sports,Online virtual events,Teens
END:VEVENT
BEGIN:VEVENT
DTSTART;TZID=UTC:20221215T160000
DTEND;TZID=UTC:20221215T163000
DTSTAMP:20260424T211507
CREATED:20210823T004049Z
LAST-MODIFIED:20230622T233606Z
UID:10000055-1671120000-1671121800@dsacnj.org
SUMMARY:Virtual Yoga
DESCRIPTION:Learn several different poses that will keep your body healthy and active. REGISTER & CLICK HERE FOR VITURAL YOGA This link will register you for all the sessions of this season – no commitment required. Drop in and regular attendance welcome. After registering\, you will receive a confirmation email containing information about joining the meeting.     \n\n\n\n\n\n\n\n\n\n 
URL:https://dsacnj.org/event/yoga/2022-12-15/
LOCATION:Virtual Zoom
CATEGORIES:Adults 18+,Children,ENRICHMENT,Fitness/dance/sports,Online virtual events,Teens
END:VEVENT
BEGIN:VEVENT
DTSTART;TZID=UTC:20221208T160000
DTEND;TZID=UTC:20221208T163000
DTSTAMP:20260424T211507
CREATED:20210823T004049Z
LAST-MODIFIED:20230622T233606Z
UID:10000054-1670515200-1670517000@dsacnj.org
SUMMARY:Virtual Yoga
DESCRIPTION:Learn several different poses that will keep your body healthy and active. REGISTER & CLICK HERE FOR VITURAL YOGA This link will register you for all the sessions of this season – no commitment required. Drop in and regular attendance welcome. After registering\, you will receive a confirmation email containing information about joining the meeting.     \n\n\n\n\n\n\n\n\n\n 
URL:https://dsacnj.org/event/yoga/2022-12-08/
LOCATION:Virtual Zoom
CATEGORIES:Adults 18+,Children,ENRICHMENT,Fitness/dance/sports,Online virtual events,Teens
END:VEVENT
BEGIN:VEVENT
DTSTART;TZID=UTC:20221201T160000
DTEND;TZID=UTC:20221201T163000
DTSTAMP:20260424T211507
CREATED:20210823T004049Z
LAST-MODIFIED:20230622T233606Z
UID:10000053-1669910400-1669912200@dsacnj.org
SUMMARY:Virtual Yoga
DESCRIPTION:Learn several different poses that will keep your body healthy and active. REGISTER & CLICK HERE FOR VITURAL YOGA This link will register you for all the sessions of this season – no commitment required. Drop in and regular attendance welcome. After registering\, you will receive a confirmation email containing information about joining the meeting.     \n\n\n\n\n\n\n\n\n\n 
URL:https://dsacnj.org/event/yoga/2022-12-01/
LOCATION:Virtual Zoom
CATEGORIES:Adults 18+,Children,ENRICHMENT,Fitness/dance/sports,Online virtual events,Teens
END:VEVENT
END:VCALENDAR